BEGIN:VCALENDAR
VERSION:2.0
PRODID:-//Emmanuel Congregational Church - ECPv6.2.3//NONSGML v1.0//EN
CALSCALE:GREGORIAN
METHOD:PUBLISH
X-ORIGINAL-URL:https://eccridgetown.ca
X-WR-CALDESC:Events for Emmanuel Congregational Church
REFRESH-INTERVAL;VALUE=DURATION:PT1H
X-Robots-Tag:noindex
X-PUBLISHED-TTL:PT1H
BEGIN:VTIMEZONE
TZID:America/Toronto
BEGIN:DAYLIGHT
TZOFFSETFROM:-0500
TZOFFSETTO:-0400
TZNAME:EDT
DTSTART:20260308T070000
END:DAYLIGHT
BEGIN:STANDARD
TZOFFSETFROM:-0400
TZOFFSETTO:-0500
TZNAME:EST
DTSTART:20261101T060000
END:STANDARD
END:VTIMEZONE
BEGIN:VEVENT
DTSTART;TZID=America/Toronto:20261101T090000
DTEND;TZID=America/Toronto:20261101T103000
DTSTAMP:20260420T161543
CREATED:20240430T215324Z
LAST-MODIFIED:20260125T142754Z
UID:10001907-1793523600-1793529000@eccridgetown.ca
SUMMARY:ECC Worship Singers Practice
DESCRIPTION:Anyone ages 10 or older who would like to sing or play a musical instrument come and join us!
URL:https://eccridgetown.ca/event/ecc-worship-singers-practice/2026-11-01/
END:VEVENT
BEGIN:VEVENT
DTSTART;TZID=America/Toronto:20261101T094500
DTEND;TZID=America/Toronto:20261101T101500
DTSTAMP:20260420T161543
CREATED:20231006T233639Z
LAST-MODIFIED:20260125T143033Z
UID:10001595-1793526300-1793528100@eccridgetown.ca
SUMMARY:Pre-service Coffee
DESCRIPTION:Join us Sunday morning before Service at 9:45 – 10:15am
URL:https://eccridgetown.ca/event/pre-service-coffee-fellowship/2026-11-01/
END:VEVENT
BEGIN:VEVENT
DTSTART;TZID=America/Toronto:20261101T103000
DTEND;TZID=America/Toronto:20261101T120000
DTSTAMP:20260420T161543
CREATED:20250522T160845Z
LAST-MODIFIED:20250902T215059Z
UID:10003202-1793529000-1793534400@eccridgetown.ca
SUMMARY:Food Bank Collection
DESCRIPTION:Please bring your donations the first Sunday of every month for our local Food Bank at the Salvation Army.  \nEven though the Thrift Store location has closed\, Food Bank services in Ridgetown will continue.
URL:https://eccridgetown.ca/event/food-bank-collection-2/2026-11-01/
END:VEVENT
BEGIN:VEVENT
DTSTART;TZID=America/Toronto:20261101T103000
DTEND;TZID=America/Toronto:20261101T120000
DTSTAMP:20260420T161543
CREATED:20251029T213214Z
LAST-MODIFIED:20260125T143221Z
UID:10002843-1793529000-1793534400@eccridgetown.ca
SUMMARY:Sunday Morning Worship
DESCRIPTION:Everyone welcome!
URL:https://eccridgetown.ca/event/sunday-morning-service-2-5-2/2026-11-01/
END:VEVENT
END:VCALENDAR