BEGIN:VCALENDAR
VERSION:2.0
PRODID:-//Emmanuel Congregational Church - ECPv6.2.3//NONSGML v1.0//EN
CALSCALE:GREGORIAN
METHOD:PUBLISH
X-WR-CALNAME:Emmanuel Congregational Church
X-ORIGINAL-URL:https://eccridgetown.ca
X-WR-CALDESC:Events for Emmanuel Congregational Church
REFRESH-INTERVAL;VALUE=DURATION:PT1H
X-Robots-Tag:noindex
X-PUBLISHED-TTL:PT1H
BEGIN:VTIMEZONE
TZID:America/Toronto
BEGIN:DAYLIGHT
TZOFFSETFROM:-0500
TZOFFSETTO:-0400
TZNAME:EDT
DTSTART:20260308T070000
END:DAYLIGHT
BEGIN:STANDARD
TZOFFSETFROM:-0400
TZOFFSETTO:-0500
TZNAME:EST
DTSTART:20261101T060000
END:STANDARD
END:VTIMEZONE
BEGIN:VEVENT
DTSTART;TZID=America/Toronto:20260920T090000
DTEND;TZID=America/Toronto:20260920T103000
DTSTAMP:20260420T144122
CREATED:20240430T215324Z
LAST-MODIFIED:20260125T142754Z
UID:10001901-1789894800-1789900200@eccridgetown.ca
SUMMARY:ECC Worship Singers Practice
DESCRIPTION:Anyone ages 10 or older who would like to sing or play a musical instrument come and join us!
URL:https://eccridgetown.ca/event/ecc-worship-singers-practice/2026-09-20/
END:VEVENT
BEGIN:VEVENT
DTSTART;TZID=America/Toronto:20260920T094500
DTEND;TZID=America/Toronto:20260920T101500
DTSTAMP:20260420T144122
CREATED:20231006T233639Z
LAST-MODIFIED:20260125T143033Z
UID:10001589-1789897500-1789899300@eccridgetown.ca
SUMMARY:Pre-service Coffee
DESCRIPTION:Join us Sunday morning before Service at 9:45 – 10:15am
URL:https://eccridgetown.ca/event/pre-service-coffee-fellowship/2026-09-20/
END:VEVENT
BEGIN:VEVENT
DTSTART;TZID=America/Toronto:20260920T103000
DTEND;TZID=America/Toronto:20260920T120000
DTSTAMP:20260420T144122
CREATED:20251029T213214Z
LAST-MODIFIED:20260125T143221Z
UID:10002837-1789900200-1789905600@eccridgetown.ca
SUMMARY:Sunday Morning Worship
DESCRIPTION:Everyone welcome!
URL:https://eccridgetown.ca/event/sunday-morning-service-2-5-2/2026-09-20/
END:VEVENT
BEGIN:VEVENT
DTSTART;TZID=America/Toronto:20260923T133000
DTEND;TZID=America/Toronto:20260923T150000
DTSTAMP:20260420T144122
CREATED:20260226T220327Z
LAST-MODIFIED:20260226T220328Z
UID:10002507-1790170200-1790175600@eccridgetown.ca
SUMMARY:Ladies Group
DESCRIPTION:All ladies of any age are welcome to join us for a great time of fellowship\, prayer\, devotion and planning is shared by all over a cup of coffee/tea.\nOur meetings are (usually) held the last Wednesday of the month\, from 1:30 till 3pm. (with the exception of July\, August and December)  \nThe ladies group hosts special events on behalf of the congregation\, and also for those out in the community. We provide lunches for funerals\, wedding receptions\, and any other special events that are requested. We also make donations to both local and international missions. In order to make these donations\, we host fundraising events such as bake sales.
URL:https://eccridgetown.ca/event/ladies-meeting-3-3-2-3/2026-09-23/
END:VEVENT
END:VCALENDAR