BEGIN:VCALENDAR
VERSION:2.0
PRODID:-//Emmanuel Congregational Church - ECPv6.2.3//NONSGML v1.0//EN
CALSCALE:GREGORIAN
METHOD:PUBLISH
X-WR-CALNAME:Emmanuel Congregational Church
X-ORIGINAL-URL:https://eccridgetown.ca
X-WR-CALDESC:Events for Emmanuel Congregational Church
REFRESH-INTERVAL;VALUE=DURATION:PT1H
X-Robots-Tag:noindex
X-PUBLISHED-TTL:PT1H
BEGIN:VTIMEZONE
TZID:America/Toronto
BEGIN:DAYLIGHT
TZOFFSETFROM:-0500
TZOFFSETTO:-0400
TZNAME:EDT
DTSTART:20260308T070000
END:DAYLIGHT
BEGIN:STANDARD
TZOFFSETFROM:-0400
TZOFFSETTO:-0500
TZNAME:EST
DTSTART:20261101T060000
END:STANDARD
END:VTIMEZONE
BEGIN:VEVENT
DTSTART;TZID=America/Toronto:20260614T090000
DTEND;TZID=America/Toronto:20260614T103000
DTSTAMP:20260420T092901
CREATED:20240430T215324Z
LAST-MODIFIED:20260125T142754Z
UID:10001887-1781427600-1781433000@eccridgetown.ca
SUMMARY:ECC Worship Singers Practice
DESCRIPTION:Anyone ages 10 or older who would like to sing or play a musical instrument come and join us!
URL:https://eccridgetown.ca/event/ecc-worship-singers-practice/2026-06-14/
END:VEVENT
BEGIN:VEVENT
DTSTART;TZID=America/Toronto:20260614T094500
DTEND;TZID=America/Toronto:20260614T101500
DTSTAMP:20260420T092901
CREATED:20231006T233639Z
LAST-MODIFIED:20260125T143033Z
UID:10001575-1781430300-1781432100@eccridgetown.ca
SUMMARY:Pre-service Coffee
DESCRIPTION:Join us Sunday morning before Service at 9:45 – 10:15am
URL:https://eccridgetown.ca/event/pre-service-coffee-fellowship/2026-06-14/
END:VEVENT
BEGIN:VEVENT
DTSTART;TZID=America/Toronto:20260614T103000
DTEND;TZID=America/Toronto:20260614T120000
DTSTAMP:20260420T092901
CREATED:20251029T213214Z
LAST-MODIFIED:20260125T143221Z
UID:10002823-1781433000-1781438400@eccridgetown.ca
SUMMARY:Sunday Morning Worship
DESCRIPTION:Everyone welcome!
URL:https://eccridgetown.ca/event/sunday-morning-service-2-5-2/2026-06-14/
END:VEVENT
BEGIN:VEVENT
DTSTART;TZID=America/Toronto:20260619T190000
DTEND;TZID=America/Toronto:20260619T210000
DTSTAMP:20260420T092901
CREATED:20260117T172700Z
LAST-MODIFIED:20260117T172933Z
UID:10003962-1781895600-1781902800@eccridgetown.ca
SUMMARY:Lion Heart Youth
DESCRIPTION:Every Friday\, Lion Heart Youth gathers for an engaging\, exciting\, and uplifting experience. Our program is open to students in grade 7-12. \nEach week\, our evenings are filled with exciting activities\, insightful discussions\, and meaningful connections. \nEach night includes games\, devotions\, worship\, fun\, and fellowship. \nCheck out our home page for more details!
URL:https://eccridgetown.ca/event/lion-heart-youth-13/2026-06-19/
ATTACH;FMTTYPE=image/jpeg:https://eccridgetown.ca/wp-content/uploads/2026/01/2026-LHY-Jan-June-schedule.jpg
END:VEVENT
END:VCALENDAR