BEGIN:VCALENDAR
VERSION:2.0
PRODID:-//Emmanuel Congregational Church - ECPv6.2.3//NONSGML v1.0//EN
CALSCALE:GREGORIAN
METHOD:PUBLISH
X-ORIGINAL-URL:https://eccridgetown.ca
X-WR-CALDESC:Events for Emmanuel Congregational Church
REFRESH-INTERVAL;VALUE=DURATION:PT1H
X-Robots-Tag:noindex
X-PUBLISHED-TTL:PT1H
BEGIN:VTIMEZONE
TZID:America/Toronto
BEGIN:DAYLIGHT
TZOFFSETFROM:-0500
TZOFFSETTO:-0400
TZNAME:EDT
DTSTART:20260308T070000
END:DAYLIGHT
BEGIN:STANDARD
TZOFFSETFROM:-0400
TZOFFSETTO:-0500
TZNAME:EST
DTSTART:20261101T060000
END:STANDARD
END:VTIMEZONE
BEGIN:VEVENT
DTSTART;TZID=America/Toronto:20260329T090000
DTEND;TZID=America/Toronto:20260329T103000
DTSTAMP:20260420T064657
CREATED:20240430T215324Z
LAST-MODIFIED:20260125T142754Z
UID:10001876-1774774800-1774780200@eccridgetown.ca
SUMMARY:ECC Worship Singers Practice
DESCRIPTION:Anyone ages 10 or older who would like to sing or play a musical instrument come and join us!
URL:https://eccridgetown.ca/event/ecc-worship-singers-practice/2026-03-29/
END:VEVENT
BEGIN:VEVENT
DTSTART;TZID=America/Toronto:20260329T094500
DTEND;TZID=America/Toronto:20260329T101500
DTSTAMP:20260420T064657
CREATED:20231006T233639Z
LAST-MODIFIED:20260125T143033Z
UID:10001564-1774777500-1774779300@eccridgetown.ca
SUMMARY:Pre-service Coffee
DESCRIPTION:Join us Sunday morning before Service at 9:45 – 10:15am
URL:https://eccridgetown.ca/event/pre-service-coffee-fellowship/2026-03-29/
END:VEVENT
BEGIN:VEVENT
DTSTART;TZID=America/Toronto:20260329T103000
DTEND;TZID=America/Toronto:20260329T120000
DTSTAMP:20260420T064657
CREATED:20260226T214033Z
LAST-MODIFIED:20260226T214053Z
UID:10002812-1774780200-1774785600@eccridgetown.ca
SUMMARY:Palm Sunday Morning Worship
DESCRIPTION:Everyone welcome!
URL:https://eccridgetown.ca/event/sunday-morning-service-2-5-2-5/
END:VEVENT
BEGIN:VEVENT
DTSTART;TZID=America/Toronto:20260331T190000
DTEND;TZID=America/Toronto:20260331T200000
DTSTAMP:20260420T064657
CREATED:20251130T225919Z
LAST-MODIFIED:20260112T171354Z
UID:10003891-1774983600-1774987200@eccridgetown.ca
SUMMARY:Bible Study
DESCRIPTION:Meet weekly in the sanctuary for a Bible Study led by Pastor John.
URL:https://eccridgetown.ca/event/bible-study-5/2026-03-31/
END:VEVENT
BEGIN:VEVENT
DTSTART;TZID=America/Toronto:20260331T190000
DTEND;TZID=America/Toronto:20260331T210000
DTSTAMP:20260420T064657
CREATED:20251001T032244Z
LAST-MODIFIED:20251217T200135Z
UID:10003814-1774983600-1774990800@eccridgetown.ca
SUMMARY:Teen Bible Quizzing Night
DESCRIPTION:Something New for Teens in Our Community! 🌟\nStarting this September\, Lion Heart Youth (grades 7–12 at The Gathering Place & Emmanuel Congregational Church) is launching a brand-new program called Bible Quizzing — and it’s open to ALL teens in the community\, whether they’ve ever been to church or not.\nThis is an awesome opportunity for students to join a team\, have fun\, and build memorization and teamwork skills in a friendly\, positive environment.\nSo\, what is it?\n👉 A fun\, game-style competition with buzzers\, teams\, and lots of fun\n👉 A chance to build confidence\, sharpen memory skills\, and make great friends\n👉 A safe space where teens are encouraged\, supported\, and challenged \n• Weekly Quizzing Nights: Beginning Tuesday\, September 16\, 7–9 PM (running September–May)\nThis year\, we’ll be exploring 1 & 2 Corinthians together — but no prior knowledge is needed! We’ll learn in a way that’s fun and engaging. And to top it off… at the end of the year we’ll take a weekend trip to Muskoka Woods! 🎉\nIf you’re looking for something new for your teen — a place that’s safe\, encouraging\, and a little competitive 😉 — come check it out!\nBring your student (and their friends!) to our Intro Night on September 9 at ECC to see what it’s all about.
URL:https://eccridgetown.ca/event/teen-bible-quizzing-night/2026-03-31/
END:VEVENT
BEGIN:VEVENT
DTSTART;TZID=America/Toronto:20260402T180000
DTEND;TZID=America/Toronto:20260402T200000
DTSTAMP:20260420T064657
CREATED:20260226T214629Z
LAST-MODIFIED:20260226T214751Z
UID:10004014-1775152800-1775160000@eccridgetown.ca
SUMMARY:Maundy Thursday Seder Meal
DESCRIPTION:Everyone is welcome to join us for some music and to share in our Seder meal. \nSIGN UP is required!
URL:https://eccridgetown.ca/event/maundy-thursday-seder-meal/
END:VEVENT
BEGIN:VEVENT
DTSTART;TZID=America/Toronto:20260403T093000
DTEND;TZID=America/Toronto:20260403T103000
DTSTAMP:20260420T064657
CREATED:20260401T201106Z
LAST-MODIFIED:20260401T201106Z
UID:10004024-1775208600-1775212200@eccridgetown.ca
SUMMARY:Good Friday Cross Walk
DESCRIPTION:The Cross will be carried from The Gathering Place to Emmanuel. \nThe Cross Walk leaves at 9:30 a.m.\, but please ARRIVE BEFORE 9:30 a.m.!
URL:https://eccridgetown.ca/event/good-friday-cross-walk/
END:VEVENT
BEGIN:VEVENT
DTSTART;TZID=America/Toronto:20260403T103000
DTEND;TZID=America/Toronto:20260403T113000
DTSTAMP:20260420T064657
CREATED:20260226T215251Z
LAST-MODIFIED:20260226T215821Z
UID:10004015-1775212200-1775215800@eccridgetown.ca
SUMMARY:Good Friday Morning Service
DESCRIPTION:As has been tradition for many years\, the church families of Emmanuel & The Gathering Place will worship together on Good Friday morning.  \nIt is Emmanuel’s turn to host. \nEveryone welcome!
URL:https://eccridgetown.ca/event/good-friday-service-2/
END:VEVENT
END:VCALENDAR