BEGIN:VCALENDAR
VERSION:2.0
PRODID:-//Emmanuel Congregational Church - ECPv6.2.3//NONSGML v1.0//EN
CALSCALE:GREGORIAN
METHOD:PUBLISH
X-WR-CALNAME:Emmanuel Congregational Church
X-ORIGINAL-URL:https://eccridgetown.ca
X-WR-CALDESC:Events for Emmanuel Congregational Church
REFRESH-INTERVAL;VALUE=DURATION:PT1H
X-Robots-Tag:noindex
X-PUBLISHED-TTL:PT1H
BEGIN:VTIMEZONE
TZID:America/Toronto
BEGIN:DAYLIGHT
TZOFFSETFROM:-0500
TZOFFSETTO:-0400
TZNAME:EDT
DTSTART:20260308T070000
END:DAYLIGHT
BEGIN:STANDARD
TZOFFSETFROM:-0400
TZOFFSETTO:-0500
TZNAME:EST
DTSTART:20261101T060000
END:STANDARD
END:VTIMEZONE
BEGIN:VEVENT
DTSTART;TZID=America/Toronto:20260301T090000
DTEND;TZID=America/Toronto:20260301T103000
DTSTAMP:20260420T025757
CREATED:20240430T215324Z
LAST-MODIFIED:20260125T142754Z
UID:10001872-1772355600-1772361000@eccridgetown.ca
SUMMARY:ECC Worship Singers Practice
DESCRIPTION:Anyone ages 10 or older who would like to sing or play a musical instrument come and join us!
URL:https://eccridgetown.ca/event/ecc-worship-singers-practice/2026-03-01/
END:VEVENT
BEGIN:VEVENT
DTSTART;TZID=America/Toronto:20260301T094500
DTEND;TZID=America/Toronto:20260301T101500
DTSTAMP:20260420T025757
CREATED:20231006T233639Z
LAST-MODIFIED:20260125T143033Z
UID:10001560-1772358300-1772360100@eccridgetown.ca
SUMMARY:Pre-service Coffee
DESCRIPTION:Join us Sunday morning before Service at 9:45 – 10:15am
URL:https://eccridgetown.ca/event/pre-service-coffee-fellowship/2026-03-01/
END:VEVENT
BEGIN:VEVENT
DTSTART;TZID=America/Toronto:20260301T103000
DTEND;TZID=America/Toronto:20260301T120000
DTSTAMP:20260420T025757
CREATED:20250522T160845Z
LAST-MODIFIED:20250902T215059Z
UID:10003194-1772361000-1772366400@eccridgetown.ca
SUMMARY:Food Bank Collection
DESCRIPTION:Please bring your donations the first Sunday of every month for our local Food Bank at the Salvation Army.  \nEven though the Thrift Store location has closed\, Food Bank services in Ridgetown will continue.
URL:https://eccridgetown.ca/event/food-bank-collection-2/2026-03-01/
END:VEVENT
BEGIN:VEVENT
DTSTART;TZID=America/Toronto:20260301T103000
DTEND;TZID=America/Toronto:20260301T120000
DTSTAMP:20260420T025757
CREATED:20251029T213214Z
LAST-MODIFIED:20260125T143221Z
UID:10002808-1772361000-1772366400@eccridgetown.ca
SUMMARY:Sunday Morning Worship
DESCRIPTION:Everyone welcome!
URL:https://eccridgetown.ca/event/sunday-morning-service-2-5-2/2026-03-01/
END:VEVENT
BEGIN:VEVENT
DTSTART;TZID=America/Toronto:20260303T190000
DTEND;TZID=America/Toronto:20260303T200000
DTSTAMP:20260420T025757
CREATED:20251130T225919Z
LAST-MODIFIED:20260112T171354Z
UID:10003887-1772564400-1772568000@eccridgetown.ca
SUMMARY:Bible Study
DESCRIPTION:Meet weekly in the sanctuary for a Bible Study led by Pastor John.
URL:https://eccridgetown.ca/event/bible-study-5/2026-03-03/
END:VEVENT
BEGIN:VEVENT
DTSTART;TZID=America/Toronto:20260303T190000
DTEND;TZID=America/Toronto:20260303T210000
DTSTAMP:20260420T025757
CREATED:20251001T032244Z
LAST-MODIFIED:20251217T200135Z
UID:10003810-1772564400-1772571600@eccridgetown.ca
SUMMARY:Teen Bible Quizzing Night
DESCRIPTION:Something New for Teens in Our Community! 🌟\nStarting this September\, Lion Heart Youth (grades 7–12 at The Gathering Place & Emmanuel Congregational Church) is launching a brand-new program called Bible Quizzing — and it’s open to ALL teens in the community\, whether they’ve ever been to church or not.\nThis is an awesome opportunity for students to join a team\, have fun\, and build memorization and teamwork skills in a friendly\, positive environment.\nSo\, what is it?\n👉 A fun\, game-style competition with buzzers\, teams\, and lots of fun\n👉 A chance to build confidence\, sharpen memory skills\, and make great friends\n👉 A safe space where teens are encouraged\, supported\, and challenged \n• Weekly Quizzing Nights: Beginning Tuesday\, September 16\, 7–9 PM (running September–May)\nThis year\, we’ll be exploring 1 & 2 Corinthians together — but no prior knowledge is needed! We’ll learn in a way that’s fun and engaging. And to top it off… at the end of the year we’ll take a weekend trip to Muskoka Woods! 🎉\nIf you’re looking for something new for your teen — a place that’s safe\, encouraging\, and a little competitive 😉 — come check it out!\nBring your student (and their friends!) to our Intro Night on September 9 at ECC to see what it’s all about.
URL:https://eccridgetown.ca/event/teen-bible-quizzing-night/2026-03-03/
END:VEVENT
BEGIN:VEVENT
DTSTART;TZID=America/Toronto:20260305T183000
DTEND;TZID=America/Toronto:20260305T200000
DTSTAMP:20260420T025757
CREATED:20260226T214321Z
LAST-MODIFIED:20260401T202103Z
UID:10003783-1772735400-1772740800@eccridgetown.ca
SUMMARY:Women’s Bible Study on EPHESIANS.(temporarily paused)
DESCRIPTION:It will be on Thursday nights beginning Oct. 2nd from 6:30pm – 8:00pm and it will be every other week.  \nCost is $18.65 due on/before Sept. 28th to order books. \nEphesians\nHow can we live more authentic lives?\nChristian community can be difficult to navigate.\nWe are called to live in unity with other Christians\, but that is sometimes easier said than done. Paul’s letter to the Ephesians addresses hypocrisy\, unity\, and other key issues the church still struggles with today. Dig deep into Ephesians and discover the practical insight intended to help you live and worship in harmony with your fellow believers.\nIn this Bible study you will find:\n• 14 lessons to lead you through the book of Ephesians
URL:https://eccridgetown.ca/event/womens-bible-study-on-ephesians-2/2026-03-05/
END:VEVENT
BEGIN:VEVENT
DTSTART;TZID=America/Toronto:20260306T190000
DTEND;TZID=America/Toronto:20260306T210000
DTSTAMP:20260420T025757
CREATED:20260117T172700Z
LAST-MODIFIED:20260117T172933Z
UID:10003949-1772823600-1772830800@eccridgetown.ca
SUMMARY:Lion Heart Youth
DESCRIPTION:Every Friday\, Lion Heart Youth gathers for an engaging\, exciting\, and uplifting experience. Our program is open to students in grade 7-12. \nEach week\, our evenings are filled with exciting activities\, insightful discussions\, and meaningful connections. \nEach night includes games\, devotions\, worship\, fun\, and fellowship. \nCheck out our home page for more details!
URL:https://eccridgetown.ca/event/lion-heart-youth-13/2026-03-06/
ATTACH;FMTTYPE=image/jpeg:https://eccridgetown.ca/wp-content/uploads/2026/01/2026-LHY-Jan-June-schedule.jpg
END:VEVENT
BEGIN:VEVENT
DTSTART;TZID=America/Toronto:20260307T080000
DTEND;TZID=America/Toronto:20260307T090000
DTSTAMP:20260420T025757
CREATED:20251229T212406Z
LAST-MODIFIED:20251229T212406Z
UID:10003928-1772870400-1772874000@eccridgetown.ca
SUMMARY:Men's Bi-weekly Breakfast
DESCRIPTION:Starting Jan. 10\, 2026 until the end of March. The men from Emmanuel and The Gathering Place will meet at Sam’s Restaurant for breakfast at 8am.
URL:https://eccridgetown.ca/event/mens-bi-weekly-breakfast-3/2026-03-07/
END:VEVENT
END:VCALENDAR