BEGIN:VCALENDAR
VERSION:2.0
PRODID:-//Emmanuel Congregational Church - ECPv6.2.3//NONSGML v1.0//EN
CALSCALE:GREGORIAN
METHOD:PUBLISH
X-ORIGINAL-URL:https://eccridgetown.ca
X-WR-CALDESC:Events for Emmanuel Congregational Church
REFRESH-INTERVAL;VALUE=DURATION:PT1H
X-Robots-Tag:noindex
X-PUBLISHED-TTL:PT1H
BEGIN:VTIMEZONE
TZID:America/Toronto
BEGIN:DAYLIGHT
TZOFFSETFROM:-0500
TZOFFSETTO:-0400
TZNAME:EDT
DTSTART:20260308T070000
END:DAYLIGHT
BEGIN:STANDARD
TZOFFSETFROM:-0400
TZOFFSETTO:-0500
TZNAME:EST
DTSTART:20261101T060000
END:STANDARD
END:VTIMEZONE
BEGIN:VEVENT
DTSTART;TZID=America/Toronto:20260208T090000
DTEND;TZID=America/Toronto:20260208T103000
DTSTAMP:20260420T100745
CREATED:20240430T215324Z
LAST-MODIFIED:20260125T142754Z
UID:10001869-1770541200-1770546600@eccridgetown.ca
SUMMARY:ECC Worship Singers Practice
DESCRIPTION:Anyone ages 10 or older who would like to sing or play a musical instrument come and join us!
URL:https://eccridgetown.ca/event/ecc-worship-singers-practice/2026-02-08/
END:VEVENT
BEGIN:VEVENT
DTSTART;TZID=America/Toronto:20260208T094500
DTEND;TZID=America/Toronto:20260208T101500
DTSTAMP:20260420T100745
CREATED:20231006T233639Z
LAST-MODIFIED:20260125T143033Z
UID:10001557-1770543900-1770545700@eccridgetown.ca
SUMMARY:Pre-service Coffee
DESCRIPTION:Join us Sunday morning before Service at 9:45 – 10:15am
URL:https://eccridgetown.ca/event/pre-service-coffee-fellowship/2026-02-08/
END:VEVENT
BEGIN:VEVENT
DTSTART;TZID=America/Toronto:20260208T103000
DTEND;TZID=America/Toronto:20260208T120000
DTSTAMP:20260420T100745
CREATED:20251029T213214Z
LAST-MODIFIED:20260125T143221Z
UID:10002805-1770546600-1770552000@eccridgetown.ca
SUMMARY:Sunday Morning Worship
DESCRIPTION:Everyone welcome!
URL:https://eccridgetown.ca/event/sunday-morning-service-2-5-2/2026-02-08/
END:VEVENT
BEGIN:VEVENT
DTSTART;TZID=America/Toronto:20260208T114500
DTEND;TZID=America/Toronto:20260208T133000
DTSTAMP:20260420T100745
CREATED:20260203T164540Z
LAST-MODIFIED:20260203T164540Z
UID:10004008-1770551100-1770557400@eccridgetown.ca
SUMMARY:Annual Congregational Meeting
DESCRIPTION:Emmanuel’s Annual Congregational Meeting which was postponed due to weather on January 25\, 2026\, will be held immediately following today’s service.\nEveryone welcome!
URL:https://eccridgetown.ca/event/annual-congregational-meeting-4/
END:VEVENT
BEGIN:VEVENT
DTSTART;TZID=America/Toronto:20260210T190000
DTEND;TZID=America/Toronto:20260210T200000
DTSTAMP:20260420T100745
CREATED:20251130T225919Z
LAST-MODIFIED:20260112T171354Z
UID:10003884-1770750000-1770753600@eccridgetown.ca
SUMMARY:Bible Study
DESCRIPTION:Meet weekly in the sanctuary for a Bible Study led by Pastor John.
URL:https://eccridgetown.ca/event/bible-study-5/2026-02-10/
END:VEVENT
BEGIN:VEVENT
DTSTART;TZID=America/Toronto:20260210T190000
DTEND;TZID=America/Toronto:20260210T210000
DTSTAMP:20260420T100745
CREATED:20251001T032244Z
LAST-MODIFIED:20251217T200135Z
UID:10003807-1770750000-1770757200@eccridgetown.ca
SUMMARY:Teen Bible Quizzing Night
DESCRIPTION:Something New for Teens in Our Community! 🌟\nStarting this September\, Lion Heart Youth (grades 7–12 at The Gathering Place & Emmanuel Congregational Church) is launching a brand-new program called Bible Quizzing — and it’s open to ALL teens in the community\, whether they’ve ever been to church or not.\nThis is an awesome opportunity for students to join a team\, have fun\, and build memorization and teamwork skills in a friendly\, positive environment.\nSo\, what is it?\n👉 A fun\, game-style competition with buzzers\, teams\, and lots of fun\n👉 A chance to build confidence\, sharpen memory skills\, and make great friends\n👉 A safe space where teens are encouraged\, supported\, and challenged \n• Weekly Quizzing Nights: Beginning Tuesday\, September 16\, 7–9 PM (running September–May)\nThis year\, we’ll be exploring 1 & 2 Corinthians together — but no prior knowledge is needed! We’ll learn in a way that’s fun and engaging. And to top it off… at the end of the year we’ll take a weekend trip to Muskoka Woods! 🎉\nIf you’re looking for something new for your teen — a place that’s safe\, encouraging\, and a little competitive 😉 — come check it out!\nBring your student (and their friends!) to our Intro Night on September 9 at ECC to see what it’s all about.
URL:https://eccridgetown.ca/event/teen-bible-quizzing-night/2026-02-10/
END:VEVENT
BEGIN:VEVENT
DTSTART;TZID=America/Toronto:20260213T190000
DTEND;TZID=America/Toronto:20260213T210000
DTSTAMP:20260420T100745
CREATED:20260117T172700Z
LAST-MODIFIED:20260117T172933Z
UID:10003946-1771009200-1771016400@eccridgetown.ca
SUMMARY:Lion Heart Youth
DESCRIPTION:Every Friday\, Lion Heart Youth gathers for an engaging\, exciting\, and uplifting experience. Our program is open to students in grade 7-12. \nEach week\, our evenings are filled with exciting activities\, insightful discussions\, and meaningful connections. \nEach night includes games\, devotions\, worship\, fun\, and fellowship. \nCheck out our home page for more details!
URL:https://eccridgetown.ca/event/lion-heart-youth-13/2026-02-13/
ATTACH;FMTTYPE=image/jpeg:https://eccridgetown.ca/wp-content/uploads/2026/01/2026-LHY-Jan-June-schedule.jpg
END:VEVENT
END:VCALENDAR