BEGIN:VCALENDAR
VERSION:2.0
PRODID:-//Emmanuel Congregational Church - ECPv6.2.3//NONSGML v1.0//EN
CALSCALE:GREGORIAN
METHOD:PUBLISH
X-WR-CALNAME:Emmanuel Congregational Church
X-ORIGINAL-URL:https://eccridgetown.ca
X-WR-CALDESC:Events for Emmanuel Congregational Church
REFRESH-INTERVAL;VALUE=DURATION:PT1H
X-Robots-Tag:noindex
X-PUBLISHED-TTL:PT1H
BEGIN:VTIMEZONE
TZID:America/Toronto
BEGIN:DAYLIGHT
TZOFFSETFROM:-0500
TZOFFSETTO:-0400
TZNAME:EDT
DTSTART:20250309T070000
END:DAYLIGHT
BEGIN:STANDARD
TZOFFSETFROM:-0400
TZOFFSETTO:-0500
TZNAME:EST
DTSTART:20251102T060000
END:STANDARD
END:VTIMEZONE
BEGIN:VEVENT
DTSTART;TZID=America/Toronto:20251221T090000
DTEND;TZID=America/Toronto:20251221T103000
DTSTAMP:20260420T231140
CREATED:20240430T215324Z
LAST-MODIFIED:20260125T142754Z
UID:10001862-1766307600-1766313000@eccridgetown.ca
SUMMARY:ECC Worship Singers Practice
DESCRIPTION:Anyone ages 10 or older who would like to sing or play a musical instrument come and join us!
URL:https://eccridgetown.ca/event/ecc-worship-singers-practice/2025-12-21/
END:VEVENT
BEGIN:VEVENT
DTSTART;TZID=America/Toronto:20251221T094500
DTEND;TZID=America/Toronto:20251221T101500
DTSTAMP:20260420T231140
CREATED:20231006T233639Z
LAST-MODIFIED:20260125T143033Z
UID:10001550-1766310300-1766312100@eccridgetown.ca
SUMMARY:Pre-service Coffee
DESCRIPTION:Join us Sunday morning before Service at 9:45 – 10:15am
URL:https://eccridgetown.ca/event/pre-service-coffee-fellowship/2025-12-21/
END:VEVENT
BEGIN:VEVENT
DTSTART;TZID=America/Toronto:20251221T103000
DTEND;TZID=America/Toronto:20251221T120000
DTSTAMP:20260420T231140
CREATED:20251029T213214Z
LAST-MODIFIED:20260125T143221Z
UID:10002798-1766313000-1766318400@eccridgetown.ca
SUMMARY:Sunday Morning Worship
DESCRIPTION:Everyone welcome!
URL:https://eccridgetown.ca/event/sunday-morning-service-2-5-2/2025-12-21/
END:VEVENT
BEGIN:VEVENT
DTSTART;TZID=America/Toronto:20251221T140000
DTEND;TZID=America/Toronto:20251221T170000
DTSTAMP:20260420T231141
CREATED:20251029T215213Z
LAST-MODIFIED:20251130T224552Z
UID:10003871-1766325600-1766336400@eccridgetown.ca
SUMMARY:Sunday Social
DESCRIPTION:Bring your special nativity sets to display.\nFood and drinks provided.
URL:https://eccridgetown.ca/event/sunday-social-5/
END:VEVENT
BEGIN:VEVENT
DTSTART;TZID=America/Toronto:20251223T190000
DTEND;TZID=America/Toronto:20251223T200000
DTSTAMP:20260420T231141
CREATED:20251130T225423Z
LAST-MODIFIED:20251130T225423Z
UID:10003877-1766516400-1766520000@eccridgetown.ca
SUMMARY:NO Bible Study
DESCRIPTION:
URL:https://eccridgetown.ca/event/no-bible-study-5/2025-12-23/
END:VEVENT
BEGIN:VEVENT
DTSTART;TZID=America/Toronto:20251223T190000
DTEND;TZID=America/Toronto:20251223T210000
DTSTAMP:20260420T231141
CREATED:20251217T200404Z
LAST-MODIFIED:20251217T200404Z
UID:10003899-1766516400-1766523600@eccridgetown.ca
SUMMARY:NO Teen Bible Quizzing
DESCRIPTION:Resumes again on Jan. 6\, 2026.
URL:https://eccridgetown.ca/event/no-teen-bible-quizzing/2025-12-23/
END:VEVENT
BEGIN:VEVENT
DTSTART;TZID=America/Toronto:20251224T163000
DTEND;TZID=America/Toronto:20251224T173000
DTSTAMP:20260420T231141
CREATED:20251130T231329Z
LAST-MODIFIED:20251130T231329Z
UID:10003897-1766593800-1766597400@eccridgetown.ca
SUMMARY:Christmas Eve Service
DESCRIPTION:
URL:https://eccridgetown.ca/event/christmas-eve-service-3/
END:VEVENT
BEGIN:VEVENT
DTSTART;TZID=America/Toronto:20251226T190000
DTEND;TZID=America/Toronto:20251226T210000
DTSTAMP:20260420T231141
CREATED:20250909T155520Z
LAST-MODIFIED:20250909T155520Z
UID:10003769-1766775600-1766782800@eccridgetown.ca
SUMMARY:NO Lion Heart Youth
DESCRIPTION:
URL:https://eccridgetown.ca/event/no-lion-heart-youth/2025-12-26/
END:VEVENT
END:VCALENDAR