BEGIN:VCALENDAR
VERSION:2.0
PRODID:-//Emmanuel Congregational Church - ECPv6.2.3//NONSGML v1.0//EN
CALSCALE:GREGORIAN
METHOD:PUBLISH
X-ORIGINAL-URL:https://eccridgetown.ca
X-WR-CALDESC:Events for Emmanuel Congregational Church
REFRESH-INTERVAL;VALUE=DURATION:PT1H
X-Robots-Tag:noindex
X-PUBLISHED-TTL:PT1H
BEGIN:VTIMEZONE
TZID:America/Toronto
BEGIN:DAYLIGHT
TZOFFSETFROM:-0500
TZOFFSETTO:-0400
TZNAME:EDT
DTSTART:20250309T070000
END:DAYLIGHT
BEGIN:STANDARD
TZOFFSETFROM:-0400
TZOFFSETTO:-0500
TZNAME:EST
DTSTART:20251102T060000
END:STANDARD
END:VTIMEZONE
BEGIN:VEVENT
DTSTART;TZID=America/Toronto:20251102T090000
DTEND;TZID=America/Toronto:20251102T103000
DTSTAMP:20260420T232037
CREATED:20240430T215324Z
LAST-MODIFIED:20260125T142754Z
UID:10001855-1762074000-1762079400@eccridgetown.ca
SUMMARY:ECC Worship Singers Practice
DESCRIPTION:Anyone ages 10 or older who would like to sing or play a musical instrument come and join us!
URL:https://eccridgetown.ca/event/ecc-worship-singers-practice/2025-11-02/
END:VEVENT
BEGIN:VEVENT
DTSTART;TZID=America/Toronto:20251102T094500
DTEND;TZID=America/Toronto:20251102T101500
DTSTAMP:20260420T232037
CREATED:20231006T233639Z
LAST-MODIFIED:20260125T143033Z
UID:10001543-1762076700-1762078500@eccridgetown.ca
SUMMARY:Pre-service Coffee
DESCRIPTION:Join us Sunday morning before Service at 9:45 – 10:15am
URL:https://eccridgetown.ca/event/pre-service-coffee-fellowship/2025-11-02/
END:VEVENT
BEGIN:VEVENT
DTSTART;TZID=America/Toronto:20251102T103000
DTEND;TZID=America/Toronto:20251102T120000
DTSTAMP:20260420T232037
CREATED:20250522T160845Z
LAST-MODIFIED:20250902T215059Z
UID:10003190-1762079400-1762084800@eccridgetown.ca
SUMMARY:Food Bank Collection
DESCRIPTION:Please bring your donations the first Sunday of every month for our local Food Bank at the Salvation Army.  \nEven though the Thrift Store location has closed\, Food Bank services in Ridgetown will continue.
URL:https://eccridgetown.ca/event/food-bank-collection-2/2025-11-02/
END:VEVENT
BEGIN:VEVENT
DTSTART;TZID=America/Toronto:20251102T103000
DTEND;TZID=America/Toronto:20251102T120000
DTSTAMP:20260420T232037
CREATED:20250527T153920Z
LAST-MODIFIED:20250902T214428Z
UID:10002791-1762079400-1762084800@eccridgetown.ca
SUMMARY:Sunday Morning Worship
DESCRIPTION:Everyone welcome!
URL:https://eccridgetown.ca/event/sunday-morning-service-2-5/2025-11-02/
END:VEVENT
BEGIN:VEVENT
DTSTART;TZID=America/Toronto:20251102T150000
DTEND;TZID=America/Toronto:20251102T190000
DTSTAMP:20260420T232037
CREATED:20251029T214951Z
LAST-MODIFIED:20251029T214951Z
UID:10003870-1762095600-1762110000@eccridgetown.ca
SUMMARY:Sunday Social
DESCRIPTION:Swimming followed by a Potluck supper.
URL:https://eccridgetown.ca/event/sunday-social-4/
END:VEVENT
BEGIN:VEVENT
DTSTART;TZID=America/Toronto:20251104T190000
DTEND;TZID=America/Toronto:20251104T200000
DTSTAMP:20260420T232037
CREATED:20250904T211302Z
LAST-MODIFIED:20251130T225153Z
UID:10003749-1762282800-1762286400@eccridgetown.ca
SUMMARY:Bible Study
DESCRIPTION:Our Fall Bible study lead by Pastor John will be discussing the Book of Isaiah.
URL:https://eccridgetown.ca/event/bible-study-6/2025-11-04/
END:VEVENT
BEGIN:VEVENT
DTSTART;TZID=America/Toronto:20251104T190000
DTEND;TZID=America/Toronto:20251104T210000
DTSTAMP:20260420T232037
CREATED:20251001T032244Z
LAST-MODIFIED:20251217T200135Z
UID:10003793-1762282800-1762290000@eccridgetown.ca
SUMMARY:Teen Bible Quizzing Night
DESCRIPTION:Something New for Teens in Our Community! 🌟\nStarting this September\, Lion Heart Youth (grades 7–12 at The Gathering Place & Emmanuel Congregational Church) is launching a brand-new program called Bible Quizzing — and it’s open to ALL teens in the community\, whether they’ve ever been to church or not.\nThis is an awesome opportunity for students to join a team\, have fun\, and build memorization and teamwork skills in a friendly\, positive environment.\nSo\, what is it?\n👉 A fun\, game-style competition with buzzers\, teams\, and lots of fun\n👉 A chance to build confidence\, sharpen memory skills\, and make great friends\n👉 A safe space where teens are encouraged\, supported\, and challenged \n• Weekly Quizzing Nights: Beginning Tuesday\, September 16\, 7–9 PM (running September–May)\nThis year\, we’ll be exploring 1 & 2 Corinthians together — but no prior knowledge is needed! We’ll learn in a way that’s fun and engaging. And to top it off… at the end of the year we’ll take a weekend trip to Muskoka Woods! 🎉\nIf you’re looking for something new for your teen — a place that’s safe\, encouraging\, and a little competitive 😉 — come check it out!\nBring your student (and their friends!) to our Intro Night on September 9 at ECC to see what it’s all about.
URL:https://eccridgetown.ca/event/teen-bible-quizzing-night/2025-11-04/
END:VEVENT
BEGIN:VEVENT
DTSTART;TZID=America/Toronto:20251107T190000
DTEND;TZID=America/Toronto:20251107T210000
DTSTAMP:20260420T232037
CREATED:20250909T155012Z
LAST-MODIFIED:20250923T211946Z
UID:10003762-1762542000-1762549200@eccridgetown.ca
SUMMARY:Lion Heart Youth
DESCRIPTION:Every Friday\, Lion Heart Youth gathers for an engaging\, exciting\, and uplifting experience. Our program is open to students in grade 7-12. \nEach week\, our evenings are filled with exciting activities\, insightful discussions\, and meaningful connections. \nEach night includes games\, devotions\, worship\, fun\, and fellowship. \nCheck out our home page for more details!
URL:https://eccridgetown.ca/event/lion-heart-youth-11/2025-11-07/
ATTACH;FMTTYPE=application/pdf:https://eccridgetown.ca/wp-content/uploads/2025/09/2025-26-Youth-Schedule-Sept-Jun.pdf
END:VEVENT
END:VCALENDAR