BEGIN:VCALENDAR
VERSION:2.0
PRODID:-//Emmanuel Congregational Church - ECPv6.2.3//NONSGML v1.0//EN
CALSCALE:GREGORIAN
METHOD:PUBLISH
X-WR-CALNAME:Emmanuel Congregational Church
X-ORIGINAL-URL:https://eccridgetown.ca
X-WR-CALDESC:Events for Emmanuel Congregational Church
REFRESH-INTERVAL;VALUE=DURATION:PT1H
X-Robots-Tag:noindex
X-PUBLISHED-TTL:PT1H
BEGIN:VTIMEZONE
TZID:America/Toronto
BEGIN:DAYLIGHT
TZOFFSETFROM:-0500
TZOFFSETTO:-0400
TZNAME:EDT
DTSTART:20250309T070000
END:DAYLIGHT
BEGIN:STANDARD
TZOFFSETFROM:-0400
TZOFFSETTO:-0500
TZNAME:EST
DTSTART:20251102T060000
END:STANDARD
END:VTIMEZONE
BEGIN:VEVENT
DTSTART;TZID=America/Toronto:20251026T090000
DTEND;TZID=America/Toronto:20251026T103000
DTSTAMP:20260420T211935
CREATED:20240430T215324Z
LAST-MODIFIED:20260125T142754Z
UID:10001854-1761469200-1761474600@eccridgetown.ca
SUMMARY:ECC Worship Singers Practice
DESCRIPTION:Anyone ages 10 or older who would like to sing or play a musical instrument come and join us!
URL:https://eccridgetown.ca/event/ecc-worship-singers-practice/2025-10-26/
END:VEVENT
BEGIN:VEVENT
DTSTART;TZID=America/Toronto:20251026T094500
DTEND;TZID=America/Toronto:20251026T101500
DTSTAMP:20260420T211935
CREATED:20231006T233639Z
LAST-MODIFIED:20260125T143033Z
UID:10001542-1761471900-1761473700@eccridgetown.ca
SUMMARY:Pre-service Coffee
DESCRIPTION:Join us Sunday morning before Service at 9:45 – 10:15am
URL:https://eccridgetown.ca/event/pre-service-coffee-fellowship/2025-10-26/
END:VEVENT
BEGIN:VEVENT
DTSTART;TZID=America/Toronto:20251026T103000
DTEND;TZID=America/Toronto:20251026T120000
DTSTAMP:20260420T211935
CREATED:20250527T153920Z
LAST-MODIFIED:20250902T214428Z
UID:10002790-1761474600-1761480000@eccridgetown.ca
SUMMARY:Sunday Morning Worship
DESCRIPTION:Everyone welcome!
URL:https://eccridgetown.ca/event/sunday-morning-service-2-5/2025-10-26/
END:VEVENT
BEGIN:VEVENT
DTSTART;TZID=America/Toronto:20251028T190000
DTEND;TZID=America/Toronto:20251028T200000
DTSTAMP:20260420T211935
CREATED:20250904T211302Z
LAST-MODIFIED:20251130T225153Z
UID:10003748-1761678000-1761681600@eccridgetown.ca
SUMMARY:Bible Study
DESCRIPTION:Our Fall Bible study lead by Pastor John will be discussing the Book of Isaiah.
URL:https://eccridgetown.ca/event/bible-study-6/2025-10-28/
END:VEVENT
BEGIN:VEVENT
DTSTART;TZID=America/Toronto:20251028T190000
DTEND;TZID=America/Toronto:20251028T210000
DTSTAMP:20260420T211935
CREATED:20251001T032244Z
LAST-MODIFIED:20251217T200135Z
UID:10003792-1761678000-1761685200@eccridgetown.ca
SUMMARY:Teen Bible Quizzing Night
DESCRIPTION:Something New for Teens in Our Community! 🌟\nStarting this September\, Lion Heart Youth (grades 7–12 at The Gathering Place & Emmanuel Congregational Church) is launching a brand-new program called Bible Quizzing — and it’s open to ALL teens in the community\, whether they’ve ever been to church or not.\nThis is an awesome opportunity for students to join a team\, have fun\, and build memorization and teamwork skills in a friendly\, positive environment.\nSo\, what is it?\n👉 A fun\, game-style competition with buzzers\, teams\, and lots of fun\n👉 A chance to build confidence\, sharpen memory skills\, and make great friends\n👉 A safe space where teens are encouraged\, supported\, and challenged \n• Weekly Quizzing Nights: Beginning Tuesday\, September 16\, 7–9 PM (running September–May)\nThis year\, we’ll be exploring 1 & 2 Corinthians together — but no prior knowledge is needed! We’ll learn in a way that’s fun and engaging. And to top it off… at the end of the year we’ll take a weekend trip to Muskoka Woods! 🎉\nIf you’re looking for something new for your teen — a place that’s safe\, encouraging\, and a little competitive 😉 — come check it out!\nBring your student (and their friends!) to our Intro Night on September 9 at ECC to see what it’s all about.
URL:https://eccridgetown.ca/event/teen-bible-quizzing-night/2025-10-28/
END:VEVENT
BEGIN:VEVENT
DTSTART;TZID=America/Toronto:20251029T133000
DTEND;TZID=America/Toronto:20251029T150000
DTSTAMP:20260420T211935
CREATED:20250902T212058Z
LAST-MODIFIED:20250902T212222Z
UID:10003550-1761744600-1761750000@eccridgetown.ca
SUMMARY:Ladies Group
DESCRIPTION:All ladies of any age are welcome to join us for a great time of fellowship\, prayer\, devotion and planning is shared by all over a cup of coffee/tea.\nOur meetings are (usually) held the last Wednesday of the month\, from 1:30 till 3pm. (with the exception of July\, August and December)  \nThe ladies group hosts special events on behalf of the congregation\, and also for those out in the community. We provide lunches for funerals\, wedding receptions\, and any other special events that are requested. We also make donations to both local and international missions. In order to make these donations\, we host fundraising events such as bake sales.
URL:https://eccridgetown.ca/event/ladies-group-4/
END:VEVENT
BEGIN:VEVENT
DTSTART;TZID=America/Toronto:20251030T183000
DTEND;TZID=America/Toronto:20251030T200000
DTSTAMP:20260420T211935
CREATED:20250918T025426Z
LAST-MODIFIED:20251130T230248Z
UID:10003774-1761849000-1761854400@eccridgetown.ca
SUMMARY:Women’s Bible Study on EPHESIANS.
DESCRIPTION:It will be on Thursday nights beginning Oct. 2nd from 6:30pm – 8:00pm and it will be every other week.  \nCost is $18.65 due on/before Sept. 28th to order books. \nEphesians\nHow can we live more authentic lives?\nChristian community can be difficult to navigate.\nWe are called to live in unity with other Christians\, but that is sometimes easier said than done. Paul’s letter to the Ephesians addresses hypocrisy\, unity\, and other key issues the church still struggles with today. Dig deep into Ephesians and discover the practical insight intended to help you live and worship in harmony with your fellow believers.\nIn this Bible study you will find:\n• 14 lessons to lead you through the book of Ephesians
URL:https://eccridgetown.ca/event/womens-bible-study-on-ephesians/2025-10-30/
END:VEVENT
BEGIN:VEVENT
DTSTART;TZID=America/Toronto:20251031T180000
DTEND;TZID=America/Toronto:20251031T200000
DTSTAMP:20260420T211935
CREATED:20251028T212235Z
LAST-MODIFIED:20251028T212235Z
UID:10003823-1761933600-1761940800@eccridgetown.ca
SUMMARY:Harvest Festival
DESCRIPTION:The whole family is invited to come enjoy food\, candy\, games & music.\nCostumes are encouraged\, but no masks & nothing scary please.
URL:https://eccridgetown.ca/event/harvest-festival-2/
END:VEVENT
BEGIN:VEVENT
DTSTART;TZID=America/Toronto:20251031T190000
DTEND;TZID=America/Toronto:20251031T210000
DTSTAMP:20260420T211935
CREATED:20250909T155012Z
LAST-MODIFIED:20250923T211946Z
UID:10003761-1761937200-1761944400@eccridgetown.ca
SUMMARY:Lion Heart Youth
DESCRIPTION:Every Friday\, Lion Heart Youth gathers for an engaging\, exciting\, and uplifting experience. Our program is open to students in grade 7-12. \nEach week\, our evenings are filled with exciting activities\, insightful discussions\, and meaningful connections. \nEach night includes games\, devotions\, worship\, fun\, and fellowship. \nCheck out our home page for more details!
URL:https://eccridgetown.ca/event/lion-heart-youth-11/2025-10-31/
ATTACH;FMTTYPE=application/pdf:https://eccridgetown.ca/wp-content/uploads/2025/09/2025-26-Youth-Schedule-Sept-Jun.pdf
END:VEVENT
END:VCALENDAR