BEGIN:VCALENDAR
VERSION:2.0
PRODID:-//Emmanuel Congregational Church - ECPv6.2.3//NONSGML v1.0//EN
CALSCALE:GREGORIAN
METHOD:PUBLISH
X-WR-CALNAME:Emmanuel Congregational Church
X-ORIGINAL-URL:https://eccridgetown.ca
X-WR-CALDESC:Events for Emmanuel Congregational Church
REFRESH-INTERVAL;VALUE=DURATION:PT1H
X-Robots-Tag:noindex
X-PUBLISHED-TTL:PT1H
BEGIN:VTIMEZONE
TZID:America/Toronto
BEGIN:DAYLIGHT
TZOFFSETFROM:-0500
TZOFFSETTO:-0400
TZNAME:EDT
DTSTART:20260308T070000
END:DAYLIGHT
BEGIN:STANDARD
TZOFFSETFROM:-0400
TZOFFSETTO:-0500
TZNAME:EST
DTSTART:20261101T060000
END:STANDARD
END:VTIMEZONE
BEGIN:VEVENT
DTSTART;TZID=America/Toronto:20260605T190000
DTEND;TZID=America/Toronto:20260605T210000
DTSTAMP:20260420T025750
CREATED:20260117T172700Z
LAST-MODIFIED:20260117T172933Z
UID:10003960-1780686000-1780693200@eccridgetown.ca
SUMMARY:Lion Heart Youth
DESCRIPTION:Every Friday\, Lion Heart Youth gathers for an engaging\, exciting\, and uplifting experience. Our program is open to students in grade 7-12. \nEach week\, our evenings are filled with exciting activities\, insightful discussions\, and meaningful connections. \nEach night includes games\, devotions\, worship\, fun\, and fellowship. \nCheck out our home page for more details!
URL:https://eccridgetown.ca/event/lion-heart-youth-13/2026-06-05/
ATTACH;FMTTYPE=image/jpeg:https://eccridgetown.ca/wp-content/uploads/2026/01/2026-LHY-Jan-June-schedule.jpg
END:VEVENT
BEGIN:VEVENT
DTSTART;TZID=America/Toronto:20260607T090000
DTEND;TZID=America/Toronto:20260607T103000
DTSTAMP:20260420T025750
CREATED:20240430T215324Z
LAST-MODIFIED:20260125T142754Z
UID:10001886-1780822800-1780828200@eccridgetown.ca
SUMMARY:ECC Worship Singers Practice
DESCRIPTION:Anyone ages 10 or older who would like to sing or play a musical instrument come and join us!
URL:https://eccridgetown.ca/event/ecc-worship-singers-practice/2026-06-07/
END:VEVENT
BEGIN:VEVENT
DTSTART;TZID=America/Toronto:20260607T094500
DTEND;TZID=America/Toronto:20260607T101500
DTSTAMP:20260420T025750
CREATED:20231006T233639Z
LAST-MODIFIED:20260125T143033Z
UID:10001574-1780825500-1780827300@eccridgetown.ca
SUMMARY:Pre-service Coffee
DESCRIPTION:Join us Sunday morning before Service at 9:45 – 10:15am
URL:https://eccridgetown.ca/event/pre-service-coffee-fellowship/2026-06-07/
END:VEVENT
BEGIN:VEVENT
DTSTART;TZID=America/Toronto:20260607T103000
DTEND;TZID=America/Toronto:20260607T120000
DTSTAMP:20260420T025750
CREATED:20250522T160845Z
LAST-MODIFIED:20250902T215059Z
UID:10003197-1780828200-1780833600@eccridgetown.ca
SUMMARY:Food Bank Collection
DESCRIPTION:Please bring your donations the first Sunday of every month for our local Food Bank at the Salvation Army.  \nEven though the Thrift Store location has closed\, Food Bank services in Ridgetown will continue.
URL:https://eccridgetown.ca/event/food-bank-collection-2/2026-06-07/
END:VEVENT
BEGIN:VEVENT
DTSTART;TZID=America/Toronto:20260607T103000
DTEND;TZID=America/Toronto:20260607T120000
DTSTAMP:20260420T025750
CREATED:20251029T213214Z
LAST-MODIFIED:20260125T143221Z
UID:10002822-1780828200-1780833600@eccridgetown.ca
SUMMARY:Sunday Morning Worship
DESCRIPTION:Everyone welcome!
URL:https://eccridgetown.ca/event/sunday-morning-service-2-5-2/2026-06-07/
END:VEVENT
BEGIN:VEVENT
DTSTART;TZID=America/Toronto:20260612T190000
DTEND;TZID=America/Toronto:20260612T210000
DTSTAMP:20260420T025750
CREATED:20260117T172700Z
LAST-MODIFIED:20260117T172933Z
UID:10003961-1781290800-1781298000@eccridgetown.ca
SUMMARY:Lion Heart Youth
DESCRIPTION:Every Friday\, Lion Heart Youth gathers for an engaging\, exciting\, and uplifting experience. Our program is open to students in grade 7-12. \nEach week\, our evenings are filled with exciting activities\, insightful discussions\, and meaningful connections. \nEach night includes games\, devotions\, worship\, fun\, and fellowship. \nCheck out our home page for more details!
URL:https://eccridgetown.ca/event/lion-heart-youth-13/2026-06-12/
ATTACH;FMTTYPE=image/jpeg:https://eccridgetown.ca/wp-content/uploads/2026/01/2026-LHY-Jan-June-schedule.jpg
END:VEVENT
BEGIN:VEVENT
DTSTART;TZID=America/Toronto:20260614T090000
DTEND;TZID=America/Toronto:20260614T103000
DTSTAMP:20260420T025750
CREATED:20240430T215324Z
LAST-MODIFIED:20260125T142754Z
UID:10001887-1781427600-1781433000@eccridgetown.ca
SUMMARY:ECC Worship Singers Practice
DESCRIPTION:Anyone ages 10 or older who would like to sing or play a musical instrument come and join us!
URL:https://eccridgetown.ca/event/ecc-worship-singers-practice/2026-06-14/
END:VEVENT
BEGIN:VEVENT
DTSTART;TZID=America/Toronto:20260614T094500
DTEND;TZID=America/Toronto:20260614T101500
DTSTAMP:20260420T025750
CREATED:20231006T233639Z
LAST-MODIFIED:20260125T143033Z
UID:10001575-1781430300-1781432100@eccridgetown.ca
SUMMARY:Pre-service Coffee
DESCRIPTION:Join us Sunday morning before Service at 9:45 – 10:15am
URL:https://eccridgetown.ca/event/pre-service-coffee-fellowship/2026-06-14/
END:VEVENT
BEGIN:VEVENT
DTSTART;TZID=America/Toronto:20260614T103000
DTEND;TZID=America/Toronto:20260614T120000
DTSTAMP:20260420T025750
CREATED:20251029T213214Z
LAST-MODIFIED:20260125T143221Z
UID:10002823-1781433000-1781438400@eccridgetown.ca
SUMMARY:Sunday Morning Worship
DESCRIPTION:Everyone welcome!
URL:https://eccridgetown.ca/event/sunday-morning-service-2-5-2/2026-06-14/
END:VEVENT
BEGIN:VEVENT
DTSTART;TZID=America/Toronto:20260619T190000
DTEND;TZID=America/Toronto:20260619T210000
DTSTAMP:20260420T025750
CREATED:20260117T172700Z
LAST-MODIFIED:20260117T172933Z
UID:10003962-1781895600-1781902800@eccridgetown.ca
SUMMARY:Lion Heart Youth
DESCRIPTION:Every Friday\, Lion Heart Youth gathers for an engaging\, exciting\, and uplifting experience. Our program is open to students in grade 7-12. \nEach week\, our evenings are filled with exciting activities\, insightful discussions\, and meaningful connections. \nEach night includes games\, devotions\, worship\, fun\, and fellowship. \nCheck out our home page for more details!
URL:https://eccridgetown.ca/event/lion-heart-youth-13/2026-06-19/
ATTACH;FMTTYPE=image/jpeg:https://eccridgetown.ca/wp-content/uploads/2026/01/2026-LHY-Jan-June-schedule.jpg
END:VEVENT
BEGIN:VEVENT
DTSTART;TZID=America/Toronto:20260621T090000
DTEND;TZID=America/Toronto:20260621T103000
DTSTAMP:20260420T025750
CREATED:20240430T215324Z
LAST-MODIFIED:20260125T142754Z
UID:10001888-1782032400-1782037800@eccridgetown.ca
SUMMARY:ECC Worship Singers Practice
DESCRIPTION:Anyone ages 10 or older who would like to sing or play a musical instrument come and join us!
URL:https://eccridgetown.ca/event/ecc-worship-singers-practice/2026-06-21/
END:VEVENT
BEGIN:VEVENT
DTSTART;TZID=America/Toronto:20260621T094500
DTEND;TZID=America/Toronto:20260621T101500
DTSTAMP:20260420T025750
CREATED:20231006T233639Z
LAST-MODIFIED:20260125T143033Z
UID:10001576-1782035100-1782036900@eccridgetown.ca
SUMMARY:Pre-service Coffee
DESCRIPTION:Join us Sunday morning before Service at 9:45 – 10:15am
URL:https://eccridgetown.ca/event/pre-service-coffee-fellowship/2026-06-21/
END:VEVENT
BEGIN:VEVENT
DTSTART;TZID=America/Toronto:20260621T103000
DTEND;TZID=America/Toronto:20260621T120000
DTSTAMP:20260420T025750
CREATED:20251029T213214Z
LAST-MODIFIED:20260125T143221Z
UID:10002824-1782037800-1782043200@eccridgetown.ca
SUMMARY:Sunday Morning Worship
DESCRIPTION:Everyone welcome!
URL:https://eccridgetown.ca/event/sunday-morning-service-2-5-2/2026-06-21/
END:VEVENT
BEGIN:VEVENT
DTSTART;TZID=America/Toronto:20260624T133000
DTEND;TZID=America/Toronto:20260624T150000
DTSTAMP:20260420T025750
CREATED:20260226T220327Z
LAST-MODIFIED:20260226T220328Z
UID:10002504-1782307800-1782313200@eccridgetown.ca
SUMMARY:Ladies Group
DESCRIPTION:All ladies of any age are welcome to join us for a great time of fellowship\, prayer\, devotion and planning is shared by all over a cup of coffee/tea.\nOur meetings are (usually) held the last Wednesday of the month\, from 1:30 till 3pm. (with the exception of July\, August and December)  \nThe ladies group hosts special events on behalf of the congregation\, and also for those out in the community. We provide lunches for funerals\, wedding receptions\, and any other special events that are requested. We also make donations to both local and international missions. In order to make these donations\, we host fundraising events such as bake sales.
URL:https://eccridgetown.ca/event/ladies-meeting-3-3-2-3/2026-06-24/
END:VEVENT
BEGIN:VEVENT
DTSTART;TZID=America/Toronto:20260626T190000
DTEND;TZID=America/Toronto:20260626T210000
DTSTAMP:20260420T025750
CREATED:20260117T172700Z
LAST-MODIFIED:20260117T172933Z
UID:10003963-1782500400-1782507600@eccridgetown.ca
SUMMARY:Lion Heart Youth
DESCRIPTION:Every Friday\, Lion Heart Youth gathers for an engaging\, exciting\, and uplifting experience. Our program is open to students in grade 7-12. \nEach week\, our evenings are filled with exciting activities\, insightful discussions\, and meaningful connections. \nEach night includes games\, devotions\, worship\, fun\, and fellowship. \nCheck out our home page for more details!
URL:https://eccridgetown.ca/event/lion-heart-youth-13/2026-06-26/
ATTACH;FMTTYPE=image/jpeg:https://eccridgetown.ca/wp-content/uploads/2026/01/2026-LHY-Jan-June-schedule.jpg
END:VEVENT
BEGIN:VEVENT
DTSTART;TZID=America/Toronto:20260628T090000
DTEND;TZID=America/Toronto:20260628T103000
DTSTAMP:20260420T025750
CREATED:20240430T215324Z
LAST-MODIFIED:20260125T142754Z
UID:10001889-1782637200-1782642600@eccridgetown.ca
SUMMARY:ECC Worship Singers Practice
DESCRIPTION:Anyone ages 10 or older who would like to sing or play a musical instrument come and join us!
URL:https://eccridgetown.ca/event/ecc-worship-singers-practice/2026-06-28/
END:VEVENT
BEGIN:VEVENT
DTSTART;TZID=America/Toronto:20260628T094500
DTEND;TZID=America/Toronto:20260628T101500
DTSTAMP:20260420T025750
CREATED:20231006T233639Z
LAST-MODIFIED:20260125T143033Z
UID:10001577-1782639900-1782641700@eccridgetown.ca
SUMMARY:Pre-service Coffee
DESCRIPTION:Join us Sunday morning before Service at 9:45 – 10:15am
URL:https://eccridgetown.ca/event/pre-service-coffee-fellowship/2026-06-28/
END:VEVENT
BEGIN:VEVENT
DTSTART;TZID=America/Toronto:20260628T103000
DTEND;TZID=America/Toronto:20260628T120000
DTSTAMP:20260420T025750
CREATED:20251029T213214Z
LAST-MODIFIED:20260125T143221Z
UID:10002825-1782642600-1782648000@eccridgetown.ca
SUMMARY:Sunday Morning Worship
DESCRIPTION:Everyone welcome!
URL:https://eccridgetown.ca/event/sunday-morning-service-2-5-2/2026-06-28/
END:VEVENT
END:VCALENDAR