BEGIN:VCALENDAR
VERSION:2.0
PRODID:-//Emmanuel Congregational Church - ECPv6.2.3//NONSGML v1.0//EN
CALSCALE:GREGORIAN
METHOD:PUBLISH
X-WR-CALNAME:Emmanuel Congregational Church
X-ORIGINAL-URL:https://eccridgetown.ca
X-WR-CALDESC:Events for Emmanuel Congregational Church
REFRESH-INTERVAL;VALUE=DURATION:PT1H
X-Robots-Tag:noindex
X-PUBLISHED-TTL:PT1H
BEGIN:VTIMEZONE
TZID:America/Toronto
BEGIN:DAYLIGHT
TZOFFSETFROM:-0500
TZOFFSETTO:-0400
TZNAME:EDT
DTSTART:20300310T070000
END:DAYLIGHT
BEGIN:STANDARD
TZOFFSETFROM:-0400
TZOFFSETTO:-0500
TZNAME:EST
DTSTART:20301103T060000
END:STANDARD
END:VTIMEZONE
BEGIN:VEVENT
DTSTART;TZID=America/Toronto:20300818T103000
DTEND;TZID=America/Toronto:20300818T120000
DTSTAMP:20260425T194842
CREATED:20251029T213214Z
LAST-MODIFIED:20260125T143221Z
UID:10003555-1913279400-1913284800@eccridgetown.ca
SUMMARY:Sunday Morning Worship
DESCRIPTION:Everyone welcome!
URL:https://eccridgetown.ca/event/sunday-morning-service-2-5-2/2030-08-18/
END:VEVENT
BEGIN:VEVENT
DTSTART;TZID=America/Toronto:20300825T090000
DTEND;TZID=America/Toronto:20300825T103000
DTSTAMP:20260425T194842
CREATED:20240430T215324Z
LAST-MODIFIED:20260125T142754Z
UID:10003723-1913878800-1913884200@eccridgetown.ca
SUMMARY:ECC Worship Singers Practice
DESCRIPTION:Anyone ages 10 or older who would like to sing or play a musical instrument come and join us!
URL:https://eccridgetown.ca/event/ecc-worship-singers-practice/2030-08-25/
END:VEVENT
BEGIN:VEVENT
DTSTART;TZID=America/Toronto:20300825T094500
DTEND;TZID=America/Toronto:20300825T101500
DTSTAMP:20260425T194842
CREATED:20231006T233639Z
LAST-MODIFIED:20260125T143033Z
UID:10003653-1913881500-1913883300@eccridgetown.ca
SUMMARY:Pre-service Coffee
DESCRIPTION:Join us Sunday morning before Service at 9:45 – 10:15am
URL:https://eccridgetown.ca/event/pre-service-coffee-fellowship/2030-08-25/
END:VEVENT
BEGIN:VEVENT
DTSTART;TZID=America/Toronto:20300825T103000
DTEND;TZID=America/Toronto:20300825T120000
DTSTAMP:20260425T194842
CREATED:20251029T213214Z
LAST-MODIFIED:20260125T143221Z
UID:10003556-1913884200-1913889600@eccridgetown.ca
SUMMARY:Sunday Morning Worship
DESCRIPTION:Everyone welcome!
URL:https://eccridgetown.ca/event/sunday-morning-service-2-5-2/2030-08-25/
END:VEVENT
BEGIN:VEVENT
DTSTART;TZID=America/Toronto:20300828T133000
DTEND;TZID=America/Toronto:20300828T150000
DTSTAMP:20260425T194842
CREATED:20260226T220327Z
LAST-MODIFIED:20260226T220328Z
UID:10003549-1914154200-1914159600@eccridgetown.ca
SUMMARY:Ladies Group
DESCRIPTION:All ladies of any age are welcome to join us for a great time of fellowship\, prayer\, devotion and planning is shared by all over a cup of coffee/tea.\nOur meetings are (usually) held the last Wednesday of the month\, from 1:30 till 3pm. (with the exception of July\, August and December)  \nThe ladies group hosts special events on behalf of the congregation\, and also for those out in the community. We provide lunches for funerals\, wedding receptions\, and any other special events that are requested. We also make donations to both local and international missions. In order to make these donations\, we host fundraising events such as bake sales.
URL:https://eccridgetown.ca/event/ladies-meeting-3-3-2-3/2030-08-28/
END:VEVENT
BEGIN:VEVENT
DTSTART;TZID=America/Toronto:20300901T090000
DTEND;TZID=America/Toronto:20300901T103000
DTSTAMP:20260425T194842
CREATED:20240430T215324Z
LAST-MODIFIED:20260125T142754Z
UID:10003724-1914483600-1914489000@eccridgetown.ca
SUMMARY:ECC Worship Singers Practice
DESCRIPTION:Anyone ages 10 or older who would like to sing or play a musical instrument come and join us!
URL:https://eccridgetown.ca/event/ecc-worship-singers-practice/2030-09-01/
END:VEVENT
BEGIN:VEVENT
DTSTART;TZID=America/Toronto:20300901T094500
DTEND;TZID=America/Toronto:20300901T101500
DTSTAMP:20260425T194842
CREATED:20231006T233639Z
LAST-MODIFIED:20260125T143033Z
UID:10003654-1914486300-1914488100@eccridgetown.ca
SUMMARY:Pre-service Coffee
DESCRIPTION:Join us Sunday morning before Service at 9:45 – 10:15am
URL:https://eccridgetown.ca/event/pre-service-coffee-fellowship/2030-09-01/
END:VEVENT
BEGIN:VEVENT
DTSTART;TZID=America/Toronto:20300901T103000
DTEND;TZID=America/Toronto:20300901T120000
DTSTAMP:20260425T194842
CREATED:20250522T160845Z
LAST-MODIFIED:20250902T215059Z
UID:10003729-1914489000-1914494400@eccridgetown.ca
SUMMARY:Food Bank Collection
DESCRIPTION:Please bring your donations the first Sunday of every month for our local Food Bank at the Salvation Army.  \nEven though the Thrift Store location has closed\, Food Bank services in Ridgetown will continue.
URL:https://eccridgetown.ca/event/food-bank-collection-2/2030-09-01/
END:VEVENT
BEGIN:VEVENT
DTSTART;TZID=America/Toronto:20300901T103000
DTEND;TZID=America/Toronto:20300901T120000
DTSTAMP:20260425T194842
CREATED:20251029T213214Z
LAST-MODIFIED:20260125T143221Z
UID:10003557-1914489000-1914494400@eccridgetown.ca
SUMMARY:Sunday Morning Worship
DESCRIPTION:Everyone welcome!
URL:https://eccridgetown.ca/event/sunday-morning-service-2-5-2/2030-09-01/
END:VEVENT
BEGIN:VEVENT
DTSTART;TZID=America/Toronto:20300908T090000
DTEND;TZID=America/Toronto:20300908T103000
DTSTAMP:20260425T194842
CREATED:20240430T215324Z
LAST-MODIFIED:20260125T142754Z
UID:10003964-1915088400-1915093800@eccridgetown.ca
SUMMARY:ECC Worship Singers Practice
DESCRIPTION:Anyone ages 10 or older who would like to sing or play a musical instrument come and join us!
URL:https://eccridgetown.ca/event/ecc-worship-singers-practice/2030-09-08/
END:VEVENT
BEGIN:VEVENT
DTSTART;TZID=America/Toronto:20300908T094500
DTEND;TZID=America/Toronto:20300908T101500
DTSTAMP:20260425T194842
CREATED:20231006T233639Z
LAST-MODIFIED:20260125T143033Z
UID:10003985-1915091100-1915092900@eccridgetown.ca
SUMMARY:Pre-service Coffee
DESCRIPTION:Join us Sunday morning before Service at 9:45 – 10:15am
URL:https://eccridgetown.ca/event/pre-service-coffee-fellowship/2030-09-08/
END:VEVENT
BEGIN:VEVENT
DTSTART;TZID=America/Toronto:20300908T103000
DTEND;TZID=America/Toronto:20300908T120000
DTSTAMP:20260425T194842
CREATED:20251029T213214Z
LAST-MODIFIED:20260125T143221Z
UID:10003859-1915093800-1915099200@eccridgetown.ca
SUMMARY:Sunday Morning Worship
DESCRIPTION:Everyone welcome!
URL:https://eccridgetown.ca/event/sunday-morning-service-2-5-2/2030-09-08/
END:VEVENT
BEGIN:VEVENT
DTSTART;TZID=America/Toronto:20300915T090000
DTEND;TZID=America/Toronto:20300915T103000
DTSTAMP:20260425T194842
CREATED:20240430T215324Z
LAST-MODIFIED:20260125T142754Z
UID:10003965-1915693200-1915698600@eccridgetown.ca
SUMMARY:ECC Worship Singers Practice
DESCRIPTION:Anyone ages 10 or older who would like to sing or play a musical instrument come and join us!
URL:https://eccridgetown.ca/event/ecc-worship-singers-practice/2030-09-15/
END:VEVENT
BEGIN:VEVENT
DTSTART;TZID=America/Toronto:20300915T094500
DTEND;TZID=America/Toronto:20300915T101500
DTSTAMP:20260425T194842
CREATED:20231006T233639Z
LAST-MODIFIED:20260125T143033Z
UID:10003986-1915695900-1915697700@eccridgetown.ca
SUMMARY:Pre-service Coffee
DESCRIPTION:Join us Sunday morning before Service at 9:45 – 10:15am
URL:https://eccridgetown.ca/event/pre-service-coffee-fellowship/2030-09-15/
END:VEVENT
BEGIN:VEVENT
DTSTART;TZID=America/Toronto:20300915T103000
DTEND;TZID=America/Toronto:20300915T120000
DTSTAMP:20260425T194842
CREATED:20251029T213214Z
LAST-MODIFIED:20260125T143221Z
UID:10003860-1915698600-1915704000@eccridgetown.ca
SUMMARY:Sunday Morning Worship
DESCRIPTION:Everyone welcome!
URL:https://eccridgetown.ca/event/sunday-morning-service-2-5-2/2030-09-15/
END:VEVENT
BEGIN:VEVENT
DTSTART;TZID=America/Toronto:20300922T090000
DTEND;TZID=America/Toronto:20300922T103000
DTSTAMP:20260425T194842
CREATED:20240430T215324Z
LAST-MODIFIED:20260125T142754Z
UID:10003966-1916298000-1916303400@eccridgetown.ca
SUMMARY:ECC Worship Singers Practice
DESCRIPTION:Anyone ages 10 or older who would like to sing or play a musical instrument come and join us!
URL:https://eccridgetown.ca/event/ecc-worship-singers-practice/2030-09-22/
END:VEVENT
BEGIN:VEVENT
DTSTART;TZID=America/Toronto:20300922T094500
DTEND;TZID=America/Toronto:20300922T101500
DTSTAMP:20260425T194842
CREATED:20231006T233639Z
LAST-MODIFIED:20260125T143033Z
UID:10003987-1916300700-1916302500@eccridgetown.ca
SUMMARY:Pre-service Coffee
DESCRIPTION:Join us Sunday morning before Service at 9:45 – 10:15am
URL:https://eccridgetown.ca/event/pre-service-coffee-fellowship/2030-09-22/
END:VEVENT
BEGIN:VEVENT
DTSTART;TZID=America/Toronto:20300922T103000
DTEND;TZID=America/Toronto:20300922T120000
DTSTAMP:20260425T194842
CREATED:20251029T213214Z
LAST-MODIFIED:20260125T143221Z
UID:10003861-1916303400-1916308800@eccridgetown.ca
SUMMARY:Sunday Morning Worship
DESCRIPTION:Everyone welcome!
URL:https://eccridgetown.ca/event/sunday-morning-service-2-5-2/2030-09-22/
END:VEVENT
BEGIN:VEVENT
DTSTART;TZID=America/Toronto:20300925T133000
DTEND;TZID=America/Toronto:20300925T150000
DTSTAMP:20260425T194842
CREATED:20260226T220327Z
LAST-MODIFIED:20260226T220328Z
UID:10004017-1916573400-1916578800@eccridgetown.ca
SUMMARY:Ladies Group
DESCRIPTION:All ladies of any age are welcome to join us for a great time of fellowship\, prayer\, devotion and planning is shared by all over a cup of coffee/tea.\nOur meetings are (usually) held the last Wednesday of the month\, from 1:30 till 3pm. (with the exception of July\, August and December)  \nThe ladies group hosts special events on behalf of the congregation\, and also for those out in the community. We provide lunches for funerals\, wedding receptions\, and any other special events that are requested. We also make donations to both local and international missions. In order to make these donations\, we host fundraising events such as bake sales.
URL:https://eccridgetown.ca/event/ladies-meeting-3-3-2-3/2030-09-25/
END:VEVENT
BEGIN:VEVENT
DTSTART;TZID=America/Toronto:20300929T090000
DTEND;TZID=America/Toronto:20300929T103000
DTSTAMP:20260425T194842
CREATED:20240430T215324Z
LAST-MODIFIED:20260125T142754Z
UID:10003967-1916902800-1916908200@eccridgetown.ca
SUMMARY:ECC Worship Singers Practice
DESCRIPTION:Anyone ages 10 or older who would like to sing or play a musical instrument come and join us!
URL:https://eccridgetown.ca/event/ecc-worship-singers-practice/2030-09-29/
END:VEVENT
BEGIN:VEVENT
DTSTART;TZID=America/Toronto:20300929T094500
DTEND;TZID=America/Toronto:20300929T101500
DTSTAMP:20260425T194842
CREATED:20231006T233639Z
LAST-MODIFIED:20260125T143033Z
UID:10003988-1916905500-1916907300@eccridgetown.ca
SUMMARY:Pre-service Coffee
DESCRIPTION:Join us Sunday morning before Service at 9:45 – 10:15am
URL:https://eccridgetown.ca/event/pre-service-coffee-fellowship/2030-09-29/
END:VEVENT
BEGIN:VEVENT
DTSTART;TZID=America/Toronto:20300929T103000
DTEND;TZID=America/Toronto:20300929T120000
DTSTAMP:20260425T194842
CREATED:20251029T213214Z
LAST-MODIFIED:20260125T143221Z
UID:10003862-1916908200-1916913600@eccridgetown.ca
SUMMARY:Sunday Morning Worship
DESCRIPTION:Everyone welcome!
URL:https://eccridgetown.ca/event/sunday-morning-service-2-5-2/2030-09-29/
END:VEVENT
BEGIN:VEVENT
DTSTART;TZID=America/Toronto:20301006T090000
DTEND;TZID=America/Toronto:20301006T103000
DTSTAMP:20260425T194842
CREATED:20240430T215324Z
LAST-MODIFIED:20260125T142754Z
UID:10003968-1917507600-1917513000@eccridgetown.ca
SUMMARY:ECC Worship Singers Practice
DESCRIPTION:Anyone ages 10 or older who would like to sing or play a musical instrument come and join us!
URL:https://eccridgetown.ca/event/ecc-worship-singers-practice/2030-10-06/
END:VEVENT
BEGIN:VEVENT
DTSTART;TZID=America/Toronto:20301006T094500
DTEND;TZID=America/Toronto:20301006T101500
DTSTAMP:20260425T194842
CREATED:20231006T233639Z
LAST-MODIFIED:20260125T143033Z
UID:10003989-1917510300-1917512100@eccridgetown.ca
SUMMARY:Pre-service Coffee
DESCRIPTION:Join us Sunday morning before Service at 9:45 – 10:15am
URL:https://eccridgetown.ca/event/pre-service-coffee-fellowship/2030-10-06/
END:VEVENT
BEGIN:VEVENT
DTSTART;TZID=America/Toronto:20301006T103000
DTEND;TZID=America/Toronto:20301006T120000
DTSTAMP:20260425T194842
CREATED:20251029T213214Z
LAST-MODIFIED:20260125T143221Z
UID:10003863-1917513000-1917518400@eccridgetown.ca
SUMMARY:Sunday Morning Worship
DESCRIPTION:Everyone welcome!
URL:https://eccridgetown.ca/event/sunday-morning-service-2-5-2/2030-10-06/
END:VEVENT
BEGIN:VEVENT
DTSTART;TZID=America/Toronto:20301013T090000
DTEND;TZID=America/Toronto:20301013T103000
DTSTAMP:20260425T194842
CREATED:20240430T215324Z
LAST-MODIFIED:20260125T142754Z
UID:10003969-1918112400-1918117800@eccridgetown.ca
SUMMARY:ECC Worship Singers Practice
DESCRIPTION:Anyone ages 10 or older who would like to sing or play a musical instrument come and join us!
URL:https://eccridgetown.ca/event/ecc-worship-singers-practice/2030-10-13/
END:VEVENT
BEGIN:VEVENT
DTSTART;TZID=America/Toronto:20301013T094500
DTEND;TZID=America/Toronto:20301013T101500
DTSTAMP:20260425T194842
CREATED:20231006T233639Z
LAST-MODIFIED:20260125T143033Z
UID:10003990-1918115100-1918116900@eccridgetown.ca
SUMMARY:Pre-service Coffee
DESCRIPTION:Join us Sunday morning before Service at 9:45 – 10:15am
URL:https://eccridgetown.ca/event/pre-service-coffee-fellowship/2030-10-13/
END:VEVENT
BEGIN:VEVENT
DTSTART;TZID=America/Toronto:20301013T103000
DTEND;TZID=America/Toronto:20301013T120000
DTSTAMP:20260425T194842
CREATED:20251029T213214Z
LAST-MODIFIED:20260125T143221Z
UID:10003864-1918117800-1918123200@eccridgetown.ca
SUMMARY:Sunday Morning Worship
DESCRIPTION:Everyone welcome!
URL:https://eccridgetown.ca/event/sunday-morning-service-2-5-2/2030-10-13/
END:VEVENT
BEGIN:VEVENT
DTSTART;TZID=America/Toronto:20301020T090000
DTEND;TZID=America/Toronto:20301020T103000
DTSTAMP:20260425T194842
CREATED:20240430T215324Z
LAST-MODIFIED:20260125T142754Z
UID:10003970-1918717200-1918722600@eccridgetown.ca
SUMMARY:ECC Worship Singers Practice
DESCRIPTION:Anyone ages 10 or older who would like to sing or play a musical instrument come and join us!
URL:https://eccridgetown.ca/event/ecc-worship-singers-practice/2030-10-20/
END:VEVENT
BEGIN:VEVENT
DTSTART;TZID=America/Toronto:20301020T094500
DTEND;TZID=America/Toronto:20301020T101500
DTSTAMP:20260425T194842
CREATED:20231006T233639Z
LAST-MODIFIED:20260125T143033Z
UID:10003991-1918719900-1918721700@eccridgetown.ca
SUMMARY:Pre-service Coffee
DESCRIPTION:Join us Sunday morning before Service at 9:45 – 10:15am
URL:https://eccridgetown.ca/event/pre-service-coffee-fellowship/2030-10-20/
END:VEVENT
END:VCALENDAR