BEGIN:VCALENDAR
VERSION:2.0
PRODID:-//Emmanuel Congregational Church - ECPv6.2.3//NONSGML v1.0//EN
CALSCALE:GREGORIAN
METHOD:PUBLISH
X-WR-CALNAME:Emmanuel Congregational Church
X-ORIGINAL-URL:https://eccridgetown.ca
X-WR-CALDESC:Events for Emmanuel Congregational Church
REFRESH-INTERVAL;VALUE=DURATION:PT1H
X-Robots-Tag:noindex
X-PUBLISHED-TTL:PT1H
BEGIN:VTIMEZONE
TZID:America/Toronto
BEGIN:DAYLIGHT
TZOFFSETFROM:-0500
TZOFFSETTO:-0400
TZNAME:EDT
DTSTART:20300310T070000
END:DAYLIGHT
BEGIN:STANDARD
TZOFFSETFROM:-0400
TZOFFSETTO:-0500
TZNAME:EST
DTSTART:20301103T060000
END:STANDARD
END:VTIMEZONE
BEGIN:VEVENT
DTSTART;TZID=America/Toronto:20300609T090000
DTEND;TZID=America/Toronto:20300609T103000
DTSTAMP:20260425T125148
CREATED:20240430T215324Z
LAST-MODIFIED:20260125T142754Z
UID:10003712-1907226000-1907231400@eccridgetown.ca
SUMMARY:ECC Worship Singers Practice
DESCRIPTION:Anyone ages 10 or older who would like to sing or play a musical instrument come and join us!
URL:https://eccridgetown.ca/event/ecc-worship-singers-practice/2030-06-09/
END:VEVENT
BEGIN:VEVENT
DTSTART;TZID=America/Toronto:20300609T094500
DTEND;TZID=America/Toronto:20300609T101500
DTSTAMP:20260425T125148
CREATED:20231006T233639Z
LAST-MODIFIED:20260125T143033Z
UID:10003642-1907228700-1907230500@eccridgetown.ca
SUMMARY:Pre-service Coffee
DESCRIPTION:Join us Sunday morning before Service at 9:45 – 10:15am
URL:https://eccridgetown.ca/event/pre-service-coffee-fellowship/2030-06-09/
END:VEVENT
BEGIN:VEVENT
DTSTART;TZID=America/Toronto:20300609T103000
DTEND;TZID=America/Toronto:20300609T120000
DTSTAMP:20260425T125148
CREATED:20251029T213214Z
LAST-MODIFIED:20260125T143221Z
UID:10003268-1907231400-1907236800@eccridgetown.ca
SUMMARY:Sunday Morning Worship
DESCRIPTION:Everyone welcome!
URL:https://eccridgetown.ca/event/sunday-morning-service-2-5-2/2030-06-09/
END:VEVENT
BEGIN:VEVENT
DTSTART;TZID=America/Toronto:20300616T090000
DTEND;TZID=America/Toronto:20300616T103000
DTSTAMP:20260425T125148
CREATED:20240430T215324Z
LAST-MODIFIED:20260125T142754Z
UID:10003713-1907830800-1907836200@eccridgetown.ca
SUMMARY:ECC Worship Singers Practice
DESCRIPTION:Anyone ages 10 or older who would like to sing or play a musical instrument come and join us!
URL:https://eccridgetown.ca/event/ecc-worship-singers-practice/2030-06-16/
END:VEVENT
BEGIN:VEVENT
DTSTART;TZID=America/Toronto:20300616T094500
DTEND;TZID=America/Toronto:20300616T101500
DTSTAMP:20260425T125148
CREATED:20231006T233639Z
LAST-MODIFIED:20260125T143033Z
UID:10003643-1907833500-1907835300@eccridgetown.ca
SUMMARY:Pre-service Coffee
DESCRIPTION:Join us Sunday morning before Service at 9:45 – 10:15am
URL:https://eccridgetown.ca/event/pre-service-coffee-fellowship/2030-06-16/
END:VEVENT
BEGIN:VEVENT
DTSTART;TZID=America/Toronto:20300616T103000
DTEND;TZID=America/Toronto:20300616T120000
DTSTAMP:20260425T125148
CREATED:20251029T213214Z
LAST-MODIFIED:20260125T143221Z
UID:10003269-1907836200-1907841600@eccridgetown.ca
SUMMARY:Sunday Morning Worship
DESCRIPTION:Everyone welcome!
URL:https://eccridgetown.ca/event/sunday-morning-service-2-5-2/2030-06-16/
END:VEVENT
BEGIN:VEVENT
DTSTART;TZID=America/Toronto:20300623T090000
DTEND;TZID=America/Toronto:20300623T103000
DTSTAMP:20260425T125148
CREATED:20240430T215324Z
LAST-MODIFIED:20260125T142754Z
UID:10003714-1908435600-1908441000@eccridgetown.ca
SUMMARY:ECC Worship Singers Practice
DESCRIPTION:Anyone ages 10 or older who would like to sing or play a musical instrument come and join us!
URL:https://eccridgetown.ca/event/ecc-worship-singers-practice/2030-06-23/
END:VEVENT
BEGIN:VEVENT
DTSTART;TZID=America/Toronto:20300623T094500
DTEND;TZID=America/Toronto:20300623T101500
DTSTAMP:20260425T125149
CREATED:20231006T233639Z
LAST-MODIFIED:20260125T143033Z
UID:10003644-1908438300-1908440100@eccridgetown.ca
SUMMARY:Pre-service Coffee
DESCRIPTION:Join us Sunday morning before Service at 9:45 – 10:15am
URL:https://eccridgetown.ca/event/pre-service-coffee-fellowship/2030-06-23/
END:VEVENT
BEGIN:VEVENT
DTSTART;TZID=America/Toronto:20300623T103000
DTEND;TZID=America/Toronto:20300623T120000
DTSTAMP:20260425T125149
CREATED:20251029T213214Z
LAST-MODIFIED:20260125T143221Z
UID:10003270-1908441000-1908446400@eccridgetown.ca
SUMMARY:Sunday Morning Worship
DESCRIPTION:Everyone welcome!
URL:https://eccridgetown.ca/event/sunday-morning-service-2-5-2/2030-06-23/
END:VEVENT
BEGIN:VEVENT
DTSTART;TZID=America/Toronto:20300626T133000
DTEND;TZID=America/Toronto:20300626T150000
DTSTAMP:20260425T125149
CREATED:20260226T220327Z
LAST-MODIFIED:20260226T220328Z
UID:10003547-1908711000-1908716400@eccridgetown.ca
SUMMARY:Ladies Group
DESCRIPTION:All ladies of any age are welcome to join us for a great time of fellowship\, prayer\, devotion and planning is shared by all over a cup of coffee/tea.\nOur meetings are (usually) held the last Wednesday of the month\, from 1:30 till 3pm. (with the exception of July\, August and December)  \nThe ladies group hosts special events on behalf of the congregation\, and also for those out in the community. We provide lunches for funerals\, wedding receptions\, and any other special events that are requested. We also make donations to both local and international missions. In order to make these donations\, we host fundraising events such as bake sales.
URL:https://eccridgetown.ca/event/ladies-meeting-3-3-2-3/2030-06-26/
END:VEVENT
BEGIN:VEVENT
DTSTART;TZID=America/Toronto:20300630T090000
DTEND;TZID=America/Toronto:20300630T103000
DTSTAMP:20260425T125149
CREATED:20240430T215324Z
LAST-MODIFIED:20260125T142754Z
UID:10003715-1909040400-1909045800@eccridgetown.ca
SUMMARY:ECC Worship Singers Practice
DESCRIPTION:Anyone ages 10 or older who would like to sing or play a musical instrument come and join us!
URL:https://eccridgetown.ca/event/ecc-worship-singers-practice/2030-06-30/
END:VEVENT
BEGIN:VEVENT
DTSTART;TZID=America/Toronto:20300630T094500
DTEND;TZID=America/Toronto:20300630T101500
DTSTAMP:20260425T125149
CREATED:20231006T233639Z
LAST-MODIFIED:20260125T143033Z
UID:10003645-1909043100-1909044900@eccridgetown.ca
SUMMARY:Pre-service Coffee
DESCRIPTION:Join us Sunday morning before Service at 9:45 – 10:15am
URL:https://eccridgetown.ca/event/pre-service-coffee-fellowship/2030-06-30/
END:VEVENT
BEGIN:VEVENT
DTSTART;TZID=America/Toronto:20300630T103000
DTEND;TZID=America/Toronto:20300630T120000
DTSTAMP:20260425T125149
CREATED:20251029T213214Z
LAST-MODIFIED:20260125T143221Z
UID:10003271-1909045800-1909051200@eccridgetown.ca
SUMMARY:Sunday Morning Worship
DESCRIPTION:Everyone welcome!
URL:https://eccridgetown.ca/event/sunday-morning-service-2-5-2/2030-06-30/
END:VEVENT
BEGIN:VEVENT
DTSTART;TZID=America/Toronto:20300707T090000
DTEND;TZID=America/Toronto:20300707T103000
DTSTAMP:20260425T125149
CREATED:20240430T215324Z
LAST-MODIFIED:20260125T142754Z
UID:10003716-1909645200-1909650600@eccridgetown.ca
SUMMARY:ECC Worship Singers Practice
DESCRIPTION:Anyone ages 10 or older who would like to sing or play a musical instrument come and join us!
URL:https://eccridgetown.ca/event/ecc-worship-singers-practice/2030-07-07/
END:VEVENT
BEGIN:VEVENT
DTSTART;TZID=America/Toronto:20300707T094500
DTEND;TZID=America/Toronto:20300707T101500
DTSTAMP:20260425T125149
CREATED:20231006T233639Z
LAST-MODIFIED:20260125T143033Z
UID:10003646-1909647900-1909649700@eccridgetown.ca
SUMMARY:Pre-service Coffee
DESCRIPTION:Join us Sunday morning before Service at 9:45 – 10:15am
URL:https://eccridgetown.ca/event/pre-service-coffee-fellowship/2030-07-07/
END:VEVENT
BEGIN:VEVENT
DTSTART;TZID=America/Toronto:20300707T103000
DTEND;TZID=America/Toronto:20300707T120000
DTSTAMP:20260425T125149
CREATED:20250522T160845Z
LAST-MODIFIED:20250902T215059Z
UID:10003727-1909650600-1909656000@eccridgetown.ca
SUMMARY:Food Bank Collection
DESCRIPTION:Please bring your donations the first Sunday of every month for our local Food Bank at the Salvation Army.  \nEven though the Thrift Store location has closed\, Food Bank services in Ridgetown will continue.
URL:https://eccridgetown.ca/event/food-bank-collection-2/2030-07-07/
END:VEVENT
BEGIN:VEVENT
DTSTART;TZID=America/Toronto:20300707T103000
DTEND;TZID=America/Toronto:20300707T120000
DTSTAMP:20260425T125149
CREATED:20251029T213214Z
LAST-MODIFIED:20260125T143221Z
UID:10003272-1909650600-1909656000@eccridgetown.ca
SUMMARY:Sunday Morning Worship
DESCRIPTION:Everyone welcome!
URL:https://eccridgetown.ca/event/sunday-morning-service-2-5-2/2030-07-07/
END:VEVENT
BEGIN:VEVENT
DTSTART;TZID=America/Toronto:20300714T090000
DTEND;TZID=America/Toronto:20300714T103000
DTSTAMP:20260425T125149
CREATED:20240430T215324Z
LAST-MODIFIED:20260125T142754Z
UID:10003717-1910250000-1910255400@eccridgetown.ca
SUMMARY:ECC Worship Singers Practice
DESCRIPTION:Anyone ages 10 or older who would like to sing or play a musical instrument come and join us!
URL:https://eccridgetown.ca/event/ecc-worship-singers-practice/2030-07-14/
END:VEVENT
BEGIN:VEVENT
DTSTART;TZID=America/Toronto:20300714T094500
DTEND;TZID=America/Toronto:20300714T101500
DTSTAMP:20260425T125149
CREATED:20231006T233639Z
LAST-MODIFIED:20260125T143033Z
UID:10003647-1910252700-1910254500@eccridgetown.ca
SUMMARY:Pre-service Coffee
DESCRIPTION:Join us Sunday morning before Service at 9:45 – 10:15am
URL:https://eccridgetown.ca/event/pre-service-coffee-fellowship/2030-07-14/
END:VEVENT
BEGIN:VEVENT
DTSTART;TZID=America/Toronto:20300714T103000
DTEND;TZID=America/Toronto:20300714T120000
DTSTAMP:20260425T125149
CREATED:20251029T213214Z
LAST-MODIFIED:20260125T143221Z
UID:10003273-1910255400-1910260800@eccridgetown.ca
SUMMARY:Sunday Morning Worship
DESCRIPTION:Everyone welcome!
URL:https://eccridgetown.ca/event/sunday-morning-service-2-5-2/2030-07-14/
END:VEVENT
BEGIN:VEVENT
DTSTART;TZID=America/Toronto:20300721T090000
DTEND;TZID=America/Toronto:20300721T103000
DTSTAMP:20260425T125149
CREATED:20240430T215324Z
LAST-MODIFIED:20260125T142754Z
UID:10003718-1910854800-1910860200@eccridgetown.ca
SUMMARY:ECC Worship Singers Practice
DESCRIPTION:Anyone ages 10 or older who would like to sing or play a musical instrument come and join us!
URL:https://eccridgetown.ca/event/ecc-worship-singers-practice/2030-07-21/
END:VEVENT
BEGIN:VEVENT
DTSTART;TZID=America/Toronto:20300721T094500
DTEND;TZID=America/Toronto:20300721T101500
DTSTAMP:20260425T125149
CREATED:20231006T233639Z
LAST-MODIFIED:20260125T143033Z
UID:10003648-1910857500-1910859300@eccridgetown.ca
SUMMARY:Pre-service Coffee
DESCRIPTION:Join us Sunday morning before Service at 9:45 – 10:15am
URL:https://eccridgetown.ca/event/pre-service-coffee-fellowship/2030-07-21/
END:VEVENT
BEGIN:VEVENT
DTSTART;TZID=America/Toronto:20300721T103000
DTEND;TZID=America/Toronto:20300721T120000
DTSTAMP:20260425T125149
CREATED:20251029T213214Z
LAST-MODIFIED:20260125T143221Z
UID:10003274-1910860200-1910865600@eccridgetown.ca
SUMMARY:Sunday Morning Worship
DESCRIPTION:Everyone welcome!
URL:https://eccridgetown.ca/event/sunday-morning-service-2-5-2/2030-07-21/
END:VEVENT
BEGIN:VEVENT
DTSTART;TZID=America/Toronto:20300724T133000
DTEND;TZID=America/Toronto:20300724T150000
DTSTAMP:20260425T125149
CREATED:20260226T220327Z
LAST-MODIFIED:20260226T220328Z
UID:10003548-1911130200-1911135600@eccridgetown.ca
SUMMARY:Ladies Group
DESCRIPTION:All ladies of any age are welcome to join us for a great time of fellowship\, prayer\, devotion and planning is shared by all over a cup of coffee/tea.\nOur meetings are (usually) held the last Wednesday of the month\, from 1:30 till 3pm. (with the exception of July\, August and December)  \nThe ladies group hosts special events on behalf of the congregation\, and also for those out in the community. We provide lunches for funerals\, wedding receptions\, and any other special events that are requested. We also make donations to both local and international missions. In order to make these donations\, we host fundraising events such as bake sales.
URL:https://eccridgetown.ca/event/ladies-meeting-3-3-2-3/2030-07-24/
END:VEVENT
BEGIN:VEVENT
DTSTART;TZID=America/Toronto:20300728T090000
DTEND;TZID=America/Toronto:20300728T103000
DTSTAMP:20260425T125149
CREATED:20240430T215324Z
LAST-MODIFIED:20260125T142754Z
UID:10003719-1911459600-1911465000@eccridgetown.ca
SUMMARY:ECC Worship Singers Practice
DESCRIPTION:Anyone ages 10 or older who would like to sing or play a musical instrument come and join us!
URL:https://eccridgetown.ca/event/ecc-worship-singers-practice/2030-07-28/
END:VEVENT
BEGIN:VEVENT
DTSTART;TZID=America/Toronto:20300728T094500
DTEND;TZID=America/Toronto:20300728T101500
DTSTAMP:20260425T125149
CREATED:20231006T233639Z
LAST-MODIFIED:20260125T143033Z
UID:10003649-1911462300-1911464100@eccridgetown.ca
SUMMARY:Pre-service Coffee
DESCRIPTION:Join us Sunday morning before Service at 9:45 – 10:15am
URL:https://eccridgetown.ca/event/pre-service-coffee-fellowship/2030-07-28/
END:VEVENT
BEGIN:VEVENT
DTSTART;TZID=America/Toronto:20300728T103000
DTEND;TZID=America/Toronto:20300728T120000
DTSTAMP:20260425T125149
CREATED:20251029T213214Z
LAST-MODIFIED:20260125T143221Z
UID:10003275-1911465000-1911470400@eccridgetown.ca
SUMMARY:Sunday Morning Worship
DESCRIPTION:Everyone welcome!
URL:https://eccridgetown.ca/event/sunday-morning-service-2-5-2/2030-07-28/
END:VEVENT
BEGIN:VEVENT
DTSTART;TZID=America/Toronto:20300804T090000
DTEND;TZID=America/Toronto:20300804T103000
DTSTAMP:20260425T125149
CREATED:20240430T215324Z
LAST-MODIFIED:20260125T142754Z
UID:10003720-1912064400-1912069800@eccridgetown.ca
SUMMARY:ECC Worship Singers Practice
DESCRIPTION:Anyone ages 10 or older who would like to sing or play a musical instrument come and join us!
URL:https://eccridgetown.ca/event/ecc-worship-singers-practice/2030-08-04/
END:VEVENT
BEGIN:VEVENT
DTSTART;TZID=America/Toronto:20300804T094500
DTEND;TZID=America/Toronto:20300804T101500
DTSTAMP:20260425T125149
CREATED:20231006T233639Z
LAST-MODIFIED:20260125T143033Z
UID:10003650-1912067100-1912068900@eccridgetown.ca
SUMMARY:Pre-service Coffee
DESCRIPTION:Join us Sunday morning before Service at 9:45 – 10:15am
URL:https://eccridgetown.ca/event/pre-service-coffee-fellowship/2030-08-04/
END:VEVENT
BEGIN:VEVENT
DTSTART;TZID=America/Toronto:20300804T103000
DTEND;TZID=America/Toronto:20300804T120000
DTSTAMP:20260425T125149
CREATED:20250522T160845Z
LAST-MODIFIED:20250902T215059Z
UID:10003728-1912069800-1912075200@eccridgetown.ca
SUMMARY:Food Bank Collection
DESCRIPTION:Please bring your donations the first Sunday of every month for our local Food Bank at the Salvation Army.  \nEven though the Thrift Store location has closed\, Food Bank services in Ridgetown will continue.
URL:https://eccridgetown.ca/event/food-bank-collection-2/2030-08-04/
END:VEVENT
END:VCALENDAR