BEGIN:VCALENDAR
VERSION:2.0
PRODID:-//Emmanuel Congregational Church - ECPv6.2.3//NONSGML v1.0//EN
CALSCALE:GREGORIAN
METHOD:PUBLISH
X-WR-CALNAME:Emmanuel Congregational Church
X-ORIGINAL-URL:https://eccridgetown.ca
X-WR-CALDESC:Events for Emmanuel Congregational Church
REFRESH-INTERVAL;VALUE=DURATION:PT1H
X-Robots-Tag:noindex
X-PUBLISHED-TTL:PT1H
BEGIN:VTIMEZONE
TZID:America/Toronto
BEGIN:DAYLIGHT
TZOFFSETFROM:-0500
TZOFFSETTO:-0400
TZNAME:EDT
DTSTART:20230312T070000
END:DAYLIGHT
BEGIN:STANDARD
TZOFFSETFROM:-0400
TZOFFSETTO:-0500
TZNAME:EST
DTSTART:20231105T060000
END:STANDARD
END:VTIMEZONE
BEGIN:VEVENT
DTSTART;TZID=America/Toronto:20231219T070000
DTEND;TZID=America/Toronto:20231219T203000
DTSTAMP:20260425T195042
CREATED:20231201T211838Z
LAST-MODIFIED:20231212T161433Z
UID:10001706-1702969200-1703017800@eccridgetown.ca
SUMMARY:NO Bible Study
DESCRIPTION:There will be no Bible Study Dec.12\, 2023 to Jan.9\, 2024.\nBible Study will resume again on January 16\, 2024.
URL:https://eccridgetown.ca/event/no-bible-study/2023-12-19/
END:VEVENT
BEGIN:VEVENT
DTSTART;TZID=America/Toronto:20231217T103000
DTEND;TZID=America/Toronto:20231217T120000
DTSTAMP:20260425T195042
CREATED:20231006T152930Z
LAST-MODIFIED:20241202T204118Z
UID:10000304-1702809000-1702814400@eccridgetown.ca
SUMMARY:Sunday Morning Worship
DESCRIPTION:
URL:https://eccridgetown.ca/event/sunday-morning-service-2-3/2023-12-17/
END:VEVENT
BEGIN:VEVENT
DTSTART;TZID=America/Toronto:20231217T094500
DTEND;TZID=America/Toronto:20231217T101500
DTSTAMP:20260425T195042
CREATED:20231006T233639Z
LAST-MODIFIED:20260125T143033Z
UID:10001445-1702806300-1702808100@eccridgetown.ca
SUMMARY:Pre-service Coffee
DESCRIPTION:Join us Sunday morning before Service at 9:45 – 10:15am
URL:https://eccridgetown.ca/event/pre-service-coffee-fellowship/2023-12-17/
END:VEVENT
BEGIN:VEVENT
DTSTART;TZID=America/Toronto:20231215T190000
DTEND;TZID=America/Toronto:20231215T210000
DTSTAMP:20260425T195042
CREATED:20231215T004951Z
LAST-MODIFIED:20231215T005044Z
UID:10001372-1702666800-1702674000@eccridgetown.ca
SUMMARY:Lion Heart Youth Group
DESCRIPTION:
URL:https://eccridgetown.ca/event/youth-group-service-2-2/2023-12-15/
END:VEVENT
BEGIN:VEVENT
DTSTART;TZID=America/Toronto:20231212T070000
DTEND;TZID=America/Toronto:20231212T203000
DTSTAMP:20260425T195042
CREATED:20231201T211838Z
LAST-MODIFIED:20231212T161433Z
UID:10001735-1702364400-1702413000@eccridgetown.ca
SUMMARY:NO Bible Study
DESCRIPTION:There will be no Bible Study Dec.12\, 2023 to Jan.9\, 2024.\nBible Study will resume again on January 16\, 2024.
URL:https://eccridgetown.ca/event/no-bible-study/2023-12-12/
END:VEVENT
BEGIN:VEVENT
DTSTART;TZID=America/Toronto:20231210T183000
DTEND;TZID=America/Toronto:20231210T193000
DTSTAMP:20260425T195042
CREATED:20231130T214357Z
LAST-MODIFIED:20231130T214357Z
UID:10001705-1702233000-1702236600@eccridgetown.ca
SUMMARY:Living Nativity
DESCRIPTION:Bring the whole family!\nThe Christmas story will be told from the perspective of the “Crippled Lamb” written by Max Lucado.\nHot chocolate will be available for everyone!
URL:https://eccridgetown.ca/event/living-nativity/
LOCATION:New Ridgetown Fairgrounds Pavilion\, behind Tim Hortons\, Ridgetown
END:VEVENT
BEGIN:VEVENT
DTSTART;TZID=America/Toronto:20231210T103000
DTEND;TZID=America/Toronto:20231210T120000
DTSTAMP:20260425T195042
CREATED:20231006T152930Z
LAST-MODIFIED:20241202T204118Z
UID:10000303-1702204200-1702209600@eccridgetown.ca
SUMMARY:Sunday Morning Worship
DESCRIPTION:
URL:https://eccridgetown.ca/event/sunday-morning-service-2-3/2023-12-10/
END:VEVENT
BEGIN:VEVENT
DTSTART;TZID=America/Toronto:20231210T094500
DTEND;TZID=America/Toronto:20231210T101500
DTSTAMP:20260425T195042
CREATED:20231006T233639Z
LAST-MODIFIED:20260125T143033Z
UID:10001444-1702201500-1702203300@eccridgetown.ca
SUMMARY:Pre-service Coffee
DESCRIPTION:Join us Sunday morning before Service at 9:45 – 10:15am
URL:https://eccridgetown.ca/event/pre-service-coffee-fellowship/2023-12-10/
END:VEVENT
BEGIN:VEVENT
DTSTART;TZID=America/Toronto:20231208T190000
DTEND;TZID=America/Toronto:20231208T210000
DTSTAMP:20260425T195042
CREATED:20231002T181705Z
LAST-MODIFIED:20231215T004730Z
UID:10001371-1702062000-1702069200@eccridgetown.ca
SUMMARY:Lion Heart Youth Group
DESCRIPTION:
URL:https://eccridgetown.ca/event/youth-group-service-2/2023-12-08/
END:VEVENT
BEGIN:VEVENT
DTSTART;TZID=America/Toronto:20231205T190000
DTEND;TZID=America/Toronto:20231205T203000
DTSTAMP:20260425T195042
CREATED:20231201T212102Z
LAST-MODIFIED:20231212T161726Z
UID:10001280-1701802800-1701808200@eccridgetown.ca
SUMMARY:Bible Study
DESCRIPTION:Fall Bible Study on Tuesday Evenings 7 pm – 8/8:30\nThe Book of Daniel
URL:https://eccridgetown.ca/event/bible-study-2-2/
END:VEVENT
BEGIN:VEVENT
DTSTART;TZID=America/Toronto:20231203T170000
DTEND;TZID=America/Toronto:20231203T200000
DTSTAMP:20260425T195042
CREATED:20231102T155357Z
LAST-MODIFIED:20231130T215332Z
UID:10001704-1701622800-1701633600@eccridgetown.ca
SUMMARY:Pot Luck Family Christmas Dinner
DESCRIPTION:Bring your favourite dish and come enjoy the fellowship of our church family. The Pot Luck Dinner will be followed by Christmas caroling in the sanctuary.
URL:https://eccridgetown.ca/event/pot-luck-family-christmas-dinner/
END:VEVENT
BEGIN:VEVENT
DTSTART;TZID=America/Toronto:20231203T103000
DTEND;TZID=America/Toronto:20231203T120000
DTSTAMP:20260425T195042
CREATED:20231006T152930Z
LAST-MODIFIED:20241202T204118Z
UID:10000302-1701599400-1701604800@eccridgetown.ca
SUMMARY:Sunday Morning Worship
DESCRIPTION:
URL:https://eccridgetown.ca/event/sunday-morning-service-2-3/2023-12-03/
END:VEVENT
BEGIN:VEVENT
DTSTART;TZID=America/Toronto:20231203T103000
DTEND;TZID=America/Toronto:20231203T120000
DTSTAMP:20260425T195042
CREATED:20230918T185756Z
LAST-MODIFIED:20230918T185756Z
UID:10001115-1701599400-1701604800@eccridgetown.ca
SUMMARY:Food Bank Collection
DESCRIPTION:First Sunday of every month!
URL:https://eccridgetown.ca/event/food-bank-collection/2023-12-03/
END:VEVENT
BEGIN:VEVENT
DTSTART;TZID=America/Toronto:20231203T094500
DTEND;TZID=America/Toronto:20231203T101500
DTSTAMP:20260425T195042
CREATED:20231006T233639Z
LAST-MODIFIED:20260125T143033Z
UID:10001443-1701596700-1701598500@eccridgetown.ca
SUMMARY:Pre-service Coffee
DESCRIPTION:Join us Sunday morning before Service at 9:45 – 10:15am
URL:https://eccridgetown.ca/event/pre-service-coffee-fellowship/2023-12-03/
END:VEVENT
BEGIN:VEVENT
DTSTART;TZID=America/Toronto:20231202T090000
DTEND;TZID=America/Toronto:20231202T120000
DTSTAMP:20260425T195042
CREATED:20231102T154911Z
LAST-MODIFIED:20231102T154911Z
UID:10001703-1701507600-1701518400@eccridgetown.ca
SUMMARY:Bake Sale
DESCRIPTION:Don’t miss out on all the scrumptious goodies available at this annual Ladies Group fundraiser event!
URL:https://eccridgetown.ca/event/bake-sale/
END:VEVENT
BEGIN:VEVENT
DTSTART;TZID=America/Toronto:20231201T190000
DTEND;TZID=America/Toronto:20231201T210000
DTSTAMP:20260425T195042
CREATED:20231002T181705Z
LAST-MODIFIED:20231215T004730Z
UID:10001370-1701457200-1701464400@eccridgetown.ca
SUMMARY:Lion Heart Youth Group
DESCRIPTION:
URL:https://eccridgetown.ca/event/youth-group-service-2/2023-12-01/
END:VEVENT
BEGIN:VEVENT
DTSTART;TZID=America/Toronto:20231129T133000
DTEND;TZID=America/Toronto:20231129T150000
DTSTAMP:20260425T195042
CREATED:20230918T185954Z
LAST-MODIFIED:20231024T232510Z
UID:10001131-1701264600-1701270000@eccridgetown.ca
SUMMARY:Ladies Group
DESCRIPTION:All ladies of any age are welcome to join us for a great time of fellowship. Our meetings are held the last Wednesday of the month\, from 1:30 till 3pm. \nThe ladies group hosts special events on behalf of the congregation\, and also for those out in the community. We provide lunches for funerals\, wedding receptions\, and any other special events that are requested. We also make donations to both local and international missions. In order to make these donations\, we host fundraising events such as bake sales. \n 
URL:https://eccridgetown.ca/event/ladies-meeting/2023-11-29/
END:VEVENT
BEGIN:VEVENT
DTSTART;TZID=America/Toronto:20231128T190000
DTEND;TZID=America/Toronto:20231128T203000
DTSTAMP:20260425T195042
CREATED:20231006T233300Z
LAST-MODIFIED:20231006T233311Z
UID:10001279-1701198000-1701203400@eccridgetown.ca
SUMMARY:Bible Study
DESCRIPTION:Fall Bible Study on Tuesday Evenings 7 pm – 8/8:30\nThe Book of Daniel
URL:https://eccridgetown.ca/event/bible-study-2/2023-11-28/
END:VEVENT
BEGIN:VEVENT
DTSTART;TZID=America/Toronto:20231126T103000
DTEND;TZID=America/Toronto:20231126T120000
DTSTAMP:20260425T195042
CREATED:20231006T152930Z
LAST-MODIFIED:20241202T204118Z
UID:10000301-1700994600-1701000000@eccridgetown.ca
SUMMARY:Sunday Morning Worship
DESCRIPTION:
URL:https://eccridgetown.ca/event/sunday-morning-service-2-3/2023-11-26/
END:VEVENT
BEGIN:VEVENT
DTSTART;TZID=America/Toronto:20231126T094500
DTEND;TZID=America/Toronto:20231126T101500
DTSTAMP:20260425T195042
CREATED:20231006T233639Z
LAST-MODIFIED:20260125T143033Z
UID:10001442-1700991900-1700993700@eccridgetown.ca
SUMMARY:Pre-service Coffee
DESCRIPTION:Join us Sunday morning before Service at 9:45 – 10:15am
URL:https://eccridgetown.ca/event/pre-service-coffee-fellowship/2023-11-26/
END:VEVENT
BEGIN:VEVENT
DTSTART;TZID=America/Toronto:20231124T190000
DTEND;TZID=America/Toronto:20231124T210000
DTSTAMP:20260425T195042
CREATED:20231002T181705Z
LAST-MODIFIED:20231215T004730Z
UID:10001369-1700852400-1700859600@eccridgetown.ca
SUMMARY:Lion Heart Youth Group
DESCRIPTION:
URL:https://eccridgetown.ca/event/youth-group-service-2/2023-11-24/
END:VEVENT
BEGIN:VEVENT
DTSTART;TZID=America/Toronto:20231121T190000
DTEND;TZID=America/Toronto:20231121T203000
DTSTAMP:20260425T195042
CREATED:20231006T233300Z
LAST-MODIFIED:20231006T233311Z
UID:10001278-1700593200-1700598600@eccridgetown.ca
SUMMARY:Bible Study
DESCRIPTION:Fall Bible Study on Tuesday Evenings 7 pm – 8/8:30\nThe Book of Daniel
URL:https://eccridgetown.ca/event/bible-study-2/2023-11-21/
END:VEVENT
BEGIN:VEVENT
DTSTART;TZID=America/Toronto:20231119T103000
DTEND;TZID=America/Toronto:20231119T120000
DTSTAMP:20260425T195042
CREATED:20231006T152930Z
LAST-MODIFIED:20241202T204118Z
UID:10000300-1700389800-1700395200@eccridgetown.ca
SUMMARY:Sunday Morning Worship
DESCRIPTION:
URL:https://eccridgetown.ca/event/sunday-morning-service-2-3/2023-11-19/
END:VEVENT
BEGIN:VEVENT
DTSTART;TZID=America/Toronto:20231119T094500
DTEND;TZID=America/Toronto:20231119T101500
DTSTAMP:20260425T195042
CREATED:20231006T233639Z
LAST-MODIFIED:20260125T143033Z
UID:10001441-1700387100-1700388900@eccridgetown.ca
SUMMARY:Pre-service Coffee
DESCRIPTION:Join us Sunday morning before Service at 9:45 – 10:15am
URL:https://eccridgetown.ca/event/pre-service-coffee-fellowship/2023-11-19/
END:VEVENT
BEGIN:VEVENT
DTSTART;TZID=America/Toronto:20231117T190000
DTEND;TZID=America/Toronto:20231117T210000
DTSTAMP:20260425T195042
CREATED:20231002T181705Z
LAST-MODIFIED:20231215T004730Z
UID:10001368-1700247600-1700254800@eccridgetown.ca
SUMMARY:Lion Heart Youth Group
DESCRIPTION:
URL:https://eccridgetown.ca/event/youth-group-service-2/2023-11-17/
END:VEVENT
BEGIN:VEVENT
DTSTART;TZID=America/Toronto:20231114T190000
DTEND;TZID=America/Toronto:20231114T203000
DTSTAMP:20260425T195042
CREATED:20231006T233300Z
LAST-MODIFIED:20231006T233311Z
UID:10001277-1699988400-1699993800@eccridgetown.ca
SUMMARY:Bible Study
DESCRIPTION:Fall Bible Study on Tuesday Evenings 7 pm – 8/8:30\nThe Book of Daniel
URL:https://eccridgetown.ca/event/bible-study-2/2023-11-14/
END:VEVENT
BEGIN:VEVENT
DTSTART;TZID=America/Toronto:20231112T103000
DTEND;TZID=America/Toronto:20231112T120000
DTSTAMP:20260425T195042
CREATED:20231006T152930Z
LAST-MODIFIED:20241202T204118Z
UID:10000299-1699785000-1699790400@eccridgetown.ca
SUMMARY:Sunday Morning Worship
DESCRIPTION:
URL:https://eccridgetown.ca/event/sunday-morning-service-2-3/2023-11-12/
END:VEVENT
BEGIN:VEVENT
DTSTART;TZID=America/Toronto:20231112T103000
DTEND;TZID=America/Toronto:20231112T120000
DTSTAMP:20260425T195042
CREATED:20231006T152604Z
LAST-MODIFIED:20231006T152621Z
UID:10001432-1699785000-1699790400@eccridgetown.ca
SUMMARY:Operation Christmas Child
DESCRIPTION:Deadline for completed shoeboxes and Children will be packing boxes.
URL:https://eccridgetown.ca/event/operation-christmas-child/
END:VEVENT
BEGIN:VEVENT
DTSTART;TZID=America/Toronto:20231112T094500
DTEND;TZID=America/Toronto:20231112T101500
DTSTAMP:20260425T195042
CREATED:20231006T233639Z
LAST-MODIFIED:20260125T143033Z
UID:10001440-1699782300-1699784100@eccridgetown.ca
SUMMARY:Pre-service Coffee
DESCRIPTION:Join us Sunday morning before Service at 9:45 – 10:15am
URL:https://eccridgetown.ca/event/pre-service-coffee-fellowship/2023-11-12/
END:VEVENT
BEGIN:VEVENT
DTSTART;TZID=America/Toronto:20231110T190000
DTEND;TZID=America/Toronto:20231110T210000
DTSTAMP:20260425T195042
CREATED:20231002T181705Z
LAST-MODIFIED:20231215T004730Z
UID:10001367-1699642800-1699650000@eccridgetown.ca
SUMMARY:Lion Heart Youth Group
DESCRIPTION:
URL:https://eccridgetown.ca/event/youth-group-service-2/2023-11-10/
END:VEVENT
END:VCALENDAR