BEGIN:VCALENDAR
VERSION:2.0
PRODID:-//Emmanuel Congregational Church - ECPv6.2.3//NONSGML v1.0//EN
CALSCALE:GREGORIAN
METHOD:PUBLISH
X-ORIGINAL-URL:https://eccridgetown.ca
X-WR-CALDESC:Events for Emmanuel Congregational Church
REFRESH-INTERVAL;VALUE=DURATION:PT1H
X-Robots-Tag:noindex
X-PUBLISHED-TTL:PT1H
BEGIN:VTIMEZONE
TZID:America/Toronto
BEGIN:DAYLIGHT
TZOFFSETFROM:-0500
TZOFFSETTO:-0400
TZNAME:EDT
DTSTART:20300310T070000
END:DAYLIGHT
BEGIN:STANDARD
TZOFFSETFROM:-0400
TZOFFSETTO:-0500
TZNAME:EST
DTSTART:20301103T060000
END:STANDARD
END:VTIMEZONE
BEGIN:VEVENT
DTSTART;TZID=America/Toronto:20300421T094500
DTEND;TZID=America/Toronto:20300421T101500
DTSTAMP:20260425T092542
CREATED:20231006T233639Z
LAST-MODIFIED:20260125T143033Z
UID:10003635-1902995100-1902996900@eccridgetown.ca
SUMMARY:Pre-service Coffee
DESCRIPTION:Join us Sunday morning before Service at 9:45 – 10:15am
URL:https://eccridgetown.ca/event/pre-service-coffee-fellowship/2030-04-21/
END:VEVENT
BEGIN:VEVENT
DTSTART;TZID=America/Toronto:20300421T103000
DTEND;TZID=America/Toronto:20300421T120000
DTSTAMP:20260425T092542
CREATED:20251029T213214Z
LAST-MODIFIED:20260125T143221Z
UID:10003248-1902997800-1903003200@eccridgetown.ca
SUMMARY:Sunday Morning Worship
DESCRIPTION:Everyone welcome!
URL:https://eccridgetown.ca/event/sunday-morning-service-2-5-2/2030-04-21/
END:VEVENT
BEGIN:VEVENT
DTSTART;TZID=America/Toronto:20300424T133000
DTEND;TZID=America/Toronto:20300424T150000
DTSTAMP:20260425T092542
CREATED:20260226T220327Z
LAST-MODIFIED:20260226T220328Z
UID:10003545-1903267800-1903273200@eccridgetown.ca
SUMMARY:Ladies Group
DESCRIPTION:All ladies of any age are welcome to join us for a great time of fellowship\, prayer\, devotion and planning is shared by all over a cup of coffee/tea.\nOur meetings are (usually) held the last Wednesday of the month\, from 1:30 till 3pm. (with the exception of July\, August and December)  \nThe ladies group hosts special events on behalf of the congregation\, and also for those out in the community. We provide lunches for funerals\, wedding receptions\, and any other special events that are requested. We also make donations to both local and international missions. In order to make these donations\, we host fundraising events such as bake sales.
URL:https://eccridgetown.ca/event/ladies-meeting-3-3-2-3/2030-04-24/
END:VEVENT
BEGIN:VEVENT
DTSTART;TZID=America/Toronto:20300428T090000
DTEND;TZID=America/Toronto:20300428T103000
DTSTAMP:20260425T092542
CREATED:20240430T215324Z
LAST-MODIFIED:20260125T142754Z
UID:10003706-1903597200-1903602600@eccridgetown.ca
SUMMARY:ECC Worship Singers Practice
DESCRIPTION:Anyone ages 10 or older who would like to sing or play a musical instrument come and join us!
URL:https://eccridgetown.ca/event/ecc-worship-singers-practice/2030-04-28/
END:VEVENT
BEGIN:VEVENT
DTSTART;TZID=America/Toronto:20300428T094500
DTEND;TZID=America/Toronto:20300428T101500
DTSTAMP:20260425T092542
CREATED:20231006T233639Z
LAST-MODIFIED:20260125T143033Z
UID:10003636-1903599900-1903601700@eccridgetown.ca
SUMMARY:Pre-service Coffee
DESCRIPTION:Join us Sunday morning before Service at 9:45 – 10:15am
URL:https://eccridgetown.ca/event/pre-service-coffee-fellowship/2030-04-28/
END:VEVENT
BEGIN:VEVENT
DTSTART;TZID=America/Toronto:20300428T103000
DTEND;TZID=America/Toronto:20300428T120000
DTSTAMP:20260425T092542
CREATED:20251029T213214Z
LAST-MODIFIED:20260125T143221Z
UID:10003249-1903602600-1903608000@eccridgetown.ca
SUMMARY:Sunday Morning Worship
DESCRIPTION:Everyone welcome!
URL:https://eccridgetown.ca/event/sunday-morning-service-2-5-2/2030-04-28/
END:VEVENT
BEGIN:VEVENT
DTSTART;TZID=America/Toronto:20300505T090000
DTEND;TZID=America/Toronto:20300505T103000
DTSTAMP:20260425T092542
CREATED:20240430T215324Z
LAST-MODIFIED:20260125T142754Z
UID:10003707-1904202000-1904207400@eccridgetown.ca
SUMMARY:ECC Worship Singers Practice
DESCRIPTION:Anyone ages 10 or older who would like to sing or play a musical instrument come and join us!
URL:https://eccridgetown.ca/event/ecc-worship-singers-practice/2030-05-05/
END:VEVENT
BEGIN:VEVENT
DTSTART;TZID=America/Toronto:20300505T094500
DTEND;TZID=America/Toronto:20300505T101500
DTSTAMP:20260425T092542
CREATED:20231006T233639Z
LAST-MODIFIED:20260125T143033Z
UID:10003637-1904204700-1904206500@eccridgetown.ca
SUMMARY:Pre-service Coffee
DESCRIPTION:Join us Sunday morning before Service at 9:45 – 10:15am
URL:https://eccridgetown.ca/event/pre-service-coffee-fellowship/2030-05-05/
END:VEVENT
BEGIN:VEVENT
DTSTART;TZID=America/Toronto:20300505T103000
DTEND;TZID=America/Toronto:20300505T120000
DTSTAMP:20260425T092542
CREATED:20250522T160845Z
LAST-MODIFIED:20250902T215059Z
UID:10003244-1904207400-1904212800@eccridgetown.ca
SUMMARY:Food Bank Collection
DESCRIPTION:Please bring your donations the first Sunday of every month for our local Food Bank at the Salvation Army.  \nEven though the Thrift Store location has closed\, Food Bank services in Ridgetown will continue.
URL:https://eccridgetown.ca/event/food-bank-collection-2/2030-05-05/
END:VEVENT
BEGIN:VEVENT
DTSTART;TZID=America/Toronto:20300505T103000
DTEND;TZID=America/Toronto:20300505T120000
DTSTAMP:20260425T092542
CREATED:20251029T213214Z
LAST-MODIFIED:20260125T143221Z
UID:10003250-1904207400-1904212800@eccridgetown.ca
SUMMARY:Sunday Morning Worship
DESCRIPTION:Everyone welcome!
URL:https://eccridgetown.ca/event/sunday-morning-service-2-5-2/2030-05-05/
END:VEVENT
BEGIN:VEVENT
DTSTART;TZID=America/Toronto:20300512T090000
DTEND;TZID=America/Toronto:20300512T103000
DTSTAMP:20260425T092542
CREATED:20240430T215324Z
LAST-MODIFIED:20260125T142754Z
UID:10003708-1904806800-1904812200@eccridgetown.ca
SUMMARY:ECC Worship Singers Practice
DESCRIPTION:Anyone ages 10 or older who would like to sing or play a musical instrument come and join us!
URL:https://eccridgetown.ca/event/ecc-worship-singers-practice/2030-05-12/
END:VEVENT
BEGIN:VEVENT
DTSTART;TZID=America/Toronto:20300512T094500
DTEND;TZID=America/Toronto:20300512T101500
DTSTAMP:20260425T092542
CREATED:20231006T233639Z
LAST-MODIFIED:20260125T143033Z
UID:10003638-1904809500-1904811300@eccridgetown.ca
SUMMARY:Pre-service Coffee
DESCRIPTION:Join us Sunday morning before Service at 9:45 – 10:15am
URL:https://eccridgetown.ca/event/pre-service-coffee-fellowship/2030-05-12/
END:VEVENT
BEGIN:VEVENT
DTSTART;TZID=America/Toronto:20300512T103000
DTEND;TZID=America/Toronto:20300512T120000
DTSTAMP:20260425T092542
CREATED:20251029T213214Z
LAST-MODIFIED:20260125T143221Z
UID:10003251-1904812200-1904817600@eccridgetown.ca
SUMMARY:Sunday Morning Worship
DESCRIPTION:Everyone welcome!
URL:https://eccridgetown.ca/event/sunday-morning-service-2-5-2/2030-05-12/
END:VEVENT
BEGIN:VEVENT
DTSTART;TZID=America/Toronto:20300519T090000
DTEND;TZID=America/Toronto:20300519T103000
DTSTAMP:20260425T092542
CREATED:20240430T215324Z
LAST-MODIFIED:20260125T142754Z
UID:10003709-1905411600-1905417000@eccridgetown.ca
SUMMARY:ECC Worship Singers Practice
DESCRIPTION:Anyone ages 10 or older who would like to sing or play a musical instrument come and join us!
URL:https://eccridgetown.ca/event/ecc-worship-singers-practice/2030-05-19/
END:VEVENT
BEGIN:VEVENT
DTSTART;TZID=America/Toronto:20300519T094500
DTEND;TZID=America/Toronto:20300519T101500
DTSTAMP:20260425T092542
CREATED:20231006T233639Z
LAST-MODIFIED:20260125T143033Z
UID:10003639-1905414300-1905416100@eccridgetown.ca
SUMMARY:Pre-service Coffee
DESCRIPTION:Join us Sunday morning before Service at 9:45 – 10:15am
URL:https://eccridgetown.ca/event/pre-service-coffee-fellowship/2030-05-19/
END:VEVENT
BEGIN:VEVENT
DTSTART;TZID=America/Toronto:20300519T103000
DTEND;TZID=America/Toronto:20300519T120000
DTSTAMP:20260425T092542
CREATED:20251029T213214Z
LAST-MODIFIED:20260125T143221Z
UID:10003252-1905417000-1905422400@eccridgetown.ca
SUMMARY:Sunday Morning Worship
DESCRIPTION:Everyone welcome!
URL:https://eccridgetown.ca/event/sunday-morning-service-2-5-2/2030-05-19/
END:VEVENT
BEGIN:VEVENT
DTSTART;TZID=America/Toronto:20300522T133000
DTEND;TZID=America/Toronto:20300522T150000
DTSTAMP:20260425T092542
CREATED:20260226T220327Z
LAST-MODIFIED:20260226T220328Z
UID:10003546-1905687000-1905692400@eccridgetown.ca
SUMMARY:Ladies Group
DESCRIPTION:All ladies of any age are welcome to join us for a great time of fellowship\, prayer\, devotion and planning is shared by all over a cup of coffee/tea.\nOur meetings are (usually) held the last Wednesday of the month\, from 1:30 till 3pm. (with the exception of July\, August and December)  \nThe ladies group hosts special events on behalf of the congregation\, and also for those out in the community. We provide lunches for funerals\, wedding receptions\, and any other special events that are requested. We also make donations to both local and international missions. In order to make these donations\, we host fundraising events such as bake sales.
URL:https://eccridgetown.ca/event/ladies-meeting-3-3-2-3/2030-05-22/
END:VEVENT
BEGIN:VEVENT
DTSTART;TZID=America/Toronto:20300526T090000
DTEND;TZID=America/Toronto:20300526T103000
DTSTAMP:20260425T092542
CREATED:20240430T215324Z
LAST-MODIFIED:20260125T142754Z
UID:10003710-1906016400-1906021800@eccridgetown.ca
SUMMARY:ECC Worship Singers Practice
DESCRIPTION:Anyone ages 10 or older who would like to sing or play a musical instrument come and join us!
URL:https://eccridgetown.ca/event/ecc-worship-singers-practice/2030-05-26/
END:VEVENT
BEGIN:VEVENT
DTSTART;TZID=America/Toronto:20300526T094500
DTEND;TZID=America/Toronto:20300526T101500
DTSTAMP:20260425T092542
CREATED:20231006T233639Z
LAST-MODIFIED:20260125T143033Z
UID:10003640-1906019100-1906020900@eccridgetown.ca
SUMMARY:Pre-service Coffee
DESCRIPTION:Join us Sunday morning before Service at 9:45 – 10:15am
URL:https://eccridgetown.ca/event/pre-service-coffee-fellowship/2030-05-26/
END:VEVENT
BEGIN:VEVENT
DTSTART;TZID=America/Toronto:20300526T103000
DTEND;TZID=America/Toronto:20300526T120000
DTSTAMP:20260425T092542
CREATED:20251029T213214Z
LAST-MODIFIED:20260125T143221Z
UID:10003253-1906021800-1906027200@eccridgetown.ca
SUMMARY:Sunday Morning Worship
DESCRIPTION:Everyone welcome!
URL:https://eccridgetown.ca/event/sunday-morning-service-2-5-2/2030-05-26/
END:VEVENT
BEGIN:VEVENT
DTSTART;TZID=America/Toronto:20300602T090000
DTEND;TZID=America/Toronto:20300602T103000
DTSTAMP:20260425T092542
CREATED:20240430T215324Z
LAST-MODIFIED:20260125T142754Z
UID:10003711-1906621200-1906626600@eccridgetown.ca
SUMMARY:ECC Worship Singers Practice
DESCRIPTION:Anyone ages 10 or older who would like to sing or play a musical instrument come and join us!
URL:https://eccridgetown.ca/event/ecc-worship-singers-practice/2030-06-02/
END:VEVENT
BEGIN:VEVENT
DTSTART;TZID=America/Toronto:20300602T094500
DTEND;TZID=America/Toronto:20300602T101500
DTSTAMP:20260425T092542
CREATED:20231006T233639Z
LAST-MODIFIED:20260125T143033Z
UID:10003641-1906623900-1906625700@eccridgetown.ca
SUMMARY:Pre-service Coffee
DESCRIPTION:Join us Sunday morning before Service at 9:45 – 10:15am
URL:https://eccridgetown.ca/event/pre-service-coffee-fellowship/2030-06-02/
END:VEVENT
BEGIN:VEVENT
DTSTART;TZID=America/Toronto:20300602T103000
DTEND;TZID=America/Toronto:20300602T120000
DTSTAMP:20260425T092542
CREATED:20250522T160845Z
LAST-MODIFIED:20250902T215059Z
UID:10003726-1906626600-1906632000@eccridgetown.ca
SUMMARY:Food Bank Collection
DESCRIPTION:Please bring your donations the first Sunday of every month for our local Food Bank at the Salvation Army.  \nEven though the Thrift Store location has closed\, Food Bank services in Ridgetown will continue.
URL:https://eccridgetown.ca/event/food-bank-collection-2/2030-06-02/
END:VEVENT
BEGIN:VEVENT
DTSTART;TZID=America/Toronto:20300602T103000
DTEND;TZID=America/Toronto:20300602T120000
DTSTAMP:20260425T092542
CREATED:20251029T213214Z
LAST-MODIFIED:20260125T143221Z
UID:10003267-1906626600-1906632000@eccridgetown.ca
SUMMARY:Sunday Morning Worship
DESCRIPTION:Everyone welcome!
URL:https://eccridgetown.ca/event/sunday-morning-service-2-5-2/2030-06-02/
END:VEVENT
BEGIN:VEVENT
DTSTART;TZID=America/Toronto:20300609T090000
DTEND;TZID=America/Toronto:20300609T103000
DTSTAMP:20260425T092542
CREATED:20240430T215324Z
LAST-MODIFIED:20260125T142754Z
UID:10003712-1907226000-1907231400@eccridgetown.ca
SUMMARY:ECC Worship Singers Practice
DESCRIPTION:Anyone ages 10 or older who would like to sing or play a musical instrument come and join us!
URL:https://eccridgetown.ca/event/ecc-worship-singers-practice/2030-06-09/
END:VEVENT
BEGIN:VEVENT
DTSTART;TZID=America/Toronto:20300609T094500
DTEND;TZID=America/Toronto:20300609T101500
DTSTAMP:20260425T092542
CREATED:20231006T233639Z
LAST-MODIFIED:20260125T143033Z
UID:10003642-1907228700-1907230500@eccridgetown.ca
SUMMARY:Pre-service Coffee
DESCRIPTION:Join us Sunday morning before Service at 9:45 – 10:15am
URL:https://eccridgetown.ca/event/pre-service-coffee-fellowship/2030-06-09/
END:VEVENT
BEGIN:VEVENT
DTSTART;TZID=America/Toronto:20300609T103000
DTEND;TZID=America/Toronto:20300609T120000
DTSTAMP:20260425T092542
CREATED:20251029T213214Z
LAST-MODIFIED:20260125T143221Z
UID:10003268-1907231400-1907236800@eccridgetown.ca
SUMMARY:Sunday Morning Worship
DESCRIPTION:Everyone welcome!
URL:https://eccridgetown.ca/event/sunday-morning-service-2-5-2/2030-06-09/
END:VEVENT
BEGIN:VEVENT
DTSTART;TZID=America/Toronto:20300616T090000
DTEND;TZID=America/Toronto:20300616T103000
DTSTAMP:20260425T092542
CREATED:20240430T215324Z
LAST-MODIFIED:20260125T142754Z
UID:10003713-1907830800-1907836200@eccridgetown.ca
SUMMARY:ECC Worship Singers Practice
DESCRIPTION:Anyone ages 10 or older who would like to sing or play a musical instrument come and join us!
URL:https://eccridgetown.ca/event/ecc-worship-singers-practice/2030-06-16/
END:VEVENT
BEGIN:VEVENT
DTSTART;TZID=America/Toronto:20300616T094500
DTEND;TZID=America/Toronto:20300616T101500
DTSTAMP:20260425T092542
CREATED:20231006T233639Z
LAST-MODIFIED:20260125T143033Z
UID:10003643-1907833500-1907835300@eccridgetown.ca
SUMMARY:Pre-service Coffee
DESCRIPTION:Join us Sunday morning before Service at 9:45 – 10:15am
URL:https://eccridgetown.ca/event/pre-service-coffee-fellowship/2030-06-16/
END:VEVENT
BEGIN:VEVENT
DTSTART;TZID=America/Toronto:20300616T103000
DTEND;TZID=America/Toronto:20300616T120000
DTSTAMP:20260425T092542
CREATED:20251029T213214Z
LAST-MODIFIED:20260125T143221Z
UID:10003269-1907836200-1907841600@eccridgetown.ca
SUMMARY:Sunday Morning Worship
DESCRIPTION:Everyone welcome!
URL:https://eccridgetown.ca/event/sunday-morning-service-2-5-2/2030-06-16/
END:VEVENT
END:VCALENDAR