BEGIN:VCALENDAR
VERSION:2.0
PRODID:-//Emmanuel Congregational Church - ECPv6.2.3//NONSGML v1.0//EN
CALSCALE:GREGORIAN
METHOD:PUBLISH
X-WR-CALNAME:Emmanuel Congregational Church
X-ORIGINAL-URL:https://eccridgetown.ca
X-WR-CALDESC:Events for Emmanuel Congregational Church
REFRESH-INTERVAL;VALUE=DURATION:PT1H
X-Robots-Tag:noindex
X-PUBLISHED-TTL:PT1H
BEGIN:VTIMEZONE
TZID:America/Toronto
BEGIN:DAYLIGHT
TZOFFSETFROM:-0500
TZOFFSETTO:-0400
TZNAME:EDT
DTSTART:20250309T070000
END:DAYLIGHT
BEGIN:STANDARD
TZOFFSETFROM:-0400
TZOFFSETTO:-0500
TZNAME:EST
DTSTART:20251102T060000
END:STANDARD
END:VTIMEZONE
BEGIN:VEVENT
DTSTART;TZID=America/Toronto:20251005T103000
DTEND;TZID=America/Toronto:20251005T140000
DTSTAMP:20260421T102209
CREATED:20250902T214304Z
LAST-MODIFIED:20251003T210752Z
UID:10003552-1759660200-1759672800@eccridgetown.ca
SUMMARY:Worship Service at The Gathering Place!
DESCRIPTION:EMMANUEL WILL be closing its doors to\, as a church family\, JOIN THE GATHERING PLACE\, 66 Main Street West\, in worship & celebrating their Opening SERVICE!  \nAfter service they will be serving pulled pork!
URL:https://eccridgetown.ca/event/worship-service-at-the-gathering-place/
END:VEVENT
BEGIN:VEVENT
DTSTART;TZID=America/Toronto:20251003T190000
DTEND;TZID=America/Toronto:20251003T210000
DTSTAMP:20260421T102209
CREATED:20250909T155012Z
LAST-MODIFIED:20250923T211946Z
UID:10003757-1759518000-1759525200@eccridgetown.ca
SUMMARY:Lion Heart Youth
DESCRIPTION:Every Friday\, Lion Heart Youth gathers for an engaging\, exciting\, and uplifting experience. Our program is open to students in grade 7-12. \nEach week\, our evenings are filled with exciting activities\, insightful discussions\, and meaningful connections. \nEach night includes games\, devotions\, worship\, fun\, and fellowship. \nCheck out our home page for more details!
URL:https://eccridgetown.ca/event/lion-heart-youth-11/2025-10-03/
ATTACH;FMTTYPE=application/pdf:https://eccridgetown.ca/wp-content/uploads/2025/09/2025-26-Youth-Schedule-Sept-Jun.pdf
END:VEVENT
BEGIN:VEVENT
DTSTART;TZID=America/Toronto:20251003T180000
DTEND;TZID=America/Toronto:20251005T140000
DTSTAMP:20260421T102209
CREATED:20250902T212729Z
LAST-MODIFIED:20251003T210548Z
UID:10003551-1759514400-1759672800@eccridgetown.ca
SUMMARY:The Gathering Place – Grand Open Door Weekend
DESCRIPTION:Come join our sister church in celebrating the grand opening of their new building!
URL:https://eccridgetown.ca/event/the-gathering-place-open-door-weekend/
ATTACH;FMTTYPE=image/jpeg:https://eccridgetown.ca/wp-content/uploads/2025/09/2025-10-03-TGP-GrandOpenDoorWeekend-poster.jpg
END:VEVENT
BEGIN:VEVENT
DTSTART;TZID=America/Toronto:20251002T183000
DTEND;TZID=America/Toronto:20251002T200000
DTSTAMP:20260421T102209
CREATED:20250918T025426Z
LAST-MODIFIED:20251130T230248Z
UID:10003772-1759429800-1759435200@eccridgetown.ca
SUMMARY:Women’s Bible Study on EPHESIANS.
DESCRIPTION:It will be on Thursday nights beginning Oct. 2nd from 6:30pm – 8:00pm and it will be every other week.  \nCost is $18.65 due on/before Sept. 28th to order books. \nEphesians\nHow can we live more authentic lives?\nChristian community can be difficult to navigate.\nWe are called to live in unity with other Christians\, but that is sometimes easier said than done. Paul’s letter to the Ephesians addresses hypocrisy\, unity\, and other key issues the church still struggles with today. Dig deep into Ephesians and discover the practical insight intended to help you live and worship in harmony with your fellow believers.\nIn this Bible study you will find:\n• 14 lessons to lead you through the book of Ephesians
URL:https://eccridgetown.ca/event/womens-bible-study-on-ephesians/2025-10-02/
END:VEVENT
BEGIN:VEVENT
DTSTART;TZID=America/Toronto:20250930T190000
DTEND;TZID=America/Toronto:20250930T210000
DTSTAMP:20260421T102209
CREATED:20251001T032244Z
LAST-MODIFIED:20251217T200135Z
UID:10003788-1759258800-1759266000@eccridgetown.ca
SUMMARY:Teen Bible Quizzing Night
DESCRIPTION:Something New for Teens in Our Community! 🌟\nStarting this September\, Lion Heart Youth (grades 7–12 at The Gathering Place & Emmanuel Congregational Church) is launching a brand-new program called Bible Quizzing — and it’s open to ALL teens in the community\, whether they’ve ever been to church or not.\nThis is an awesome opportunity for students to join a team\, have fun\, and build memorization and teamwork skills in a friendly\, positive environment.\nSo\, what is it?\n👉 A fun\, game-style competition with buzzers\, teams\, and lots of fun\n👉 A chance to build confidence\, sharpen memory skills\, and make great friends\n👉 A safe space where teens are encouraged\, supported\, and challenged \n• Weekly Quizzing Nights: Beginning Tuesday\, September 16\, 7–9 PM (running September–May)\nThis year\, we’ll be exploring 1 & 2 Corinthians together — but no prior knowledge is needed! We’ll learn in a way that’s fun and engaging. And to top it off… at the end of the year we’ll take a weekend trip to Muskoka Woods! 🎉\nIf you’re looking for something new for your teen — a place that’s safe\, encouraging\, and a little competitive 😉 — come check it out!\nBring your student (and their friends!) to our Intro Night on September 9 at ECC to see what it’s all about.
URL:https://eccridgetown.ca/event/teen-bible-quizzing-night/2025-09-30/
END:VEVENT
BEGIN:VEVENT
DTSTART;TZID=America/Toronto:20250930T190000
DTEND;TZID=America/Toronto:20250930T200000
DTSTAMP:20260421T102209
CREATED:20250904T211302Z
LAST-MODIFIED:20251130T225153Z
UID:10003744-1759258800-1759262400@eccridgetown.ca
SUMMARY:Bible Study
DESCRIPTION:Our Fall Bible study lead by Pastor John will be discussing the Book of Isaiah.
URL:https://eccridgetown.ca/event/bible-study-6/2025-09-30/
END:VEVENT
BEGIN:VEVENT
DTSTART;TZID=America/Toronto:20250928T103000
DTEND;TZID=America/Toronto:20250928T120000
DTSTAMP:20260421T102209
CREATED:20250527T153920Z
LAST-MODIFIED:20250902T214428Z
UID:10002786-1759055400-1759060800@eccridgetown.ca
SUMMARY:Sunday Morning Worship
DESCRIPTION:Everyone welcome!
URL:https://eccridgetown.ca/event/sunday-morning-service-2-5/2025-09-28/
END:VEVENT
BEGIN:VEVENT
DTSTART;TZID=America/Toronto:20250928T094500
DTEND;TZID=America/Toronto:20250928T101500
DTSTAMP:20260421T102209
CREATED:20231006T233639Z
LAST-MODIFIED:20260125T143033Z
UID:10001538-1759052700-1759054500@eccridgetown.ca
SUMMARY:Pre-service Coffee
DESCRIPTION:Join us Sunday morning before Service at 9:45 – 10:15am
URL:https://eccridgetown.ca/event/pre-service-coffee-fellowship/2025-09-28/
END:VEVENT
BEGIN:VEVENT
DTSTART;TZID=America/Toronto:20250928T090000
DTEND;TZID=America/Toronto:20250928T103000
DTSTAMP:20260421T102209
CREATED:20240430T215324Z
LAST-MODIFIED:20260125T142754Z
UID:10001850-1759050000-1759055400@eccridgetown.ca
SUMMARY:ECC Worship Singers Practice
DESCRIPTION:Anyone ages 10 or older who would like to sing or play a musical instrument come and join us!
URL:https://eccridgetown.ca/event/ecc-worship-singers-practice/2025-09-28/
END:VEVENT
BEGIN:VEVENT
DTSTART;TZID=America/Toronto:20250926T190000
DTEND;TZID=America/Toronto:20250926T210000
DTSTAMP:20260421T102209
CREATED:20250909T155012Z
LAST-MODIFIED:20250923T211946Z
UID:10003756-1758913200-1758920400@eccridgetown.ca
SUMMARY:Lion Heart Youth
DESCRIPTION:Every Friday\, Lion Heart Youth gathers for an engaging\, exciting\, and uplifting experience. Our program is open to students in grade 7-12. \nEach week\, our evenings are filled with exciting activities\, insightful discussions\, and meaningful connections. \nEach night includes games\, devotions\, worship\, fun\, and fellowship. \nCheck out our home page for more details!
URL:https://eccridgetown.ca/event/lion-heart-youth-11/2025-09-26/
ATTACH;FMTTYPE=application/pdf:https://eccridgetown.ca/wp-content/uploads/2025/09/2025-26-Youth-Schedule-Sept-Jun.pdf
END:VEVENT
BEGIN:VEVENT
DTSTART;TZID=America/Toronto:20250924T133000
DTEND;TZID=America/Toronto:20250924T150000
DTSTAMP:20260421T102209
CREATED:20241128T221641Z
LAST-MODIFIED:20250902T211949Z
UID:10002495-1758720600-1758726000@eccridgetown.ca
SUMMARY:Ladies Group
DESCRIPTION:All ladies of any age are welcome to join us for a great time of fellowship\, prayer\, devotion and planning is shared by all over a cup of coffee/tea.\nOur meetings are (usually) held the last Wednesday of the month\, from 1:30 till 3pm. (with the exception of July\, August and December)  \nThe ladies group hosts special events on behalf of the congregation\, and also for those out in the community. We provide lunches for funerals\, wedding receptions\, and any other special events that are requested. We also make donations to both local and international missions. In order to make these donations\, we host fundraising events such as bake sales.
URL:https://eccridgetown.ca/event/ladies-meeting-3-3-2/2025-09-24/
END:VEVENT
BEGIN:VEVENT
DTSTART;TZID=America/Toronto:20250923T190000
DTEND;TZID=America/Toronto:20250923T210000
DTSTAMP:20260421T102209
CREATED:20251001T032244Z
LAST-MODIFIED:20251217T200135Z
UID:10003787-1758654000-1758661200@eccridgetown.ca
SUMMARY:Teen Bible Quizzing Night
DESCRIPTION:Something New for Teens in Our Community! 🌟\nStarting this September\, Lion Heart Youth (grades 7–12 at The Gathering Place & Emmanuel Congregational Church) is launching a brand-new program called Bible Quizzing — and it’s open to ALL teens in the community\, whether they’ve ever been to church or not.\nThis is an awesome opportunity for students to join a team\, have fun\, and build memorization and teamwork skills in a friendly\, positive environment.\nSo\, what is it?\n👉 A fun\, game-style competition with buzzers\, teams\, and lots of fun\n👉 A chance to build confidence\, sharpen memory skills\, and make great friends\n👉 A safe space where teens are encouraged\, supported\, and challenged \n• Weekly Quizzing Nights: Beginning Tuesday\, September 16\, 7–9 PM (running September–May)\nThis year\, we’ll be exploring 1 & 2 Corinthians together — but no prior knowledge is needed! We’ll learn in a way that’s fun and engaging. And to top it off… at the end of the year we’ll take a weekend trip to Muskoka Woods! 🎉\nIf you’re looking for something new for your teen — a place that’s safe\, encouraging\, and a little competitive 😉 — come check it out!\nBring your student (and their friends!) to our Intro Night on September 9 at ECC to see what it’s all about.
URL:https://eccridgetown.ca/event/teen-bible-quizzing-night/2025-09-23/
END:VEVENT
BEGIN:VEVENT
DTSTART;TZID=America/Toronto:20250923T190000
DTEND;TZID=America/Toronto:20250923T200000
DTSTAMP:20260421T102209
CREATED:20250904T211302Z
LAST-MODIFIED:20251130T225153Z
UID:10003743-1758654000-1758657600@eccridgetown.ca
SUMMARY:Bible Study
DESCRIPTION:Our Fall Bible study lead by Pastor John will be discussing the Book of Isaiah.
URL:https://eccridgetown.ca/event/bible-study-6/2025-09-23/
END:VEVENT
BEGIN:VEVENT
DTSTART;TZID=America/Toronto:20250921T150000
DTEND;TZID=America/Toronto:20250921T183000
DTSTAMP:20260421T102209
CREATED:20250918T024746Z
LAST-MODIFIED:20250918T024746Z
UID:10003771-1758466800-1758479400@eccridgetown.ca
SUMMARY:Sunday Social for Widows & Widowers
DESCRIPTION:Colin and Margaret Pool would like to invite the widows and widowers of the congregation to a Sunday Social at their place this Sunday Sept. 21\, from 3 pm – ?.  \nThere will be coffee and cake\, an activity\, supper and social time.  \nCaregivers are also welcome to attend.
URL:https://eccridgetown.ca/event/sunday-social-for-widows-widowers/
END:VEVENT
BEGIN:VEVENT
DTSTART;TZID=America/Toronto:20250921T103000
DTEND;TZID=America/Toronto:20250921T120000
DTSTAMP:20260421T102209
CREATED:20250527T153920Z
LAST-MODIFIED:20250902T214428Z
UID:10002785-1758450600-1758456000@eccridgetown.ca
SUMMARY:Sunday Morning Worship
DESCRIPTION:Everyone welcome!
URL:https://eccridgetown.ca/event/sunday-morning-service-2-5/2025-09-21/
END:VEVENT
BEGIN:VEVENT
DTSTART;TZID=America/Toronto:20250921T094500
DTEND;TZID=America/Toronto:20250921T101500
DTSTAMP:20260421T102209
CREATED:20231006T233639Z
LAST-MODIFIED:20260125T143033Z
UID:10001537-1758447900-1758449700@eccridgetown.ca
SUMMARY:Pre-service Coffee
DESCRIPTION:Join us Sunday morning before Service at 9:45 – 10:15am
URL:https://eccridgetown.ca/event/pre-service-coffee-fellowship/2025-09-21/
END:VEVENT
BEGIN:VEVENT
DTSTART;TZID=America/Toronto:20250921T090000
DTEND;TZID=America/Toronto:20250921T103000
DTSTAMP:20260421T102209
CREATED:20240430T215324Z
LAST-MODIFIED:20260125T142754Z
UID:10001849-1758445200-1758450600@eccridgetown.ca
SUMMARY:ECC Worship Singers Practice
DESCRIPTION:Anyone ages 10 or older who would like to sing or play a musical instrument come and join us!
URL:https://eccridgetown.ca/event/ecc-worship-singers-practice/2025-09-21/
END:VEVENT
BEGIN:VEVENT
DTSTART;TZID=America/Toronto:20250919T190000
DTEND;TZID=America/Toronto:20250919T210000
DTSTAMP:20260421T102209
CREATED:20250909T155012Z
LAST-MODIFIED:20250923T211946Z
UID:10003755-1758308400-1758315600@eccridgetown.ca
SUMMARY:Lion Heart Youth
DESCRIPTION:Every Friday\, Lion Heart Youth gathers for an engaging\, exciting\, and uplifting experience. Our program is open to students in grade 7-12. \nEach week\, our evenings are filled with exciting activities\, insightful discussions\, and meaningful connections. \nEach night includes games\, devotions\, worship\, fun\, and fellowship. \nCheck out our home page for more details!
URL:https://eccridgetown.ca/event/lion-heart-youth-11/2025-09-19/
ATTACH;FMTTYPE=application/pdf:https://eccridgetown.ca/wp-content/uploads/2025/09/2025-26-Youth-Schedule-Sept-Jun.pdf
END:VEVENT
BEGIN:VEVENT
DTSTART;TZID=America/Toronto:20250916T190000
DTEND;TZID=America/Toronto:20250916T210000
DTSTAMP:20260421T102209
CREATED:20251001T032244Z
LAST-MODIFIED:20251217T200135Z
UID:10003786-1758049200-1758056400@eccridgetown.ca
SUMMARY:Teen Bible Quizzing Night
DESCRIPTION:Something New for Teens in Our Community! 🌟\nStarting this September\, Lion Heart Youth (grades 7–12 at The Gathering Place & Emmanuel Congregational Church) is launching a brand-new program called Bible Quizzing — and it’s open to ALL teens in the community\, whether they’ve ever been to church or not.\nThis is an awesome opportunity for students to join a team\, have fun\, and build memorization and teamwork skills in a friendly\, positive environment.\nSo\, what is it?\n👉 A fun\, game-style competition with buzzers\, teams\, and lots of fun\n👉 A chance to build confidence\, sharpen memory skills\, and make great friends\n👉 A safe space where teens are encouraged\, supported\, and challenged \n• Weekly Quizzing Nights: Beginning Tuesday\, September 16\, 7–9 PM (running September–May)\nThis year\, we’ll be exploring 1 & 2 Corinthians together — but no prior knowledge is needed! We’ll learn in a way that’s fun and engaging. And to top it off… at the end of the year we’ll take a weekend trip to Muskoka Woods! 🎉\nIf you’re looking for something new for your teen — a place that’s safe\, encouraging\, and a little competitive 😉 — come check it out!\nBring your student (and their friends!) to our Intro Night on September 9 at ECC to see what it’s all about.
URL:https://eccridgetown.ca/event/teen-bible-quizzing-night/2025-09-16/
END:VEVENT
BEGIN:VEVENT
DTSTART;TZID=America/Toronto:20250916T190000
DTEND;TZID=America/Toronto:20250916T200000
DTSTAMP:20260421T102209
CREATED:20250522T152446Z
LAST-MODIFIED:20250904T211654Z
UID:10003182-1758049200-1758052800@eccridgetown.ca
SUMMARY:NO Bible Study
DESCRIPTION:There will be no Tuesday evening Bible Studies now through September.
URL:https://eccridgetown.ca/event/no-bible-study-4/2025-09-16/
END:VEVENT
BEGIN:VEVENT
DTSTART;TZID=America/Toronto:20250916T103000
DTEND;TZID=America/Toronto:20250916T113000
DTSTAMP:20260421T102209
CREATED:20250801T025930Z
LAST-MODIFIED:20250801T025930Z
UID:10003543-1758018600-1758022200@eccridgetown.ca
SUMMARY:Service at The Village
DESCRIPTION:Emmanuel will be hosting a worship service at Village on the Ridge Retirement Residence at 10:30am. \nWe would love you to join the residents for this special time if you are able\, but please respect the well being of the residents by staying home if you are not well. \nThese dates are always subject to change.
URL:https://eccridgetown.ca/event/service-at-the-village/
END:VEVENT
BEGIN:VEVENT
DTSTART;TZID=America/Toronto:20250914T113000
DTEND;TZID=America/Toronto:20250914T140000
DTSTAMP:20260421T102209
CREATED:20250902T211351Z
LAST-MODIFIED:20250902T211351Z
UID:10003544-1757849400-1757858400@eccridgetown.ca
SUMMARY:Sunday School Fall Kick-off
DESCRIPTION:Join us for lunch of corn on the cob\, hot dogs and watermelon.  \nYou are also invited to bring your favourite hot dog relish to share. \nAfter lunch we will have a Bucket Golf Competition. All ages can play!
URL:https://eccridgetown.ca/event/sunday-school-fall-kick-off/
ATTACH;FMTTYPE=application/pdf:https://eccridgetown.ca/wp-content/uploads/2025/09/2025-09-14-Fall-Kick-Off.pdf
END:VEVENT
BEGIN:VEVENT
DTSTART;TZID=America/Toronto:20250914T103000
DTEND;TZID=America/Toronto:20250914T120000
DTSTAMP:20260421T102209
CREATED:20250527T153920Z
LAST-MODIFIED:20250902T214428Z
UID:10002784-1757845800-1757851200@eccridgetown.ca
SUMMARY:Sunday Morning Worship
DESCRIPTION:Everyone welcome!
URL:https://eccridgetown.ca/event/sunday-morning-service-2-5/2025-09-14/
END:VEVENT
BEGIN:VEVENT
DTSTART;TZID=America/Toronto:20250914T094500
DTEND;TZID=America/Toronto:20250914T101500
DTSTAMP:20260421T102209
CREATED:20231006T233639Z
LAST-MODIFIED:20260125T143033Z
UID:10001536-1757843100-1757844900@eccridgetown.ca
SUMMARY:Pre-service Coffee
DESCRIPTION:Join us Sunday morning before Service at 9:45 – 10:15am
URL:https://eccridgetown.ca/event/pre-service-coffee-fellowship/2025-09-14/
END:VEVENT
BEGIN:VEVENT
DTSTART;TZID=America/Toronto:20250914T090000
DTEND;TZID=America/Toronto:20250914T103000
DTSTAMP:20260421T102209
CREATED:20240430T215324Z
LAST-MODIFIED:20260125T142754Z
UID:10001848-1757840400-1757845800@eccridgetown.ca
SUMMARY:ECC Worship Singers Practice
DESCRIPTION:Anyone ages 10 or older who would like to sing or play a musical instrument come and join us!
URL:https://eccridgetown.ca/event/ecc-worship-singers-practice/2025-09-14/
END:VEVENT
BEGIN:VEVENT
DTSTART;TZID=America/Toronto:20250913T140000
DTEND;TZID=America/Toronto:20250913T220000
DTSTAMP:20260421T102209
CREATED:20250909T155012Z
LAST-MODIFIED:20250923T211946Z
UID:10003754-1757772000-1757800800@eccridgetown.ca
SUMMARY:Lion Heart Youth
DESCRIPTION:Every Friday\, Lion Heart Youth gathers for an engaging\, exciting\, and uplifting experience. Our program is open to students in grade 7-12. \nEach week\, our evenings are filled with exciting activities\, insightful discussions\, and meaningful connections. \nEach night includes games\, devotions\, worship\, fun\, and fellowship. \nCheck out our home page for more details!
URL:https://eccridgetown.ca/event/lion-heart-youth-11/2025-09-13/
ATTACH;FMTTYPE=application/pdf:https://eccridgetown.ca/wp-content/uploads/2025/09/2025-26-Youth-Schedule-Sept-Jun.pdf
END:VEVENT
BEGIN:VEVENT
DTSTART;TZID=America/Toronto:20250909T190000
DTEND;TZID=America/Toronto:20250909T200000
DTSTAMP:20260421T102209
CREATED:20250522T152446Z
LAST-MODIFIED:20250904T211654Z
UID:10003181-1757444400-1757448000@eccridgetown.ca
SUMMARY:NO Bible Study
DESCRIPTION:There will be no Tuesday evening Bible Studies now through September.
URL:https://eccridgetown.ca/event/no-bible-study-4/2025-09-09/
END:VEVENT
BEGIN:VEVENT
DTSTART;TZID=America/Toronto:20250907T103000
DTEND;TZID=America/Toronto:20250907T120000
DTSTAMP:20260421T102209
CREATED:20250527T153920Z
LAST-MODIFIED:20250902T214428Z
UID:10002783-1757241000-1757246400@eccridgetown.ca
SUMMARY:Sunday Morning Worship
DESCRIPTION:Everyone welcome!
URL:https://eccridgetown.ca/event/sunday-morning-service-2-5/2025-09-07/
END:VEVENT
BEGIN:VEVENT
DTSTART;TZID=America/Toronto:20250907T103000
DTEND;TZID=America/Toronto:20250907T120000
DTSTAMP:20260421T102209
CREATED:20250522T160845Z
LAST-MODIFIED:20250902T215059Z
UID:10003188-1757241000-1757246400@eccridgetown.ca
SUMMARY:Food Bank Collection
DESCRIPTION:Please bring your donations the first Sunday of every month for our local Food Bank at the Salvation Army.  \nEven though the Thrift Store location has closed\, Food Bank services in Ridgetown will continue.
URL:https://eccridgetown.ca/event/food-bank-collection-2/2025-09-07/
END:VEVENT
BEGIN:VEVENT
DTSTART;TZID=America/Toronto:20250907T094500
DTEND;TZID=America/Toronto:20250907T101500
DTSTAMP:20260421T102209
CREATED:20231006T233639Z
LAST-MODIFIED:20260125T143033Z
UID:10001535-1757238300-1757240100@eccridgetown.ca
SUMMARY:Pre-service Coffee
DESCRIPTION:Join us Sunday morning before Service at 9:45 – 10:15am
URL:https://eccridgetown.ca/event/pre-service-coffee-fellowship/2025-09-07/
END:VEVENT
END:VCALENDAR