BEGIN:VCALENDAR
VERSION:2.0
PRODID:-//Emmanuel Congregational Church - ECPv6.2.3//NONSGML v1.0//EN
CALSCALE:GREGORIAN
METHOD:PUBLISH
X-WR-CALNAME:Emmanuel Congregational Church
X-ORIGINAL-URL:https://eccridgetown.ca
X-WR-CALDESC:Events for Emmanuel Congregational Church
REFRESH-INTERVAL;VALUE=DURATION:PT1H
X-Robots-Tag:noindex
X-PUBLISHED-TTL:PT1H
BEGIN:VTIMEZONE
TZID:America/Toronto
BEGIN:DAYLIGHT
TZOFFSETFROM:-0500
TZOFFSETTO:-0400
TZNAME:EDT
DTSTART:20230312T070000
END:DAYLIGHT
BEGIN:STANDARD
TZOFFSETFROM:-0400
TZOFFSETTO:-0500
TZNAME:EST
DTSTART:20231105T060000
END:STANDARD
BEGIN:DAYLIGHT
TZOFFSETFROM:-0500
TZOFFSETTO:-0400
TZNAME:EDT
DTSTART:20240310T070000
END:DAYLIGHT
BEGIN:STANDARD
TZOFFSETFROM:-0400
TZOFFSETTO:-0500
TZNAME:EST
DTSTART:20241103T060000
END:STANDARD
END:VTIMEZONE
BEGIN:VEVENT
DTSTART;TZID=America/Toronto:20240204T103000
DTEND;TZID=America/Toronto:20240204T120000
DTSTAMP:20260425T150354
CREATED:20230918T185756Z
LAST-MODIFIED:20230918T185756Z
UID:10001117-1707042600-1707048000@eccridgetown.ca
SUMMARY:Food Bank Collection
DESCRIPTION:First Sunday of every month!
URL:https://eccridgetown.ca/event/food-bank-collection/2024-02-04/
END:VEVENT
BEGIN:VEVENT
DTSTART;TZID=America/Toronto:20240204T094500
DTEND;TZID=America/Toronto:20240204T101500
DTSTAMP:20260425T150354
CREATED:20231006T233639Z
LAST-MODIFIED:20260125T143033Z
UID:10001452-1707039900-1707041700@eccridgetown.ca
SUMMARY:Pre-service Coffee
DESCRIPTION:Join us Sunday morning before Service at 9:45 – 10:15am
URL:https://eccridgetown.ca/event/pre-service-coffee-fellowship/2024-02-04/
END:VEVENT
BEGIN:VEVENT
DTSTART;TZID=America/Toronto:20240202T190000
DTEND;TZID=America/Toronto:20240202T210000
DTSTAMP:20260425T150354
CREATED:20231215T004951Z
LAST-MODIFIED:20231215T005044Z
UID:10001379-1706900400-1706907600@eccridgetown.ca
SUMMARY:Lion Heart Youth Group
DESCRIPTION:
URL:https://eccridgetown.ca/event/youth-group-service-2-2/2024-02-02/
END:VEVENT
BEGIN:VEVENT
DTSTART;TZID=America/Toronto:20240130T190000
DTEND;TZID=America/Toronto:20240130T203000
DTSTAMP:20260425T150354
CREATED:20231201T212936Z
LAST-MODIFIED:20240430T220644Z
UID:10001712-1706641200-1706646600@eccridgetown.ca
SUMMARY:Bible Study
DESCRIPTION:Join Pastor John in the sanctuary for Bible Study every Tuesday evening from 7-8:30pm.\nBeginning in January\, we will be studying the Book of Revelation.
URL:https://eccridgetown.ca/event/bible-study-4/2024-01-30/
END:VEVENT
BEGIN:VEVENT
DTSTART;TZID=America/Toronto:20240128T120000
DTEND;TZID=America/Toronto:20240128T130000
DTSTAMP:20260425T150354
CREATED:20240104T214019Z
LAST-MODIFIED:20240104T214130Z
UID:10001742-1706443200-1706446800@eccridgetown.ca
SUMMARY:Annual Congregational Meeting
DESCRIPTION:Emmanuel’s Annual Congregational Meeting will be held immediately following service.
URL:https://eccridgetown.ca/event/annual-congregational-meeting/
END:VEVENT
BEGIN:VEVENT
DTSTART;TZID=America/Toronto:20240128T103000
DTEND;TZID=America/Toronto:20240128T120000
DTSTAMP:20260425T150354
CREATED:20231006T152930Z
LAST-MODIFIED:20241202T204118Z
UID:10000310-1706437800-1706443200@eccridgetown.ca
SUMMARY:Sunday Morning Worship
DESCRIPTION:
URL:https://eccridgetown.ca/event/sunday-morning-service-2-3/2024-01-28/
END:VEVENT
BEGIN:VEVENT
DTSTART;TZID=America/Toronto:20240128T094500
DTEND;TZID=America/Toronto:20240128T101500
DTSTAMP:20260425T150354
CREATED:20231006T233639Z
LAST-MODIFIED:20260125T143033Z
UID:10001451-1706435100-1706436900@eccridgetown.ca
SUMMARY:Pre-service Coffee
DESCRIPTION:Join us Sunday morning before Service at 9:45 – 10:15am
URL:https://eccridgetown.ca/event/pre-service-coffee-fellowship/2024-01-28/
END:VEVENT
BEGIN:VEVENT
DTSTART;TZID=America/Toronto:20240126T190000
DTEND;TZID=America/Toronto:20240126T210000
DTSTAMP:20260425T150354
CREATED:20231215T004951Z
LAST-MODIFIED:20231215T005044Z
UID:10001378-1706295600-1706302800@eccridgetown.ca
SUMMARY:Lion Heart Youth Group
DESCRIPTION:
URL:https://eccridgetown.ca/event/youth-group-service-2-2/2024-01-26/
END:VEVENT
BEGIN:VEVENT
DTSTART;TZID=America/Toronto:20240124T133000
DTEND;TZID=America/Toronto:20240124T150000
DTSTAMP:20260425T150354
CREATED:20240104T032722Z
LAST-MODIFIED:20240104T032722Z
UID:10001740-1706103000-1706108400@eccridgetown.ca
SUMMARY:Ladies Meeting
DESCRIPTION:All ladies of any age are welcome to join us for a great time of fellowship.  \nOur meetings are (usually) held the last Wednesday of the month\, from 1:30 till 3pm. In case of inclement weather on Jan. 24\, the meeting will be held Jan. 31\, 2024. \nThe ladies group hosts special events on behalf of the congregation\, and also for those out in the community. We provide lunches for funerals\, wedding receptions\, and any other special events that are requested. We also make donations to both local and international missions. In order to make these donations\, we host fundraising events such as bake sales.
URL:https://eccridgetown.ca/event/ladies-meeting-4/
END:VEVENT
BEGIN:VEVENT
DTSTART;TZID=America/Toronto:20240123T190000
DTEND;TZID=America/Toronto:20240123T203000
DTSTAMP:20260425T150354
CREATED:20231201T212936Z
LAST-MODIFIED:20240430T220644Z
UID:10001711-1706036400-1706041800@eccridgetown.ca
SUMMARY:Bible Study
DESCRIPTION:Join Pastor John in the sanctuary for Bible Study every Tuesday evening from 7-8:30pm.\nBeginning in January\, we will be studying the Book of Revelation.
URL:https://eccridgetown.ca/event/bible-study-4/2024-01-23/
END:VEVENT
BEGIN:VEVENT
DTSTART;TZID=America/Toronto:20240121T113000
DTEND;TZID=America/Toronto:20240121T140000
DTSTAMP:20260425T150354
CREATED:20240104T213528Z
LAST-MODIFIED:20240104T213528Z
UID:10001741-1705836600-1705845600@eccridgetown.ca
SUMMARY:Anniversary Sunday Lunch
DESCRIPTION:To celebrate our Church Anniversary\, the Ladies Group & Pastoral Care Committee will be providing lunch following the service.
URL:https://eccridgetown.ca/event/anniversary-sunday-lunch/
END:VEVENT
BEGIN:VEVENT
DTSTART;TZID=America/Toronto:20240121T103000
DTEND;TZID=America/Toronto:20240121T120000
DTSTAMP:20260425T150354
CREATED:20231006T152930Z
LAST-MODIFIED:20241202T204118Z
UID:10000309-1705833000-1705838400@eccridgetown.ca
SUMMARY:Sunday Morning Worship
DESCRIPTION:
URL:https://eccridgetown.ca/event/sunday-morning-service-2-3/2024-01-21/
END:VEVENT
BEGIN:VEVENT
DTSTART;TZID=America/Toronto:20240121T094500
DTEND;TZID=America/Toronto:20240121T101500
DTSTAMP:20260425T150354
CREATED:20231006T233639Z
LAST-MODIFIED:20260125T143033Z
UID:10001450-1705830300-1705832100@eccridgetown.ca
SUMMARY:Pre-service Coffee
DESCRIPTION:Join us Sunday morning before Service at 9:45 – 10:15am
URL:https://eccridgetown.ca/event/pre-service-coffee-fellowship/2024-01-21/
END:VEVENT
BEGIN:VEVENT
DTSTART;TZID=America/Toronto:20240119T190000
DTEND;TZID=America/Toronto:20240119T210000
DTSTAMP:20260425T150354
CREATED:20231215T004951Z
LAST-MODIFIED:20231215T005044Z
UID:10001377-1705690800-1705698000@eccridgetown.ca
SUMMARY:Lion Heart Youth Group
DESCRIPTION:
URL:https://eccridgetown.ca/event/youth-group-service-2-2/2024-01-19/
END:VEVENT
BEGIN:VEVENT
DTSTART;TZID=America/Toronto:20240116T190000
DTEND;TZID=America/Toronto:20240116T203000
DTSTAMP:20260425T150354
CREATED:20231201T212936Z
LAST-MODIFIED:20240430T220644Z
UID:10001710-1705431600-1705437000@eccridgetown.ca
SUMMARY:Bible Study
DESCRIPTION:Join Pastor John in the sanctuary for Bible Study every Tuesday evening from 7-8:30pm.\nBeginning in January\, we will be studying the Book of Revelation.
URL:https://eccridgetown.ca/event/bible-study-4/2024-01-16/
END:VEVENT
BEGIN:VEVENT
DTSTART;TZID=America/Toronto:20240114T103000
DTEND;TZID=America/Toronto:20240114T120000
DTSTAMP:20260425T150354
CREATED:20231006T152930Z
LAST-MODIFIED:20241202T204118Z
UID:10000308-1705228200-1705233600@eccridgetown.ca
SUMMARY:Sunday Morning Worship
DESCRIPTION:
URL:https://eccridgetown.ca/event/sunday-morning-service-2-3/2024-01-14/
END:VEVENT
BEGIN:VEVENT
DTSTART;TZID=America/Toronto:20240114T094500
DTEND;TZID=America/Toronto:20240114T101500
DTSTAMP:20260425T150354
CREATED:20231006T233639Z
LAST-MODIFIED:20260125T143033Z
UID:10001449-1705225500-1705227300@eccridgetown.ca
SUMMARY:Pre-service Coffee
DESCRIPTION:Join us Sunday morning before Service at 9:45 – 10:15am
URL:https://eccridgetown.ca/event/pre-service-coffee-fellowship/2024-01-14/
END:VEVENT
BEGIN:VEVENT
DTSTART;TZID=America/Toronto:20240113T080000
DTEND;TZID=America/Toronto:20240113T120000
DTSTAMP:20260425T150354
CREATED:20240104T030228Z
LAST-MODIFIED:20240104T030228Z
UID:10001739-1705132800-1705147200@eccridgetown.ca
SUMMARY:Men's Breakfast/Work Bee
DESCRIPTION:After breakfast we will be cleaning and sanding all windowsills in the church. If people have a palm sander\, sanding blocks and putty knives to scrape off old caulking or sand sills that would be great!
URL:https://eccridgetown.ca/event/mens-breakfast-work-bee/
END:VEVENT
BEGIN:VEVENT
DTSTART;TZID=America/Toronto:20240112T190000
DTEND;TZID=America/Toronto:20240112T210000
DTSTAMP:20260425T150354
CREATED:20231215T004951Z
LAST-MODIFIED:20231215T005044Z
UID:10001376-1705086000-1705093200@eccridgetown.ca
SUMMARY:Lion Heart Youth Group
DESCRIPTION:
URL:https://eccridgetown.ca/event/youth-group-service-2-2/2024-01-12/
END:VEVENT
BEGIN:VEVENT
DTSTART;TZID=America/Toronto:20240109T070000
DTEND;TZID=America/Toronto:20240109T203000
DTSTAMP:20260425T150354
CREATED:20231201T211838Z
LAST-MODIFIED:20231212T161433Z
UID:10001709-1704783600-1704832200@eccridgetown.ca
SUMMARY:NO Bible Study
DESCRIPTION:There will be no Bible Study Dec.12\, 2023 to Jan.9\, 2024.\nBible Study will resume again on January 16\, 2024.
URL:https://eccridgetown.ca/event/no-bible-study/2024-01-09/
END:VEVENT
BEGIN:VEVENT
DTSTART;TZID=America/Toronto:20240107T103000
DTEND;TZID=America/Toronto:20240107T120000
DTSTAMP:20260425T150354
CREATED:20231006T152930Z
LAST-MODIFIED:20241202T204118Z
UID:10000307-1704623400-1704628800@eccridgetown.ca
SUMMARY:Sunday Morning Worship
DESCRIPTION:
URL:https://eccridgetown.ca/event/sunday-morning-service-2-3/2024-01-07/
END:VEVENT
BEGIN:VEVENT
DTSTART;TZID=America/Toronto:20240107T103000
DTEND;TZID=America/Toronto:20240107T120000
DTSTAMP:20260425T150354
CREATED:20230918T185756Z
LAST-MODIFIED:20230918T185756Z
UID:10001116-1704623400-1704628800@eccridgetown.ca
SUMMARY:Food Bank Collection
DESCRIPTION:First Sunday of every month!
URL:https://eccridgetown.ca/event/food-bank-collection/2024-01-07/
END:VEVENT
BEGIN:VEVENT
DTSTART;TZID=America/Toronto:20240107T094500
DTEND;TZID=America/Toronto:20240107T101500
DTSTAMP:20260425T150354
CREATED:20231006T233639Z
LAST-MODIFIED:20260125T143033Z
UID:10001448-1704620700-1704622500@eccridgetown.ca
SUMMARY:Pre-service Coffee
DESCRIPTION:Join us Sunday morning before Service at 9:45 – 10:15am
URL:https://eccridgetown.ca/event/pre-service-coffee-fellowship/2024-01-07/
END:VEVENT
BEGIN:VEVENT
DTSTART;TZID=America/Toronto:20240105T190000
DTEND;TZID=America/Toronto:20240105T210000
DTSTAMP:20260425T150354
CREATED:20231215T004951Z
LAST-MODIFIED:20231215T005044Z
UID:10001375-1704481200-1704488400@eccridgetown.ca
SUMMARY:Lion Heart Youth Group
DESCRIPTION:
URL:https://eccridgetown.ca/event/youth-group-service-2-2/2024-01-05/
END:VEVENT
BEGIN:VEVENT
DTSTART;TZID=America/Toronto:20240105T190000
DTEND;TZID=America/Toronto:20240105T210000
DTSTAMP:20260425T150354
CREATED:20231215T004129Z
LAST-MODIFIED:20231215T004129Z
UID:10001738-1704481200-1704488400@eccridgetown.ca
SUMMARY:NO Lion Heart Youth Group
DESCRIPTION:Youth group will be taking a break for the holidays\, but will be starting back up January 12.
URL:https://eccridgetown.ca/event/no-lion-heart-youth-group/2024-01-05/
END:VEVENT
BEGIN:VEVENT
DTSTART;TZID=America/Toronto:20240102T070000
DTEND;TZID=America/Toronto:20240102T203000
DTSTAMP:20260425T150354
CREATED:20231201T211838Z
LAST-MODIFIED:20231212T161433Z
UID:10001708-1704178800-1704227400@eccridgetown.ca
SUMMARY:NO Bible Study
DESCRIPTION:There will be no Bible Study Dec.12\, 2023 to Jan.9\, 2024.\nBible Study will resume again on January 16\, 2024.
URL:https://eccridgetown.ca/event/no-bible-study/2024-01-02/
END:VEVENT
BEGIN:VEVENT
DTSTART;TZID=America/Toronto:20231231T103000
DTEND;TZID=America/Toronto:20231231T120000
DTSTAMP:20260425T150354
CREATED:20231006T152930Z
LAST-MODIFIED:20241202T204118Z
UID:10000306-1704018600-1704024000@eccridgetown.ca
SUMMARY:Sunday Morning Worship
DESCRIPTION:
URL:https://eccridgetown.ca/event/sunday-morning-service-2-3/2023-12-31/
END:VEVENT
BEGIN:VEVENT
DTSTART;TZID=America/Toronto:20231231T094500
DTEND;TZID=America/Toronto:20231231T101500
DTSTAMP:20260425T150354
CREATED:20231006T233639Z
LAST-MODIFIED:20260125T143033Z
UID:10001447-1704015900-1704017700@eccridgetown.ca
SUMMARY:Pre-service Coffee
DESCRIPTION:Join us Sunday morning before Service at 9:45 – 10:15am
URL:https://eccridgetown.ca/event/pre-service-coffee-fellowship/2023-12-31/
END:VEVENT
BEGIN:VEVENT
DTSTART;TZID=America/Toronto:20231229T190000
DTEND;TZID=America/Toronto:20231229T210000
DTSTAMP:20260425T150354
CREATED:20231215T004129Z
LAST-MODIFIED:20231215T004129Z
UID:10001737-1703876400-1703883600@eccridgetown.ca
SUMMARY:NO Lion Heart Youth Group
DESCRIPTION:Youth group will be taking a break for the holidays\, but will be starting back up January 12.
URL:https://eccridgetown.ca/event/no-lion-heart-youth-group/2023-12-29/
END:VEVENT
BEGIN:VEVENT
DTSTART;TZID=America/Toronto:20231227T133000
DTEND;TZID=America/Toronto:20231227T150000
DTSTAMP:20260425T150354
CREATED:20231024T233437Z
LAST-MODIFIED:20231201T215012Z
UID:10001130-1703683800-1703689200@eccridgetown.ca
SUMMARY:NO Ladies Group
DESCRIPTION:No Ladies Meeting in the month of December.\nSee you in January!
URL:https://eccridgetown.ca/event/ladies-meeting-2/
END:VEVENT
END:VCALENDAR