BEGIN:VCALENDAR
VERSION:2.0
PRODID:-//Emmanuel Congregational Church - ECPv6.2.3//NONSGML v1.0//EN
CALSCALE:GREGORIAN
METHOD:PUBLISH
X-WR-CALNAME:Emmanuel Congregational Church
X-ORIGINAL-URL:https://eccridgetown.ca
X-WR-CALDESC:Events for Emmanuel Congregational Church
REFRESH-INTERVAL;VALUE=DURATION:PT1H
X-Robots-Tag:noindex
X-PUBLISHED-TTL:PT1H
BEGIN:VTIMEZONE
TZID:America/Toronto
BEGIN:DAYLIGHT
TZOFFSETFROM:-0500
TZOFFSETTO:-0400
TZNAME:EDT
DTSTART:20240310T070000
END:DAYLIGHT
BEGIN:STANDARD
TZOFFSETFROM:-0400
TZOFFSETTO:-0500
TZNAME:EST
DTSTART:20241103T060000
END:STANDARD
END:VTIMEZONE
BEGIN:VEVENT
DTSTART;TZID=America/Toronto:20240323T080000
DTEND;TZID=America/Toronto:20240323T100000
DTSTAMP:20260425T103529
CREATED:20240227T042333Z
LAST-MODIFIED:20240325T205504Z
UID:10001746-1711180800-1711188000@eccridgetown.ca
SUMMARY:Men's (bi-weekly) Breakfast
DESCRIPTION:All men are welcome to join in for breakfast and fellowship at Sam’s Restaurant\, 26 Main St. East in Ridgetown.\nMen will meet every two weeks beginning February 10\, 2024.
URL:https://eccridgetown.ca/event/mens-bi-weekly-breakfast-2/2024-03-23/
END:VEVENT
BEGIN:VEVENT
DTSTART;TZID=America/Toronto:20240322T190000
DTEND;TZID=America/Toronto:20240322T210000
DTSTAMP:20260425T103529
CREATED:20231215T004951Z
LAST-MODIFIED:20231215T005044Z
UID:10001386-1711134000-1711141200@eccridgetown.ca
SUMMARY:Lion Heart Youth Group
DESCRIPTION:
URL:https://eccridgetown.ca/event/youth-group-service-2-2/2024-03-22/
END:VEVENT
BEGIN:VEVENT
DTSTART;TZID=America/Toronto:20240319T190000
DTEND;TZID=America/Toronto:20240319T203000
DTSTAMP:20260425T103529
CREATED:20231201T212936Z
LAST-MODIFIED:20240430T220644Z
UID:10001719-1710874800-1710880200@eccridgetown.ca
SUMMARY:Bible Study
DESCRIPTION:Join Pastor John in the sanctuary for Bible Study every Tuesday evening from 7-8:30pm.\nBeginning in January\, we will be studying the Book of Revelation.
URL:https://eccridgetown.ca/event/bible-study-4/2024-03-19/
END:VEVENT
BEGIN:VEVENT
DTSTART;TZID=America/Toronto:20240317T103000
DTEND;TZID=America/Toronto:20240317T120000
DTSTAMP:20260425T103529
CREATED:20231006T152930Z
LAST-MODIFIED:20241202T204118Z
UID:10000317-1710671400-1710676800@eccridgetown.ca
SUMMARY:Sunday Morning Worship
DESCRIPTION:
URL:https://eccridgetown.ca/event/sunday-morning-service-2-3/2024-03-17/
END:VEVENT
BEGIN:VEVENT
DTSTART;TZID=America/Toronto:20240317T094500
DTEND;TZID=America/Toronto:20240317T101500
DTSTAMP:20260425T103529
CREATED:20231006T233639Z
LAST-MODIFIED:20260125T143033Z
UID:10001458-1710668700-1710670500@eccridgetown.ca
SUMMARY:Pre-service Coffee
DESCRIPTION:Join us Sunday morning before Service at 9:45 – 10:15am
URL:https://eccridgetown.ca/event/pre-service-coffee-fellowship/2024-03-17/
END:VEVENT
BEGIN:VEVENT
DTSTART;TZID=America/Toronto:20240315T190000
DTEND;TZID=America/Toronto:20240315T210000
DTSTAMP:20260425T103529
CREATED:20231215T004951Z
LAST-MODIFIED:20231215T005044Z
UID:10001385-1710529200-1710536400@eccridgetown.ca
SUMMARY:Lion Heart Youth Group
DESCRIPTION:
URL:https://eccridgetown.ca/event/youth-group-service-2-2/2024-03-15/
END:VEVENT
BEGIN:VEVENT
DTSTART;TZID=America/Toronto:20240312T190000
DTEND;TZID=America/Toronto:20240312T203000
DTSTAMP:20260425T103529
CREATED:20231201T212936Z
LAST-MODIFIED:20240430T220644Z
UID:10001718-1710270000-1710275400@eccridgetown.ca
SUMMARY:Bible Study
DESCRIPTION:Join Pastor John in the sanctuary for Bible Study every Tuesday evening from 7-8:30pm.\nBeginning in January\, we will be studying the Book of Revelation.
URL:https://eccridgetown.ca/event/bible-study-4/2024-03-12/
END:VEVENT
BEGIN:VEVENT
DTSTART;TZID=America/Toronto:20240310T103000
DTEND;TZID=America/Toronto:20240310T120000
DTSTAMP:20260425T103529
CREATED:20231006T152930Z
LAST-MODIFIED:20241202T204118Z
UID:10000316-1710066600-1710072000@eccridgetown.ca
SUMMARY:Sunday Morning Worship
DESCRIPTION:
URL:https://eccridgetown.ca/event/sunday-morning-service-2-3/2024-03-10/
END:VEVENT
BEGIN:VEVENT
DTSTART;TZID=America/Toronto:20240310T094500
DTEND;TZID=America/Toronto:20240310T101500
DTSTAMP:20260425T103529
CREATED:20231006T233639Z
LAST-MODIFIED:20260125T143033Z
UID:10001457-1710063900-1710065700@eccridgetown.ca
SUMMARY:Pre-service Coffee
DESCRIPTION:Join us Sunday morning before Service at 9:45 – 10:15am
URL:https://eccridgetown.ca/event/pre-service-coffee-fellowship/2024-03-10/
END:VEVENT
BEGIN:VEVENT
DTSTART;TZID=America/Toronto:20240309T080000
DTEND;TZID=America/Toronto:20240309T100000
DTSTAMP:20260425T103529
CREATED:20240227T042333Z
LAST-MODIFIED:20240325T205504Z
UID:10001745-1709971200-1709978400@eccridgetown.ca
SUMMARY:Men's (bi-weekly) Breakfast
DESCRIPTION:All men are welcome to join in for breakfast and fellowship at Sam’s Restaurant\, 26 Main St. East in Ridgetown.\nMen will meet every two weeks beginning February 10\, 2024.
URL:https://eccridgetown.ca/event/mens-bi-weekly-breakfast-2/2024-03-09/
END:VEVENT
BEGIN:VEVENT
DTSTART;TZID=America/Toronto:20240308T190000
DTEND;TZID=America/Toronto:20240308T210000
DTSTAMP:20260425T103529
CREATED:20231215T004951Z
LAST-MODIFIED:20231215T005044Z
UID:10001384-1709924400-1709931600@eccridgetown.ca
SUMMARY:Lion Heart Youth Group
DESCRIPTION:
URL:https://eccridgetown.ca/event/youth-group-service-2-2/2024-03-08/
END:VEVENT
BEGIN:VEVENT
DTSTART;TZID=America/Toronto:20240305T190000
DTEND;TZID=America/Toronto:20240305T203000
DTSTAMP:20260425T103529
CREATED:20231201T212936Z
LAST-MODIFIED:20240430T220644Z
UID:10001717-1709665200-1709670600@eccridgetown.ca
SUMMARY:Bible Study
DESCRIPTION:Join Pastor John in the sanctuary for Bible Study every Tuesday evening from 7-8:30pm.\nBeginning in January\, we will be studying the Book of Revelation.
URL:https://eccridgetown.ca/event/bible-study-4/2024-03-05/
END:VEVENT
BEGIN:VEVENT
DTSTART;TZID=America/Toronto:20240303T103000
DTEND;TZID=America/Toronto:20240303T120000
DTSTAMP:20260425T103529
CREATED:20231006T152930Z
LAST-MODIFIED:20241202T204118Z
UID:10000315-1709461800-1709467200@eccridgetown.ca
SUMMARY:Sunday Morning Worship
DESCRIPTION:
URL:https://eccridgetown.ca/event/sunday-morning-service-2-3/2024-03-03/
END:VEVENT
BEGIN:VEVENT
DTSTART;TZID=America/Toronto:20240303T103000
DTEND;TZID=America/Toronto:20240303T120000
DTSTAMP:20260425T103529
CREATED:20230918T185756Z
LAST-MODIFIED:20230918T185756Z
UID:10001118-1709461800-1709467200@eccridgetown.ca
SUMMARY:Food Bank Collection
DESCRIPTION:First Sunday of every month!
URL:https://eccridgetown.ca/event/food-bank-collection/2024-03-03/
END:VEVENT
BEGIN:VEVENT
DTSTART;TZID=America/Toronto:20240303T094500
DTEND;TZID=America/Toronto:20240303T101500
DTSTAMP:20260425T103529
CREATED:20231006T233639Z
LAST-MODIFIED:20260125T143033Z
UID:10001456-1709459100-1709460900@eccridgetown.ca
SUMMARY:Pre-service Coffee
DESCRIPTION:Join us Sunday morning before Service at 9:45 – 10:15am
URL:https://eccridgetown.ca/event/pre-service-coffee-fellowship/2024-03-03/
END:VEVENT
BEGIN:VEVENT
DTSTART;TZID=America/Toronto:20240301T190000
DTEND;TZID=America/Toronto:20240301T210000
DTSTAMP:20260425T103529
CREATED:20231215T004951Z
LAST-MODIFIED:20231215T005044Z
UID:10001383-1709319600-1709326800@eccridgetown.ca
SUMMARY:Lion Heart Youth Group
DESCRIPTION:
URL:https://eccridgetown.ca/event/youth-group-service-2-2/2024-03-01/
END:VEVENT
BEGIN:VEVENT
DTSTART;TZID=America/Toronto:20240301T140000
DTEND;TZID=America/Toronto:20240301T160000
DTSTAMP:20260425T103529
CREATED:20240229T205506Z
LAST-MODIFIED:20240229T205506Z
UID:10001753-1709301600-1709308800@eccridgetown.ca
SUMMARY:World Day of Prayer Service
DESCRIPTION:Turin United Church\, at 14188 Turin Line\, will be hosting this year’s World Day of Prayer Service on March 1st at 2pm.\nThe service\, written by the World Day of Prayer Committee of Palestine\, is sure to be very interesting and an eye opener into the lives of the Christian women living there.
URL:https://eccridgetown.ca/event/world-day-of-prayer-service/
END:VEVENT
BEGIN:VEVENT
DTSTART;TZID=America/Toronto:20240228T133000
DTEND;TZID=America/Toronto:20240228T150000
DTSTAMP:20260425T103529
CREATED:20231201T220537Z
LAST-MODIFIED:20240104T031944Z
UID:10001134-1709127000-1709132400@eccridgetown.ca
SUMMARY:Ladies Group
DESCRIPTION:All ladies of any age are welcome to join us for a great time of fellowship. Our meetings are (usually) held the last Wednesday of the month\, from 1:30 till 3pm. \nThe ladies group hosts special events on behalf of the congregation\, and also for those out in the community. We provide lunches for funerals\, wedding receptions\, and any other special events that are requested. We also make donations to both local and international missions. In order to make these donations\, we host fundraising events such as bake sales.
URL:https://eccridgetown.ca/event/ladies-meeting-3/2024-02-28/
END:VEVENT
BEGIN:VEVENT
DTSTART;TZID=America/Toronto:20240227T190000
DTEND;TZID=America/Toronto:20240227T203000
DTSTAMP:20260425T103529
CREATED:20231201T212936Z
LAST-MODIFIED:20240430T220644Z
UID:10001716-1709060400-1709065800@eccridgetown.ca
SUMMARY:Bible Study
DESCRIPTION:Join Pastor John in the sanctuary for Bible Study every Tuesday evening from 7-8:30pm.\nBeginning in January\, we will be studying the Book of Revelation.
URL:https://eccridgetown.ca/event/bible-study-4/2024-02-27/
END:VEVENT
BEGIN:VEVENT
DTSTART;TZID=America/Toronto:20240225T120000
DTEND;TZID=America/Toronto:20240225T140000
DTSTAMP:20260425T103529
CREATED:20240216T214157Z
LAST-MODIFIED:20240216T214157Z
UID:10001749-1708862400-1708869600@eccridgetown.ca
SUMMARY:Social Time & Lunch
DESCRIPTION:Pastoral Care is inviting the congregation to stay after church for a social time and lunch the last Sunday of February and April and May.  \nWe are asking for people to contribute a loaf of sandwiches toward the lunch. There is a signup sheet on the table.\nWe will try to break the list up so that some will do Feb. and some the other months.\nWe will call people the week before and let them know to bring their sandwiches.
URL:https://eccridgetown.ca/event/social-time-lunch/2024-02-25/
END:VEVENT
BEGIN:VEVENT
DTSTART;TZID=America/Toronto:20240225T103000
DTEND;TZID=America/Toronto:20240225T120000
DTSTAMP:20260425T103529
CREATED:20231006T152930Z
LAST-MODIFIED:20241202T204118Z
UID:10000314-1708857000-1708862400@eccridgetown.ca
SUMMARY:Sunday Morning Worship
DESCRIPTION:
URL:https://eccridgetown.ca/event/sunday-morning-service-2-3/2024-02-25/
END:VEVENT
BEGIN:VEVENT
DTSTART;TZID=America/Toronto:20240225T094500
DTEND;TZID=America/Toronto:20240225T101500
DTSTAMP:20260425T103529
CREATED:20231006T233639Z
LAST-MODIFIED:20260125T143033Z
UID:10001455-1708854300-1708856100@eccridgetown.ca
SUMMARY:Pre-service Coffee
DESCRIPTION:Join us Sunday morning before Service at 9:45 – 10:15am
URL:https://eccridgetown.ca/event/pre-service-coffee-fellowship/2024-02-25/
END:VEVENT
BEGIN:VEVENT
DTSTART;TZID=America/Toronto:20240224T080000
DTEND;TZID=America/Toronto:20240224T100000
DTSTAMP:20260425T103529
CREATED:20240130T015437Z
LAST-MODIFIED:20240201T163649Z
UID:10001744-1708761600-1708768800@eccridgetown.ca
SUMMARY:Men's (bi-weekly) Breakfast
DESCRIPTION:All men are welcome to join in for breakfast and fellowship at Ridgetown’s “Harvest Tables” Restaurant\, 11 Main St. West.\nMen will meet every two weeks beginning February 10\, 2024.
URL:https://eccridgetown.ca/event/mens-bi-weekly-breakfast/2024-02-24/
END:VEVENT
BEGIN:VEVENT
DTSTART;TZID=America/Toronto:20240223T190000
DTEND;TZID=America/Toronto:20240223T210000
DTSTAMP:20260425T103529
CREATED:20231215T004951Z
LAST-MODIFIED:20231215T005044Z
UID:10001382-1708714800-1708722000@eccridgetown.ca
SUMMARY:Lion Heart Youth Group
DESCRIPTION:
URL:https://eccridgetown.ca/event/youth-group-service-2-2/2024-02-23/
END:VEVENT
BEGIN:VEVENT
DTSTART;TZID=America/Toronto:20240220T190000
DTEND;TZID=America/Toronto:20240220T203000
DTSTAMP:20260425T103529
CREATED:20231201T212936Z
LAST-MODIFIED:20240430T220644Z
UID:10001715-1708455600-1708461000@eccridgetown.ca
SUMMARY:Bible Study
DESCRIPTION:Join Pastor John in the sanctuary for Bible Study every Tuesday evening from 7-8:30pm.\nBeginning in January\, we will be studying the Book of Revelation.
URL:https://eccridgetown.ca/event/bible-study-4/2024-02-20/
END:VEVENT
BEGIN:VEVENT
DTSTART;TZID=America/Toronto:20240220T103000
DTEND;TZID=America/Toronto:20240220T113000
DTSTAMP:20260425T103529
CREATED:20240216T214528Z
LAST-MODIFIED:20240412T195625Z
UID:10001752-1708425000-1708428600@eccridgetown.ca
SUMMARY:Worship Service at The Village
DESCRIPTION:Emmanuel will be hosting a worship service at Village on the Ridge Retirement Residence at 10:30am.\nWe would love you to join the residents for this special time if you are able\, but please respect the well being of the residents by staying home if you are not well.\nThese dates are always subject to change.
URL:https://eccridgetown.ca/event/worship-service-at-the-village/2024-02-20/
END:VEVENT
BEGIN:VEVENT
DTSTART;TZID=America/Toronto:20240218T103000
DTEND;TZID=America/Toronto:20240218T120000
DTSTAMP:20260425T103529
CREATED:20231006T152930Z
LAST-MODIFIED:20241202T204118Z
UID:10000313-1708252200-1708257600@eccridgetown.ca
SUMMARY:Sunday Morning Worship
DESCRIPTION:
URL:https://eccridgetown.ca/event/sunday-morning-service-2-3/2024-02-18/
END:VEVENT
BEGIN:VEVENT
DTSTART;TZID=America/Toronto:20240218T094500
DTEND;TZID=America/Toronto:20240218T101500
DTSTAMP:20260425T103529
CREATED:20231006T233639Z
LAST-MODIFIED:20260125T143033Z
UID:10001454-1708249500-1708251300@eccridgetown.ca
SUMMARY:Pre-service Coffee
DESCRIPTION:Join us Sunday morning before Service at 9:45 – 10:15am
URL:https://eccridgetown.ca/event/pre-service-coffee-fellowship/2024-02-18/
END:VEVENT
BEGIN:VEVENT
DTSTART;TZID=America/Toronto:20240216T190000
DTEND;TZID=America/Toronto:20240216T210000
DTSTAMP:20260425T103529
CREATED:20231215T004951Z
LAST-MODIFIED:20231215T005044Z
UID:10001381-1708110000-1708117200@eccridgetown.ca
SUMMARY:Lion Heart Youth Group
DESCRIPTION:
URL:https://eccridgetown.ca/event/youth-group-service-2-2/2024-02-16/
END:VEVENT
BEGIN:VEVENT
DTSTART;TZID=America/Toronto:20240213T190000
DTEND;TZID=America/Toronto:20240213T203000
DTSTAMP:20260425T103529
CREATED:20231201T212936Z
LAST-MODIFIED:20240430T220644Z
UID:10001714-1707850800-1707856200@eccridgetown.ca
SUMMARY:Bible Study
DESCRIPTION:Join Pastor John in the sanctuary for Bible Study every Tuesday evening from 7-8:30pm.\nBeginning in January\, we will be studying the Book of Revelation.
URL:https://eccridgetown.ca/event/bible-study-4/2024-02-13/
END:VEVENT
END:VCALENDAR