BEGIN:VCALENDAR
VERSION:2.0
PRODID:-//Emmanuel Congregational Church - ECPv6.2.3//NONSGML v1.0//EN
CALSCALE:GREGORIAN
METHOD:PUBLISH
X-ORIGINAL-URL:https://eccridgetown.ca
X-WR-CALDESC:Events for Emmanuel Congregational Church
REFRESH-INTERVAL;VALUE=DURATION:PT1H
X-Robots-Tag:noindex
X-PUBLISHED-TTL:PT1H
BEGIN:VTIMEZONE
TZID:America/Toronto
BEGIN:DAYLIGHT
TZOFFSETFROM:-0500
TZOFFSETTO:-0400
TZNAME:EDT
DTSTART:20270314T070000
END:DAYLIGHT
BEGIN:STANDARD
TZOFFSETFROM:-0400
TZOFFSETTO:-0500
TZNAME:EST
DTSTART:20271107T060000
END:STANDARD
END:VTIMEZONE
BEGIN:VEVENT
DTSTART;TZID=America/Toronto:20270221T094500
DTEND;TZID=America/Toronto:20270221T101500
DTSTAMP:20260421T015238
CREATED:20231006T233639Z
LAST-MODIFIED:20260125T143033Z
UID:10001611-1803203100-1803204900@eccridgetown.ca
SUMMARY:Pre-service Coffee
DESCRIPTION:Join us Sunday morning before Service at 9:45 – 10:15am
URL:https://eccridgetown.ca/event/pre-service-coffee-fellowship/2027-02-21/
END:VEVENT
BEGIN:VEVENT
DTSTART;TZID=America/Toronto:20270221T103000
DTEND;TZID=America/Toronto:20270221T120000
DTSTAMP:20260421T015238
CREATED:20251029T213214Z
LAST-MODIFIED:20260125T143221Z
UID:10002859-1803205800-1803211200@eccridgetown.ca
SUMMARY:Sunday Morning Worship
DESCRIPTION:Everyone welcome!
URL:https://eccridgetown.ca/event/sunday-morning-service-2-5-2/2027-02-21/
END:VEVENT
BEGIN:VEVENT
DTSTART;TZID=America/Toronto:20270224T133000
DTEND;TZID=America/Toronto:20270224T150000
DTSTAMP:20260421T015238
CREATED:20260226T220327Z
LAST-MODIFIED:20260226T220328Z
UID:10002512-1803475800-1803481200@eccridgetown.ca
SUMMARY:Ladies Group
DESCRIPTION:All ladies of any age are welcome to join us for a great time of fellowship\, prayer\, devotion and planning is shared by all over a cup of coffee/tea.\nOur meetings are (usually) held the last Wednesday of the month\, from 1:30 till 3pm. (with the exception of July\, August and December)  \nThe ladies group hosts special events on behalf of the congregation\, and also for those out in the community. We provide lunches for funerals\, wedding receptions\, and any other special events that are requested. We also make donations to both local and international missions. In order to make these donations\, we host fundraising events such as bake sales.
URL:https://eccridgetown.ca/event/ladies-meeting-3-3-2-3/2027-02-24/
END:VEVENT
BEGIN:VEVENT
DTSTART;TZID=America/Toronto:20270228T090000
DTEND;TZID=America/Toronto:20270228T103000
DTSTAMP:20260421T015238
CREATED:20240430T215324Z
LAST-MODIFIED:20260125T142754Z
UID:10001924-1803805200-1803810600@eccridgetown.ca
SUMMARY:ECC Worship Singers Practice
DESCRIPTION:Anyone ages 10 or older who would like to sing or play a musical instrument come and join us!
URL:https://eccridgetown.ca/event/ecc-worship-singers-practice/2027-02-28/
END:VEVENT
BEGIN:VEVENT
DTSTART;TZID=America/Toronto:20270228T094500
DTEND;TZID=America/Toronto:20270228T101500
DTSTAMP:20260421T015238
CREATED:20231006T233639Z
LAST-MODIFIED:20260125T143033Z
UID:10001612-1803807900-1803809700@eccridgetown.ca
SUMMARY:Pre-service Coffee
DESCRIPTION:Join us Sunday morning before Service at 9:45 – 10:15am
URL:https://eccridgetown.ca/event/pre-service-coffee-fellowship/2027-02-28/
END:VEVENT
BEGIN:VEVENT
DTSTART;TZID=America/Toronto:20270228T103000
DTEND;TZID=America/Toronto:20270228T120000
DTSTAMP:20260421T015238
CREATED:20251029T213214Z
LAST-MODIFIED:20260125T143221Z
UID:10002860-1803810600-1803816000@eccridgetown.ca
SUMMARY:Sunday Morning Worship
DESCRIPTION:Everyone welcome!
URL:https://eccridgetown.ca/event/sunday-morning-service-2-5-2/2027-02-28/
END:VEVENT
BEGIN:VEVENT
DTSTART;TZID=America/Toronto:20270307T090000
DTEND;TZID=America/Toronto:20270307T103000
DTSTAMP:20260421T015238
CREATED:20240430T215324Z
LAST-MODIFIED:20260125T142754Z
UID:10001925-1804410000-1804415400@eccridgetown.ca
SUMMARY:ECC Worship Singers Practice
DESCRIPTION:Anyone ages 10 or older who would like to sing or play a musical instrument come and join us!
URL:https://eccridgetown.ca/event/ecc-worship-singers-practice/2027-03-07/
END:VEVENT
BEGIN:VEVENT
DTSTART;TZID=America/Toronto:20270307T094500
DTEND;TZID=America/Toronto:20270307T101500
DTSTAMP:20260421T015238
CREATED:20231006T233639Z
LAST-MODIFIED:20260125T143033Z
UID:10001613-1804412700-1804414500@eccridgetown.ca
SUMMARY:Pre-service Coffee
DESCRIPTION:Join us Sunday morning before Service at 9:45 – 10:15am
URL:https://eccridgetown.ca/event/pre-service-coffee-fellowship/2027-03-07/
END:VEVENT
BEGIN:VEVENT
DTSTART;TZID=America/Toronto:20270307T103000
DTEND;TZID=America/Toronto:20270307T120000
DTSTAMP:20260421T015238
CREATED:20250522T160845Z
LAST-MODIFIED:20250902T215059Z
UID:10003206-1804415400-1804420800@eccridgetown.ca
SUMMARY:Food Bank Collection
DESCRIPTION:Please bring your donations the first Sunday of every month for our local Food Bank at the Salvation Army.  \nEven though the Thrift Store location has closed\, Food Bank services in Ridgetown will continue.
URL:https://eccridgetown.ca/event/food-bank-collection-2/2027-03-07/
END:VEVENT
BEGIN:VEVENT
DTSTART;TZID=America/Toronto:20270307T103000
DTEND;TZID=America/Toronto:20270307T120000
DTSTAMP:20260421T015238
CREATED:20251029T213214Z
LAST-MODIFIED:20260125T143221Z
UID:10002861-1804415400-1804420800@eccridgetown.ca
SUMMARY:Sunday Morning Worship
DESCRIPTION:Everyone welcome!
URL:https://eccridgetown.ca/event/sunday-morning-service-2-5-2/2027-03-07/
END:VEVENT
BEGIN:VEVENT
DTSTART;TZID=America/Toronto:20270314T090000
DTEND;TZID=America/Toronto:20270314T103000
DTSTAMP:20260421T015238
CREATED:20240430T215324Z
LAST-MODIFIED:20260125T142754Z
UID:10001926-1805014800-1805020200@eccridgetown.ca
SUMMARY:ECC Worship Singers Practice
DESCRIPTION:Anyone ages 10 or older who would like to sing or play a musical instrument come and join us!
URL:https://eccridgetown.ca/event/ecc-worship-singers-practice/2027-03-14/
END:VEVENT
BEGIN:VEVENT
DTSTART;TZID=America/Toronto:20270314T094500
DTEND;TZID=America/Toronto:20270314T101500
DTSTAMP:20260421T015238
CREATED:20231006T233639Z
LAST-MODIFIED:20260125T143033Z
UID:10001614-1805017500-1805019300@eccridgetown.ca
SUMMARY:Pre-service Coffee
DESCRIPTION:Join us Sunday morning before Service at 9:45 – 10:15am
URL:https://eccridgetown.ca/event/pre-service-coffee-fellowship/2027-03-14/
END:VEVENT
BEGIN:VEVENT
DTSTART;TZID=America/Toronto:20270314T103000
DTEND;TZID=America/Toronto:20270314T120000
DTSTAMP:20260421T015238
CREATED:20251029T213214Z
LAST-MODIFIED:20260125T143221Z
UID:10002862-1805020200-1805025600@eccridgetown.ca
SUMMARY:Sunday Morning Worship
DESCRIPTION:Everyone welcome!
URL:https://eccridgetown.ca/event/sunday-morning-service-2-5-2/2027-03-14/
END:VEVENT
BEGIN:VEVENT
DTSTART;TZID=America/Toronto:20270321T090000
DTEND;TZID=America/Toronto:20270321T103000
DTSTAMP:20260421T015238
CREATED:20240430T215324Z
LAST-MODIFIED:20260125T142754Z
UID:10001927-1805619600-1805625000@eccridgetown.ca
SUMMARY:ECC Worship Singers Practice
DESCRIPTION:Anyone ages 10 or older who would like to sing or play a musical instrument come and join us!
URL:https://eccridgetown.ca/event/ecc-worship-singers-practice/2027-03-21/
END:VEVENT
BEGIN:VEVENT
DTSTART;TZID=America/Toronto:20270321T094500
DTEND;TZID=America/Toronto:20270321T101500
DTSTAMP:20260421T015238
CREATED:20231006T233639Z
LAST-MODIFIED:20260125T143033Z
UID:10001615-1805622300-1805624100@eccridgetown.ca
SUMMARY:Pre-service Coffee
DESCRIPTION:Join us Sunday morning before Service at 9:45 – 10:15am
URL:https://eccridgetown.ca/event/pre-service-coffee-fellowship/2027-03-21/
END:VEVENT
BEGIN:VEVENT
DTSTART;TZID=America/Toronto:20270321T103000
DTEND;TZID=America/Toronto:20270321T120000
DTSTAMP:20260421T015238
CREATED:20251029T213214Z
LAST-MODIFIED:20260125T143221Z
UID:10002863-1805625000-1805630400@eccridgetown.ca
SUMMARY:Sunday Morning Worship
DESCRIPTION:Everyone welcome!
URL:https://eccridgetown.ca/event/sunday-morning-service-2-5-2/2027-03-21/
END:VEVENT
BEGIN:VEVENT
DTSTART;TZID=America/Toronto:20270324T133000
DTEND;TZID=America/Toronto:20270324T150000
DTSTAMP:20260421T015238
CREATED:20260226T220327Z
LAST-MODIFIED:20260226T220328Z
UID:10002513-1805895000-1805900400@eccridgetown.ca
SUMMARY:Ladies Group
DESCRIPTION:All ladies of any age are welcome to join us for a great time of fellowship\, prayer\, devotion and planning is shared by all over a cup of coffee/tea.\nOur meetings are (usually) held the last Wednesday of the month\, from 1:30 till 3pm. (with the exception of July\, August and December)  \nThe ladies group hosts special events on behalf of the congregation\, and also for those out in the community. We provide lunches for funerals\, wedding receptions\, and any other special events that are requested. We also make donations to both local and international missions. In order to make these donations\, we host fundraising events such as bake sales.
URL:https://eccridgetown.ca/event/ladies-meeting-3-3-2-3/2027-03-24/
END:VEVENT
BEGIN:VEVENT
DTSTART;TZID=America/Toronto:20270328T090000
DTEND;TZID=America/Toronto:20270328T103000
DTSTAMP:20260421T015238
CREATED:20240430T215324Z
LAST-MODIFIED:20260125T142754Z
UID:10001928-1806224400-1806229800@eccridgetown.ca
SUMMARY:ECC Worship Singers Practice
DESCRIPTION:Anyone ages 10 or older who would like to sing or play a musical instrument come and join us!
URL:https://eccridgetown.ca/event/ecc-worship-singers-practice/2027-03-28/
END:VEVENT
BEGIN:VEVENT
DTSTART;TZID=America/Toronto:20270328T094500
DTEND;TZID=America/Toronto:20270328T101500
DTSTAMP:20260421T015238
CREATED:20231006T233639Z
LAST-MODIFIED:20260125T143033Z
UID:10001616-1806227100-1806228900@eccridgetown.ca
SUMMARY:Pre-service Coffee
DESCRIPTION:Join us Sunday morning before Service at 9:45 – 10:15am
URL:https://eccridgetown.ca/event/pre-service-coffee-fellowship/2027-03-28/
END:VEVENT
BEGIN:VEVENT
DTSTART;TZID=America/Toronto:20270328T103000
DTEND;TZID=America/Toronto:20270328T120000
DTSTAMP:20260421T015238
CREATED:20251029T213214Z
LAST-MODIFIED:20260125T143221Z
UID:10002864-1806229800-1806235200@eccridgetown.ca
SUMMARY:Sunday Morning Worship
DESCRIPTION:Everyone welcome!
URL:https://eccridgetown.ca/event/sunday-morning-service-2-5-2/2027-03-28/
END:VEVENT
BEGIN:VEVENT
DTSTART;TZID=America/Toronto:20270404T090000
DTEND;TZID=America/Toronto:20270404T103000
DTSTAMP:20260421T015238
CREATED:20240430T215324Z
LAST-MODIFIED:20260125T142754Z
UID:10001929-1806829200-1806834600@eccridgetown.ca
SUMMARY:ECC Worship Singers Practice
DESCRIPTION:Anyone ages 10 or older who would like to sing or play a musical instrument come and join us!
URL:https://eccridgetown.ca/event/ecc-worship-singers-practice/2027-04-04/
END:VEVENT
BEGIN:VEVENT
DTSTART;TZID=America/Toronto:20270404T094500
DTEND;TZID=America/Toronto:20270404T101500
DTSTAMP:20260421T015238
CREATED:20231006T233639Z
LAST-MODIFIED:20260125T143033Z
UID:10001617-1806831900-1806833700@eccridgetown.ca
SUMMARY:Pre-service Coffee
DESCRIPTION:Join us Sunday morning before Service at 9:45 – 10:15am
URL:https://eccridgetown.ca/event/pre-service-coffee-fellowship/2027-04-04/
END:VEVENT
BEGIN:VEVENT
DTSTART;TZID=America/Toronto:20270404T103000
DTEND;TZID=America/Toronto:20270404T120000
DTSTAMP:20260421T015238
CREATED:20250522T160845Z
LAST-MODIFIED:20250902T215059Z
UID:10003207-1806834600-1806840000@eccridgetown.ca
SUMMARY:Food Bank Collection
DESCRIPTION:Please bring your donations the first Sunday of every month for our local Food Bank at the Salvation Army.  \nEven though the Thrift Store location has closed\, Food Bank services in Ridgetown will continue.
URL:https://eccridgetown.ca/event/food-bank-collection-2/2027-04-04/
END:VEVENT
BEGIN:VEVENT
DTSTART;TZID=America/Toronto:20270404T103000
DTEND;TZID=America/Toronto:20270404T120000
DTSTAMP:20260421T015238
CREATED:20251029T213214Z
LAST-MODIFIED:20260125T143221Z
UID:10002865-1806834600-1806840000@eccridgetown.ca
SUMMARY:Sunday Morning Worship
DESCRIPTION:Everyone welcome!
URL:https://eccridgetown.ca/event/sunday-morning-service-2-5-2/2027-04-04/
END:VEVENT
BEGIN:VEVENT
DTSTART;TZID=America/Toronto:20270411T090000
DTEND;TZID=America/Toronto:20270411T103000
DTSTAMP:20260421T015238
CREATED:20240430T215324Z
LAST-MODIFIED:20260125T142754Z
UID:10001930-1807434000-1807439400@eccridgetown.ca
SUMMARY:ECC Worship Singers Practice
DESCRIPTION:Anyone ages 10 or older who would like to sing or play a musical instrument come and join us!
URL:https://eccridgetown.ca/event/ecc-worship-singers-practice/2027-04-11/
END:VEVENT
BEGIN:VEVENT
DTSTART;TZID=America/Toronto:20270411T094500
DTEND;TZID=America/Toronto:20270411T101500
DTSTAMP:20260421T015238
CREATED:20231006T233639Z
LAST-MODIFIED:20260125T143033Z
UID:10001618-1807436700-1807438500@eccridgetown.ca
SUMMARY:Pre-service Coffee
DESCRIPTION:Join us Sunday morning before Service at 9:45 – 10:15am
URL:https://eccridgetown.ca/event/pre-service-coffee-fellowship/2027-04-11/
END:VEVENT
BEGIN:VEVENT
DTSTART;TZID=America/Toronto:20270411T103000
DTEND;TZID=America/Toronto:20270411T120000
DTSTAMP:20260421T015238
CREATED:20251029T213214Z
LAST-MODIFIED:20260125T143221Z
UID:10002866-1807439400-1807444800@eccridgetown.ca
SUMMARY:Sunday Morning Worship
DESCRIPTION:Everyone welcome!
URL:https://eccridgetown.ca/event/sunday-morning-service-2-5-2/2027-04-11/
END:VEVENT
BEGIN:VEVENT
DTSTART;TZID=America/Toronto:20270418T090000
DTEND;TZID=America/Toronto:20270418T103000
DTSTAMP:20260421T015238
CREATED:20240430T215324Z
LAST-MODIFIED:20260125T142754Z
UID:10001931-1808038800-1808044200@eccridgetown.ca
SUMMARY:ECC Worship Singers Practice
DESCRIPTION:Anyone ages 10 or older who would like to sing or play a musical instrument come and join us!
URL:https://eccridgetown.ca/event/ecc-worship-singers-practice/2027-04-18/
END:VEVENT
BEGIN:VEVENT
DTSTART;TZID=America/Toronto:20270418T094500
DTEND;TZID=America/Toronto:20270418T101500
DTSTAMP:20260421T015238
CREATED:20231006T233639Z
LAST-MODIFIED:20260125T143033Z
UID:10001619-1808041500-1808043300@eccridgetown.ca
SUMMARY:Pre-service Coffee
DESCRIPTION:Join us Sunday morning before Service at 9:45 – 10:15am
URL:https://eccridgetown.ca/event/pre-service-coffee-fellowship/2027-04-18/
END:VEVENT
BEGIN:VEVENT
DTSTART;TZID=America/Toronto:20270418T103000
DTEND;TZID=America/Toronto:20270418T120000
DTSTAMP:20260421T015238
CREATED:20251029T213214Z
LAST-MODIFIED:20260125T143221Z
UID:10002867-1808044200-1808049600@eccridgetown.ca
SUMMARY:Sunday Morning Worship
DESCRIPTION:Everyone welcome!
URL:https://eccridgetown.ca/event/sunday-morning-service-2-5-2/2027-04-18/
END:VEVENT
END:VCALENDAR