BEGIN:VCALENDAR
VERSION:2.0
PRODID:-//Emmanuel Congregational Church - ECPv6.2.3//NONSGML v1.0//EN
CALSCALE:GREGORIAN
METHOD:PUBLISH
X-WR-CALNAME:Emmanuel Congregational Church
X-ORIGINAL-URL:https://eccridgetown.ca
X-WR-CALDESC:Events for Emmanuel Congregational Church
REFRESH-INTERVAL;VALUE=DURATION:PT1H
X-Robots-Tag:noindex
X-PUBLISHED-TTL:PT1H
BEGIN:VTIMEZONE
TZID:America/Toronto
BEGIN:DAYLIGHT
TZOFFSETFROM:-0500
TZOFFSETTO:-0400
TZNAME:EDT
DTSTART:20290311T070000
END:DAYLIGHT
BEGIN:STANDARD
TZOFFSETFROM:-0400
TZOFFSETTO:-0500
TZNAME:EST
DTSTART:20291104T060000
END:STANDARD
END:VTIMEZONE
BEGIN:VEVENT
DTSTART;TZID=America/Toronto:20290930T090000
DTEND;TZID=America/Toronto:20290930T103000
DTSTAMP:20260424T035012
CREATED:20240430T215324Z
LAST-MODIFIED:20260125T142754Z
UID:10003676-1885453200-1885458600@eccridgetown.ca
SUMMARY:ECC Worship Singers Practice
DESCRIPTION:Anyone ages 10 or older who would like to sing or play a musical instrument come and join us!
URL:https://eccridgetown.ca/event/ecc-worship-singers-practice/2029-09-30/
END:VEVENT
BEGIN:VEVENT
DTSTART;TZID=America/Toronto:20290930T094500
DTEND;TZID=America/Toronto:20290930T101500
DTSTAMP:20260424T035012
CREATED:20231006T233639Z
LAST-MODIFIED:20260125T143033Z
UID:10003606-1885455900-1885457700@eccridgetown.ca
SUMMARY:Pre-service Coffee
DESCRIPTION:Join us Sunday morning before Service at 9:45 – 10:15am
URL:https://eccridgetown.ca/event/pre-service-coffee-fellowship/2029-09-30/
END:VEVENT
BEGIN:VEVENT
DTSTART;TZID=America/Toronto:20290930T103000
DTEND;TZID=America/Toronto:20290930T120000
DTSTAMP:20260424T035012
CREATED:20251029T213214Z
LAST-MODIFIED:20260125T143221Z
UID:10002995-1885458600-1885464000@eccridgetown.ca
SUMMARY:Sunday Morning Worship
DESCRIPTION:Everyone welcome!
URL:https://eccridgetown.ca/event/sunday-morning-service-2-5-2/2029-09-30/
END:VEVENT
BEGIN:VEVENT
DTSTART;TZID=America/Toronto:20291007T090000
DTEND;TZID=America/Toronto:20291007T103000
DTSTAMP:20260424T035012
CREATED:20240430T215324Z
LAST-MODIFIED:20260125T142754Z
UID:10003677-1886058000-1886063400@eccridgetown.ca
SUMMARY:ECC Worship Singers Practice
DESCRIPTION:Anyone ages 10 or older who would like to sing or play a musical instrument come and join us!
URL:https://eccridgetown.ca/event/ecc-worship-singers-practice/2029-10-07/
END:VEVENT
BEGIN:VEVENT
DTSTART;TZID=America/Toronto:20291007T094500
DTEND;TZID=America/Toronto:20291007T101500
DTSTAMP:20260424T035012
CREATED:20231006T233639Z
LAST-MODIFIED:20260125T143033Z
UID:10003607-1886060700-1886062500@eccridgetown.ca
SUMMARY:Pre-service Coffee
DESCRIPTION:Join us Sunday morning before Service at 9:45 – 10:15am
URL:https://eccridgetown.ca/event/pre-service-coffee-fellowship/2029-10-07/
END:VEVENT
BEGIN:VEVENT
DTSTART;TZID=America/Toronto:20291007T103000
DTEND;TZID=America/Toronto:20291007T120000
DTSTAMP:20260424T035012
CREATED:20250522T160845Z
LAST-MODIFIED:20250902T215059Z
UID:10003237-1886063400-1886068800@eccridgetown.ca
SUMMARY:Food Bank Collection
DESCRIPTION:Please bring your donations the first Sunday of every month for our local Food Bank at the Salvation Army.  \nEven though the Thrift Store location has closed\, Food Bank services in Ridgetown will continue.
URL:https://eccridgetown.ca/event/food-bank-collection-2/2029-10-07/
END:VEVENT
BEGIN:VEVENT
DTSTART;TZID=America/Toronto:20291007T103000
DTEND;TZID=America/Toronto:20291007T120000
DTSTAMP:20260424T035012
CREATED:20251029T213214Z
LAST-MODIFIED:20260125T143221Z
UID:10002996-1886063400-1886068800@eccridgetown.ca
SUMMARY:Sunday Morning Worship
DESCRIPTION:Everyone welcome!
URL:https://eccridgetown.ca/event/sunday-morning-service-2-5-2/2029-10-07/
END:VEVENT
BEGIN:VEVENT
DTSTART;TZID=America/Toronto:20291014T090000
DTEND;TZID=America/Toronto:20291014T103000
DTSTAMP:20260424T035012
CREATED:20240430T215324Z
LAST-MODIFIED:20260125T142754Z
UID:10003678-1886662800-1886668200@eccridgetown.ca
SUMMARY:ECC Worship Singers Practice
DESCRIPTION:Anyone ages 10 or older who would like to sing or play a musical instrument come and join us!
URL:https://eccridgetown.ca/event/ecc-worship-singers-practice/2029-10-14/
END:VEVENT
BEGIN:VEVENT
DTSTART;TZID=America/Toronto:20291014T094500
DTEND;TZID=America/Toronto:20291014T101500
DTSTAMP:20260424T035012
CREATED:20231006T233639Z
LAST-MODIFIED:20260125T143033Z
UID:10003608-1886665500-1886667300@eccridgetown.ca
SUMMARY:Pre-service Coffee
DESCRIPTION:Join us Sunday morning before Service at 9:45 – 10:15am
URL:https://eccridgetown.ca/event/pre-service-coffee-fellowship/2029-10-14/
END:VEVENT
BEGIN:VEVENT
DTSTART;TZID=America/Toronto:20291014T103000
DTEND;TZID=America/Toronto:20291014T120000
DTSTAMP:20260424T035012
CREATED:20251029T213214Z
LAST-MODIFIED:20260125T143221Z
UID:10002997-1886668200-1886673600@eccridgetown.ca
SUMMARY:Sunday Morning Worship
DESCRIPTION:Everyone welcome!
URL:https://eccridgetown.ca/event/sunday-morning-service-2-5-2/2029-10-14/
END:VEVENT
BEGIN:VEVENT
DTSTART;TZID=America/Toronto:20291021T090000
DTEND;TZID=America/Toronto:20291021T103000
DTSTAMP:20260424T035012
CREATED:20240430T215324Z
LAST-MODIFIED:20260125T142754Z
UID:10003679-1887267600-1887273000@eccridgetown.ca
SUMMARY:ECC Worship Singers Practice
DESCRIPTION:Anyone ages 10 or older who would like to sing or play a musical instrument come and join us!
URL:https://eccridgetown.ca/event/ecc-worship-singers-practice/2029-10-21/
END:VEVENT
BEGIN:VEVENT
DTSTART;TZID=America/Toronto:20291021T094500
DTEND;TZID=America/Toronto:20291021T101500
DTSTAMP:20260424T035012
CREATED:20231006T233639Z
LAST-MODIFIED:20260125T143033Z
UID:10003609-1887270300-1887272100@eccridgetown.ca
SUMMARY:Pre-service Coffee
DESCRIPTION:Join us Sunday morning before Service at 9:45 – 10:15am
URL:https://eccridgetown.ca/event/pre-service-coffee-fellowship/2029-10-21/
END:VEVENT
BEGIN:VEVENT
DTSTART;TZID=America/Toronto:20291021T103000
DTEND;TZID=America/Toronto:20291021T120000
DTSTAMP:20260424T035012
CREATED:20251029T213214Z
LAST-MODIFIED:20260125T143221Z
UID:10002998-1887273000-1887278400@eccridgetown.ca
SUMMARY:Sunday Morning Worship
DESCRIPTION:Everyone welcome!
URL:https://eccridgetown.ca/event/sunday-morning-service-2-5-2/2029-10-21/
END:VEVENT
BEGIN:VEVENT
DTSTART;TZID=America/Toronto:20291024T133000
DTEND;TZID=America/Toronto:20291024T150000
DTSTAMP:20260424T035012
CREATED:20260226T220327Z
LAST-MODIFIED:20260226T220328Z
UID:10002544-1887543000-1887548400@eccridgetown.ca
SUMMARY:Ladies Group
DESCRIPTION:All ladies of any age are welcome to join us for a great time of fellowship\, prayer\, devotion and planning is shared by all over a cup of coffee/tea.\nOur meetings are (usually) held the last Wednesday of the month\, from 1:30 till 3pm. (with the exception of July\, August and December)  \nThe ladies group hosts special events on behalf of the congregation\, and also for those out in the community. We provide lunches for funerals\, wedding receptions\, and any other special events that are requested. We also make donations to both local and international missions. In order to make these donations\, we host fundraising events such as bake sales.
URL:https://eccridgetown.ca/event/ladies-meeting-3-3-2-3/2029-10-24/
END:VEVENT
BEGIN:VEVENT
DTSTART;TZID=America/Toronto:20291028T090000
DTEND;TZID=America/Toronto:20291028T103000
DTSTAMP:20260424T035012
CREATED:20240430T215324Z
LAST-MODIFIED:20260125T142754Z
UID:10003680-1887872400-1887877800@eccridgetown.ca
SUMMARY:ECC Worship Singers Practice
DESCRIPTION:Anyone ages 10 or older who would like to sing or play a musical instrument come and join us!
URL:https://eccridgetown.ca/event/ecc-worship-singers-practice/2029-10-28/
END:VEVENT
BEGIN:VEVENT
DTSTART;TZID=America/Toronto:20291028T094500
DTEND;TZID=America/Toronto:20291028T101500
DTSTAMP:20260424T035012
CREATED:20231006T233639Z
LAST-MODIFIED:20260125T143033Z
UID:10003610-1887875100-1887876900@eccridgetown.ca
SUMMARY:Pre-service Coffee
DESCRIPTION:Join us Sunday morning before Service at 9:45 – 10:15am
URL:https://eccridgetown.ca/event/pre-service-coffee-fellowship/2029-10-28/
END:VEVENT
BEGIN:VEVENT
DTSTART;TZID=America/Toronto:20291028T103000
DTEND;TZID=America/Toronto:20291028T120000
DTSTAMP:20260424T035012
CREATED:20251029T213214Z
LAST-MODIFIED:20260125T143221Z
UID:10002999-1887877800-1887883200@eccridgetown.ca
SUMMARY:Sunday Morning Worship
DESCRIPTION:Everyone welcome!
URL:https://eccridgetown.ca/event/sunday-morning-service-2-5-2/2029-10-28/
END:VEVENT
BEGIN:VEVENT
DTSTART;TZID=America/Toronto:20291104T090000
DTEND;TZID=America/Toronto:20291104T103000
DTSTAMP:20260424T035012
CREATED:20240430T215324Z
LAST-MODIFIED:20260125T142754Z
UID:10003681-1888477200-1888482600@eccridgetown.ca
SUMMARY:ECC Worship Singers Practice
DESCRIPTION:Anyone ages 10 or older who would like to sing or play a musical instrument come and join us!
URL:https://eccridgetown.ca/event/ecc-worship-singers-practice/2029-11-04/
END:VEVENT
BEGIN:VEVENT
DTSTART;TZID=America/Toronto:20291104T094500
DTEND;TZID=America/Toronto:20291104T101500
DTSTAMP:20260424T035012
CREATED:20231006T233639Z
LAST-MODIFIED:20260125T143033Z
UID:10003611-1888479900-1888481700@eccridgetown.ca
SUMMARY:Pre-service Coffee
DESCRIPTION:Join us Sunday morning before Service at 9:45 – 10:15am
URL:https://eccridgetown.ca/event/pre-service-coffee-fellowship/2029-11-04/
END:VEVENT
BEGIN:VEVENT
DTSTART;TZID=America/Toronto:20291104T103000
DTEND;TZID=America/Toronto:20291104T120000
DTSTAMP:20260424T035012
CREATED:20250522T160845Z
LAST-MODIFIED:20250902T215059Z
UID:10003238-1888482600-1888488000@eccridgetown.ca
SUMMARY:Food Bank Collection
DESCRIPTION:Please bring your donations the first Sunday of every month for our local Food Bank at the Salvation Army.  \nEven though the Thrift Store location has closed\, Food Bank services in Ridgetown will continue.
URL:https://eccridgetown.ca/event/food-bank-collection-2/2029-11-04/
END:VEVENT
BEGIN:VEVENT
DTSTART;TZID=America/Toronto:20291104T103000
DTEND;TZID=America/Toronto:20291104T120000
DTSTAMP:20260424T035012
CREATED:20251029T213214Z
LAST-MODIFIED:20260125T143221Z
UID:10003000-1888482600-1888488000@eccridgetown.ca
SUMMARY:Sunday Morning Worship
DESCRIPTION:Everyone welcome!
URL:https://eccridgetown.ca/event/sunday-morning-service-2-5-2/2029-11-04/
END:VEVENT
BEGIN:VEVENT
DTSTART;TZID=America/Toronto:20291111T090000
DTEND;TZID=America/Toronto:20291111T103000
DTSTAMP:20260424T035012
CREATED:20240430T215324Z
LAST-MODIFIED:20260125T142754Z
UID:10003682-1889082000-1889087400@eccridgetown.ca
SUMMARY:ECC Worship Singers Practice
DESCRIPTION:Anyone ages 10 or older who would like to sing or play a musical instrument come and join us!
URL:https://eccridgetown.ca/event/ecc-worship-singers-practice/2029-11-11/
END:VEVENT
BEGIN:VEVENT
DTSTART;TZID=America/Toronto:20291111T094500
DTEND;TZID=America/Toronto:20291111T101500
DTSTAMP:20260424T035012
CREATED:20231006T233639Z
LAST-MODIFIED:20260125T143033Z
UID:10003612-1889084700-1889086500@eccridgetown.ca
SUMMARY:Pre-service Coffee
DESCRIPTION:Join us Sunday morning before Service at 9:45 – 10:15am
URL:https://eccridgetown.ca/event/pre-service-coffee-fellowship/2029-11-11/
END:VEVENT
BEGIN:VEVENT
DTSTART;TZID=America/Toronto:20291111T103000
DTEND;TZID=America/Toronto:20291111T120000
DTSTAMP:20260424T035012
CREATED:20251029T213214Z
LAST-MODIFIED:20260125T143221Z
UID:10003001-1889087400-1889092800@eccridgetown.ca
SUMMARY:Sunday Morning Worship
DESCRIPTION:Everyone welcome!
URL:https://eccridgetown.ca/event/sunday-morning-service-2-5-2/2029-11-11/
END:VEVENT
BEGIN:VEVENT
DTSTART;TZID=America/Toronto:20291118T090000
DTEND;TZID=America/Toronto:20291118T103000
DTSTAMP:20260424T035012
CREATED:20240430T215324Z
LAST-MODIFIED:20260125T142754Z
UID:10003683-1889686800-1889692200@eccridgetown.ca
SUMMARY:ECC Worship Singers Practice
DESCRIPTION:Anyone ages 10 or older who would like to sing or play a musical instrument come and join us!
URL:https://eccridgetown.ca/event/ecc-worship-singers-practice/2029-11-18/
END:VEVENT
BEGIN:VEVENT
DTSTART;TZID=America/Toronto:20291118T094500
DTEND;TZID=America/Toronto:20291118T101500
DTSTAMP:20260424T035012
CREATED:20231006T233639Z
LAST-MODIFIED:20260125T143033Z
UID:10003613-1889689500-1889691300@eccridgetown.ca
SUMMARY:Pre-service Coffee
DESCRIPTION:Join us Sunday morning before Service at 9:45 – 10:15am
URL:https://eccridgetown.ca/event/pre-service-coffee-fellowship/2029-11-18/
END:VEVENT
BEGIN:VEVENT
DTSTART;TZID=America/Toronto:20291118T103000
DTEND;TZID=America/Toronto:20291118T120000
DTSTAMP:20260424T035012
CREATED:20251029T213214Z
LAST-MODIFIED:20260125T143221Z
UID:10003002-1889692200-1889697600@eccridgetown.ca
SUMMARY:Sunday Morning Worship
DESCRIPTION:Everyone welcome!
URL:https://eccridgetown.ca/event/sunday-morning-service-2-5-2/2029-11-18/
END:VEVENT
BEGIN:VEVENT
DTSTART;TZID=America/Toronto:20291125T090000
DTEND;TZID=America/Toronto:20291125T103000
DTSTAMP:20260424T035013
CREATED:20240430T215324Z
LAST-MODIFIED:20260125T142754Z
UID:10003684-1890291600-1890297000@eccridgetown.ca
SUMMARY:ECC Worship Singers Practice
DESCRIPTION:Anyone ages 10 or older who would like to sing or play a musical instrument come and join us!
URL:https://eccridgetown.ca/event/ecc-worship-singers-practice/2029-11-25/
END:VEVENT
BEGIN:VEVENT
DTSTART;TZID=America/Toronto:20291125T094500
DTEND;TZID=America/Toronto:20291125T101500
DTSTAMP:20260424T035013
CREATED:20231006T233639Z
LAST-MODIFIED:20260125T143033Z
UID:10003614-1890294300-1890296100@eccridgetown.ca
SUMMARY:Pre-service Coffee
DESCRIPTION:Join us Sunday morning before Service at 9:45 – 10:15am
URL:https://eccridgetown.ca/event/pre-service-coffee-fellowship/2029-11-25/
END:VEVENT
BEGIN:VEVENT
DTSTART;TZID=America/Toronto:20291125T103000
DTEND;TZID=America/Toronto:20291125T120000
DTSTAMP:20260424T035013
CREATED:20251029T213214Z
LAST-MODIFIED:20260125T143221Z
UID:10003003-1890297000-1890302400@eccridgetown.ca
SUMMARY:Sunday Morning Worship
DESCRIPTION:Everyone welcome!
URL:https://eccridgetown.ca/event/sunday-morning-service-2-5-2/2029-11-25/
END:VEVENT
END:VCALENDAR