BEGIN:VCALENDAR
VERSION:2.0
PRODID:-//Emmanuel Congregational Church - ECPv6.2.3//NONSGML v1.0//EN
CALSCALE:GREGORIAN
METHOD:PUBLISH
X-ORIGINAL-URL:https://eccridgetown.ca
X-WR-CALDESC:Events for Emmanuel Congregational Church
REFRESH-INTERVAL;VALUE=DURATION:PT1H
X-Robots-Tag:noindex
X-PUBLISHED-TTL:PT1H
BEGIN:VTIMEZONE
TZID:America/Toronto
BEGIN:DAYLIGHT
TZOFFSETFROM:-0500
TZOFFSETTO:-0400
TZNAME:EDT
DTSTART:20290311T070000
END:DAYLIGHT
BEGIN:STANDARD
TZOFFSETFROM:-0400
TZOFFSETTO:-0500
TZNAME:EST
DTSTART:20291104T060000
END:STANDARD
END:VTIMEZONE
BEGIN:VEVENT
DTSTART;TZID=America/Toronto:20290527T103000
DTEND;TZID=America/Toronto:20290527T120000
DTSTAMP:20260423T194211
CREATED:20251029T213214Z
LAST-MODIFIED:20260125T143221Z
UID:10002977-1874572200-1874577600@eccridgetown.ca
SUMMARY:Sunday Morning Worship
DESCRIPTION:Everyone welcome!
URL:https://eccridgetown.ca/event/sunday-morning-service-2-5-2/2029-05-27/
END:VEVENT
BEGIN:VEVENT
DTSTART;TZID=America/Toronto:20290603T090000
DTEND;TZID=America/Toronto:20290603T103000
DTSTAMP:20260423T194211
CREATED:20240430T215324Z
LAST-MODIFIED:20260125T142754Z
UID:10003659-1875171600-1875177000@eccridgetown.ca
SUMMARY:ECC Worship Singers Practice
DESCRIPTION:Anyone ages 10 or older who would like to sing or play a musical instrument come and join us!
URL:https://eccridgetown.ca/event/ecc-worship-singers-practice/2029-06-03/
END:VEVENT
BEGIN:VEVENT
DTSTART;TZID=America/Toronto:20290603T094500
DTEND;TZID=America/Toronto:20290603T101500
DTSTAMP:20260423T194211
CREATED:20231006T233639Z
LAST-MODIFIED:20260125T143033Z
UID:10003589-1875174300-1875176100@eccridgetown.ca
SUMMARY:Pre-service Coffee
DESCRIPTION:Join us Sunday morning before Service at 9:45 – 10:15am
URL:https://eccridgetown.ca/event/pre-service-coffee-fellowship/2029-06-03/
END:VEVENT
BEGIN:VEVENT
DTSTART;TZID=America/Toronto:20290603T103000
DTEND;TZID=America/Toronto:20290603T120000
DTSTAMP:20260423T194211
CREATED:20250522T160845Z
LAST-MODIFIED:20250902T215059Z
UID:10003233-1875177000-1875182400@eccridgetown.ca
SUMMARY:Food Bank Collection
DESCRIPTION:Please bring your donations the first Sunday of every month for our local Food Bank at the Salvation Army.  \nEven though the Thrift Store location has closed\, Food Bank services in Ridgetown will continue.
URL:https://eccridgetown.ca/event/food-bank-collection-2/2029-06-03/
END:VEVENT
BEGIN:VEVENT
DTSTART;TZID=America/Toronto:20290603T103000
DTEND;TZID=America/Toronto:20290603T120000
DTSTAMP:20260423T194211
CREATED:20251029T213214Z
LAST-MODIFIED:20260125T143221Z
UID:10002978-1875177000-1875182400@eccridgetown.ca
SUMMARY:Sunday Morning Worship
DESCRIPTION:Everyone welcome!
URL:https://eccridgetown.ca/event/sunday-morning-service-2-5-2/2029-06-03/
END:VEVENT
BEGIN:VEVENT
DTSTART;TZID=America/Toronto:20290610T090000
DTEND;TZID=America/Toronto:20290610T103000
DTSTAMP:20260423T194211
CREATED:20240430T215324Z
LAST-MODIFIED:20260125T142754Z
UID:10003660-1875776400-1875781800@eccridgetown.ca
SUMMARY:ECC Worship Singers Practice
DESCRIPTION:Anyone ages 10 or older who would like to sing or play a musical instrument come and join us!
URL:https://eccridgetown.ca/event/ecc-worship-singers-practice/2029-06-10/
END:VEVENT
BEGIN:VEVENT
DTSTART;TZID=America/Toronto:20290610T094500
DTEND;TZID=America/Toronto:20290610T101500
DTSTAMP:20260423T194211
CREATED:20231006T233639Z
LAST-MODIFIED:20260125T143033Z
UID:10003590-1875779100-1875780900@eccridgetown.ca
SUMMARY:Pre-service Coffee
DESCRIPTION:Join us Sunday morning before Service at 9:45 – 10:15am
URL:https://eccridgetown.ca/event/pre-service-coffee-fellowship/2029-06-10/
END:VEVENT
BEGIN:VEVENT
DTSTART;TZID=America/Toronto:20290610T103000
DTEND;TZID=America/Toronto:20290610T120000
DTSTAMP:20260423T194211
CREATED:20251029T213214Z
LAST-MODIFIED:20260125T143221Z
UID:10002979-1875781800-1875787200@eccridgetown.ca
SUMMARY:Sunday Morning Worship
DESCRIPTION:Everyone welcome!
URL:https://eccridgetown.ca/event/sunday-morning-service-2-5-2/2029-06-10/
END:VEVENT
BEGIN:VEVENT
DTSTART;TZID=America/Toronto:20290617T090000
DTEND;TZID=America/Toronto:20290617T103000
DTSTAMP:20260423T194211
CREATED:20240430T215324Z
LAST-MODIFIED:20260125T142754Z
UID:10003661-1876381200-1876386600@eccridgetown.ca
SUMMARY:ECC Worship Singers Practice
DESCRIPTION:Anyone ages 10 or older who would like to sing or play a musical instrument come and join us!
URL:https://eccridgetown.ca/event/ecc-worship-singers-practice/2029-06-17/
END:VEVENT
BEGIN:VEVENT
DTSTART;TZID=America/Toronto:20290617T094500
DTEND;TZID=America/Toronto:20290617T101500
DTSTAMP:20260423T194211
CREATED:20231006T233639Z
LAST-MODIFIED:20260125T143033Z
UID:10003591-1876383900-1876385700@eccridgetown.ca
SUMMARY:Pre-service Coffee
DESCRIPTION:Join us Sunday morning before Service at 9:45 – 10:15am
URL:https://eccridgetown.ca/event/pre-service-coffee-fellowship/2029-06-17/
END:VEVENT
BEGIN:VEVENT
DTSTART;TZID=America/Toronto:20290617T103000
DTEND;TZID=America/Toronto:20290617T120000
DTSTAMP:20260423T194211
CREATED:20251029T213214Z
LAST-MODIFIED:20260125T143221Z
UID:10002980-1876386600-1876392000@eccridgetown.ca
SUMMARY:Sunday Morning Worship
DESCRIPTION:Everyone welcome!
URL:https://eccridgetown.ca/event/sunday-morning-service-2-5-2/2029-06-17/
END:VEVENT
BEGIN:VEVENT
DTSTART;TZID=America/Toronto:20290624T090000
DTEND;TZID=America/Toronto:20290624T103000
DTSTAMP:20260423T194211
CREATED:20240430T215324Z
LAST-MODIFIED:20260125T142754Z
UID:10003662-1876986000-1876991400@eccridgetown.ca
SUMMARY:ECC Worship Singers Practice
DESCRIPTION:Anyone ages 10 or older who would like to sing or play a musical instrument come and join us!
URL:https://eccridgetown.ca/event/ecc-worship-singers-practice/2029-06-24/
END:VEVENT
BEGIN:VEVENT
DTSTART;TZID=America/Toronto:20290624T094500
DTEND;TZID=America/Toronto:20290624T101500
DTSTAMP:20260423T194211
CREATED:20231006T233639Z
LAST-MODIFIED:20260125T143033Z
UID:10003592-1876988700-1876990500@eccridgetown.ca
SUMMARY:Pre-service Coffee
DESCRIPTION:Join us Sunday morning before Service at 9:45 – 10:15am
URL:https://eccridgetown.ca/event/pre-service-coffee-fellowship/2029-06-24/
END:VEVENT
BEGIN:VEVENT
DTSTART;TZID=America/Toronto:20290624T103000
DTEND;TZID=America/Toronto:20290624T120000
DTSTAMP:20260423T194211
CREATED:20251029T213214Z
LAST-MODIFIED:20260125T143221Z
UID:10002981-1876991400-1876996800@eccridgetown.ca
SUMMARY:Sunday Morning Worship
DESCRIPTION:Everyone welcome!
URL:https://eccridgetown.ca/event/sunday-morning-service-2-5-2/2029-06-24/
END:VEVENT
BEGIN:VEVENT
DTSTART;TZID=America/Toronto:20290627T133000
DTEND;TZID=America/Toronto:20290627T150000
DTSTAMP:20260423T194211
CREATED:20260226T220327Z
LAST-MODIFIED:20260226T220328Z
UID:10002540-1877261400-1877266800@eccridgetown.ca
SUMMARY:Ladies Group
DESCRIPTION:All ladies of any age are welcome to join us for a great time of fellowship\, prayer\, devotion and planning is shared by all over a cup of coffee/tea.\nOur meetings are (usually) held the last Wednesday of the month\, from 1:30 till 3pm. (with the exception of July\, August and December)  \nThe ladies group hosts special events on behalf of the congregation\, and also for those out in the community. We provide lunches for funerals\, wedding receptions\, and any other special events that are requested. We also make donations to both local and international missions. In order to make these donations\, we host fundraising events such as bake sales.
URL:https://eccridgetown.ca/event/ladies-meeting-3-3-2-3/2029-06-27/
END:VEVENT
BEGIN:VEVENT
DTSTART;TZID=America/Toronto:20290701T090000
DTEND;TZID=America/Toronto:20290701T103000
DTSTAMP:20260423T194211
CREATED:20240430T215324Z
LAST-MODIFIED:20260125T142754Z
UID:10003663-1877590800-1877596200@eccridgetown.ca
SUMMARY:ECC Worship Singers Practice
DESCRIPTION:Anyone ages 10 or older who would like to sing or play a musical instrument come and join us!
URL:https://eccridgetown.ca/event/ecc-worship-singers-practice/2029-07-01/
END:VEVENT
BEGIN:VEVENT
DTSTART;TZID=America/Toronto:20290701T094500
DTEND;TZID=America/Toronto:20290701T101500
DTSTAMP:20260423T194211
CREATED:20231006T233639Z
LAST-MODIFIED:20260125T143033Z
UID:10003593-1877593500-1877595300@eccridgetown.ca
SUMMARY:Pre-service Coffee
DESCRIPTION:Join us Sunday morning before Service at 9:45 – 10:15am
URL:https://eccridgetown.ca/event/pre-service-coffee-fellowship/2029-07-01/
END:VEVENT
BEGIN:VEVENT
DTSTART;TZID=America/Toronto:20290701T103000
DTEND;TZID=America/Toronto:20290701T120000
DTSTAMP:20260423T194211
CREATED:20250522T160845Z
LAST-MODIFIED:20250902T215059Z
UID:10003234-1877596200-1877601600@eccridgetown.ca
SUMMARY:Food Bank Collection
DESCRIPTION:Please bring your donations the first Sunday of every month for our local Food Bank at the Salvation Army.  \nEven though the Thrift Store location has closed\, Food Bank services in Ridgetown will continue.
URL:https://eccridgetown.ca/event/food-bank-collection-2/2029-07-01/
END:VEVENT
BEGIN:VEVENT
DTSTART;TZID=America/Toronto:20290701T103000
DTEND;TZID=America/Toronto:20290701T120000
DTSTAMP:20260423T194211
CREATED:20251029T213214Z
LAST-MODIFIED:20260125T143221Z
UID:10002982-1877596200-1877601600@eccridgetown.ca
SUMMARY:Sunday Morning Worship
DESCRIPTION:Everyone welcome!
URL:https://eccridgetown.ca/event/sunday-morning-service-2-5-2/2029-07-01/
END:VEVENT
BEGIN:VEVENT
DTSTART;TZID=America/Toronto:20290708T090000
DTEND;TZID=America/Toronto:20290708T103000
DTSTAMP:20260423T194211
CREATED:20240430T215324Z
LAST-MODIFIED:20260125T142754Z
UID:10003664-1878195600-1878201000@eccridgetown.ca
SUMMARY:ECC Worship Singers Practice
DESCRIPTION:Anyone ages 10 or older who would like to sing or play a musical instrument come and join us!
URL:https://eccridgetown.ca/event/ecc-worship-singers-practice/2029-07-08/
END:VEVENT
BEGIN:VEVENT
DTSTART;TZID=America/Toronto:20290708T094500
DTEND;TZID=America/Toronto:20290708T101500
DTSTAMP:20260423T194211
CREATED:20231006T233639Z
LAST-MODIFIED:20260125T143033Z
UID:10003594-1878198300-1878200100@eccridgetown.ca
SUMMARY:Pre-service Coffee
DESCRIPTION:Join us Sunday morning before Service at 9:45 – 10:15am
URL:https://eccridgetown.ca/event/pre-service-coffee-fellowship/2029-07-08/
END:VEVENT
BEGIN:VEVENT
DTSTART;TZID=America/Toronto:20290708T103000
DTEND;TZID=America/Toronto:20290708T120000
DTSTAMP:20260423T194211
CREATED:20251029T213214Z
LAST-MODIFIED:20260125T143221Z
UID:10002983-1878201000-1878206400@eccridgetown.ca
SUMMARY:Sunday Morning Worship
DESCRIPTION:Everyone welcome!
URL:https://eccridgetown.ca/event/sunday-morning-service-2-5-2/2029-07-08/
END:VEVENT
BEGIN:VEVENT
DTSTART;TZID=America/Toronto:20290715T090000
DTEND;TZID=America/Toronto:20290715T103000
DTSTAMP:20260423T194211
CREATED:20240430T215324Z
LAST-MODIFIED:20260125T142754Z
UID:10003665-1878800400-1878805800@eccridgetown.ca
SUMMARY:ECC Worship Singers Practice
DESCRIPTION:Anyone ages 10 or older who would like to sing or play a musical instrument come and join us!
URL:https://eccridgetown.ca/event/ecc-worship-singers-practice/2029-07-15/
END:VEVENT
BEGIN:VEVENT
DTSTART;TZID=America/Toronto:20290715T094500
DTEND;TZID=America/Toronto:20290715T101500
DTSTAMP:20260423T194211
CREATED:20231006T233639Z
LAST-MODIFIED:20260125T143033Z
UID:10003595-1878803100-1878804900@eccridgetown.ca
SUMMARY:Pre-service Coffee
DESCRIPTION:Join us Sunday morning before Service at 9:45 – 10:15am
URL:https://eccridgetown.ca/event/pre-service-coffee-fellowship/2029-07-15/
END:VEVENT
BEGIN:VEVENT
DTSTART;TZID=America/Toronto:20290715T103000
DTEND;TZID=America/Toronto:20290715T120000
DTSTAMP:20260423T194211
CREATED:20251029T213214Z
LAST-MODIFIED:20260125T143221Z
UID:10002984-1878805800-1878811200@eccridgetown.ca
SUMMARY:Sunday Morning Worship
DESCRIPTION:Everyone welcome!
URL:https://eccridgetown.ca/event/sunday-morning-service-2-5-2/2029-07-15/
END:VEVENT
BEGIN:VEVENT
DTSTART;TZID=America/Toronto:20290722T090000
DTEND;TZID=America/Toronto:20290722T103000
DTSTAMP:20260423T194211
CREATED:20240430T215324Z
LAST-MODIFIED:20260125T142754Z
UID:10003666-1879405200-1879410600@eccridgetown.ca
SUMMARY:ECC Worship Singers Practice
DESCRIPTION:Anyone ages 10 or older who would like to sing or play a musical instrument come and join us!
URL:https://eccridgetown.ca/event/ecc-worship-singers-practice/2029-07-22/
END:VEVENT
BEGIN:VEVENT
DTSTART;TZID=America/Toronto:20290722T094500
DTEND;TZID=America/Toronto:20290722T101500
DTSTAMP:20260423T194211
CREATED:20231006T233639Z
LAST-MODIFIED:20260125T143033Z
UID:10003596-1879407900-1879409700@eccridgetown.ca
SUMMARY:Pre-service Coffee
DESCRIPTION:Join us Sunday morning before Service at 9:45 – 10:15am
URL:https://eccridgetown.ca/event/pre-service-coffee-fellowship/2029-07-22/
END:VEVENT
BEGIN:VEVENT
DTSTART;TZID=America/Toronto:20290722T103000
DTEND;TZID=America/Toronto:20290722T120000
DTSTAMP:20260423T194211
CREATED:20251029T213214Z
LAST-MODIFIED:20260125T143221Z
UID:10002985-1879410600-1879416000@eccridgetown.ca
SUMMARY:Sunday Morning Worship
DESCRIPTION:Everyone welcome!
URL:https://eccridgetown.ca/event/sunday-morning-service-2-5-2/2029-07-22/
END:VEVENT
BEGIN:VEVENT
DTSTART;TZID=America/Toronto:20290725T133000
DTEND;TZID=America/Toronto:20290725T150000
DTSTAMP:20260423T194211
CREATED:20260226T220327Z
LAST-MODIFIED:20260226T220328Z
UID:10002541-1879680600-1879686000@eccridgetown.ca
SUMMARY:Ladies Group
DESCRIPTION:All ladies of any age are welcome to join us for a great time of fellowship\, prayer\, devotion and planning is shared by all over a cup of coffee/tea.\nOur meetings are (usually) held the last Wednesday of the month\, from 1:30 till 3pm. (with the exception of July\, August and December)  \nThe ladies group hosts special events on behalf of the congregation\, and also for those out in the community. We provide lunches for funerals\, wedding receptions\, and any other special events that are requested. We also make donations to both local and international missions. In order to make these donations\, we host fundraising events such as bake sales.
URL:https://eccridgetown.ca/event/ladies-meeting-3-3-2-3/2029-07-25/
END:VEVENT
BEGIN:VEVENT
DTSTART;TZID=America/Toronto:20290729T090000
DTEND;TZID=America/Toronto:20290729T103000
DTSTAMP:20260423T194211
CREATED:20240430T215324Z
LAST-MODIFIED:20260125T142754Z
UID:10003667-1880010000-1880015400@eccridgetown.ca
SUMMARY:ECC Worship Singers Practice
DESCRIPTION:Anyone ages 10 or older who would like to sing or play a musical instrument come and join us!
URL:https://eccridgetown.ca/event/ecc-worship-singers-practice/2029-07-29/
END:VEVENT
END:VCALENDAR