BEGIN:VCALENDAR
VERSION:2.0
PRODID:-//Emmanuel Congregational Church - ECPv6.2.3//NONSGML v1.0//EN
CALSCALE:GREGORIAN
METHOD:PUBLISH
X-WR-CALNAME:Emmanuel Congregational Church
X-ORIGINAL-URL:https://eccridgetown.ca
X-WR-CALDESC:Events for Emmanuel Congregational Church
REFRESH-INTERVAL;VALUE=DURATION:PT1H
X-Robots-Tag:noindex
X-PUBLISHED-TTL:PT1H
BEGIN:VTIMEZONE
TZID:America/Toronto
BEGIN:DAYLIGHT
TZOFFSETFROM:-0500
TZOFFSETTO:-0400
TZNAME:EDT
DTSTART:20290311T070000
END:DAYLIGHT
BEGIN:STANDARD
TZOFFSETFROM:-0400
TZOFFSETTO:-0500
TZNAME:EST
DTSTART:20291104T060000
END:STANDARD
END:VTIMEZONE
BEGIN:VEVENT
DTSTART;TZID=America/Toronto:20290701T103000
DTEND;TZID=America/Toronto:20290701T120000
DTSTAMP:20260425T111831
CREATED:20251029T213214Z
LAST-MODIFIED:20260125T143221Z
UID:10002982-1877596200-1877601600@eccridgetown.ca
SUMMARY:Sunday Morning Worship
DESCRIPTION:Everyone welcome!
URL:https://eccridgetown.ca/event/sunday-morning-service-2-5-2/2029-07-01/
END:VEVENT
BEGIN:VEVENT
DTSTART;TZID=America/Toronto:20290708T090000
DTEND;TZID=America/Toronto:20290708T103000
DTSTAMP:20260425T111832
CREATED:20240430T215324Z
LAST-MODIFIED:20260125T142754Z
UID:10003664-1878195600-1878201000@eccridgetown.ca
SUMMARY:ECC Worship Singers Practice
DESCRIPTION:Anyone ages 10 or older who would like to sing or play a musical instrument come and join us!
URL:https://eccridgetown.ca/event/ecc-worship-singers-practice/2029-07-08/
END:VEVENT
BEGIN:VEVENT
DTSTART;TZID=America/Toronto:20290708T094500
DTEND;TZID=America/Toronto:20290708T101500
DTSTAMP:20260425T111832
CREATED:20231006T233639Z
LAST-MODIFIED:20260125T143033Z
UID:10003594-1878198300-1878200100@eccridgetown.ca
SUMMARY:Pre-service Coffee
DESCRIPTION:Join us Sunday morning before Service at 9:45 – 10:15am
URL:https://eccridgetown.ca/event/pre-service-coffee-fellowship/2029-07-08/
END:VEVENT
BEGIN:VEVENT
DTSTART;TZID=America/Toronto:20290708T103000
DTEND;TZID=America/Toronto:20290708T120000
DTSTAMP:20260425T111832
CREATED:20251029T213214Z
LAST-MODIFIED:20260125T143221Z
UID:10002983-1878201000-1878206400@eccridgetown.ca
SUMMARY:Sunday Morning Worship
DESCRIPTION:Everyone welcome!
URL:https://eccridgetown.ca/event/sunday-morning-service-2-5-2/2029-07-08/
END:VEVENT
BEGIN:VEVENT
DTSTART;TZID=America/Toronto:20290715T090000
DTEND;TZID=America/Toronto:20290715T103000
DTSTAMP:20260425T111832
CREATED:20240430T215324Z
LAST-MODIFIED:20260125T142754Z
UID:10003665-1878800400-1878805800@eccridgetown.ca
SUMMARY:ECC Worship Singers Practice
DESCRIPTION:Anyone ages 10 or older who would like to sing or play a musical instrument come and join us!
URL:https://eccridgetown.ca/event/ecc-worship-singers-practice/2029-07-15/
END:VEVENT
BEGIN:VEVENT
DTSTART;TZID=America/Toronto:20290715T094500
DTEND;TZID=America/Toronto:20290715T101500
DTSTAMP:20260425T111832
CREATED:20231006T233639Z
LAST-MODIFIED:20260125T143033Z
UID:10003595-1878803100-1878804900@eccridgetown.ca
SUMMARY:Pre-service Coffee
DESCRIPTION:Join us Sunday morning before Service at 9:45 – 10:15am
URL:https://eccridgetown.ca/event/pre-service-coffee-fellowship/2029-07-15/
END:VEVENT
BEGIN:VEVENT
DTSTART;TZID=America/Toronto:20290715T103000
DTEND;TZID=America/Toronto:20290715T120000
DTSTAMP:20260425T111832
CREATED:20251029T213214Z
LAST-MODIFIED:20260125T143221Z
UID:10002984-1878805800-1878811200@eccridgetown.ca
SUMMARY:Sunday Morning Worship
DESCRIPTION:Everyone welcome!
URL:https://eccridgetown.ca/event/sunday-morning-service-2-5-2/2029-07-15/
END:VEVENT
BEGIN:VEVENT
DTSTART;TZID=America/Toronto:20290722T090000
DTEND;TZID=America/Toronto:20290722T103000
DTSTAMP:20260425T111832
CREATED:20240430T215324Z
LAST-MODIFIED:20260125T142754Z
UID:10003666-1879405200-1879410600@eccridgetown.ca
SUMMARY:ECC Worship Singers Practice
DESCRIPTION:Anyone ages 10 or older who would like to sing or play a musical instrument come and join us!
URL:https://eccridgetown.ca/event/ecc-worship-singers-practice/2029-07-22/
END:VEVENT
BEGIN:VEVENT
DTSTART;TZID=America/Toronto:20290722T094500
DTEND;TZID=America/Toronto:20290722T101500
DTSTAMP:20260425T111832
CREATED:20231006T233639Z
LAST-MODIFIED:20260125T143033Z
UID:10003596-1879407900-1879409700@eccridgetown.ca
SUMMARY:Pre-service Coffee
DESCRIPTION:Join us Sunday morning before Service at 9:45 – 10:15am
URL:https://eccridgetown.ca/event/pre-service-coffee-fellowship/2029-07-22/
END:VEVENT
BEGIN:VEVENT
DTSTART;TZID=America/Toronto:20290722T103000
DTEND;TZID=America/Toronto:20290722T120000
DTSTAMP:20260425T111832
CREATED:20251029T213214Z
LAST-MODIFIED:20260125T143221Z
UID:10002985-1879410600-1879416000@eccridgetown.ca
SUMMARY:Sunday Morning Worship
DESCRIPTION:Everyone welcome!
URL:https://eccridgetown.ca/event/sunday-morning-service-2-5-2/2029-07-22/
END:VEVENT
BEGIN:VEVENT
DTSTART;TZID=America/Toronto:20290725T133000
DTEND;TZID=America/Toronto:20290725T150000
DTSTAMP:20260425T111832
CREATED:20260226T220327Z
LAST-MODIFIED:20260226T220328Z
UID:10002541-1879680600-1879686000@eccridgetown.ca
SUMMARY:Ladies Group
DESCRIPTION:All ladies of any age are welcome to join us for a great time of fellowship\, prayer\, devotion and planning is shared by all over a cup of coffee/tea.\nOur meetings are (usually) held the last Wednesday of the month\, from 1:30 till 3pm. (with the exception of July\, August and December)  \nThe ladies group hosts special events on behalf of the congregation\, and also for those out in the community. We provide lunches for funerals\, wedding receptions\, and any other special events that are requested. We also make donations to both local and international missions. In order to make these donations\, we host fundraising events such as bake sales.
URL:https://eccridgetown.ca/event/ladies-meeting-3-3-2-3/2029-07-25/
END:VEVENT
BEGIN:VEVENT
DTSTART;TZID=America/Toronto:20290729T090000
DTEND;TZID=America/Toronto:20290729T103000
DTSTAMP:20260425T111832
CREATED:20240430T215324Z
LAST-MODIFIED:20260125T142754Z
UID:10003667-1880010000-1880015400@eccridgetown.ca
SUMMARY:ECC Worship Singers Practice
DESCRIPTION:Anyone ages 10 or older who would like to sing or play a musical instrument come and join us!
URL:https://eccridgetown.ca/event/ecc-worship-singers-practice/2029-07-29/
END:VEVENT
BEGIN:VEVENT
DTSTART;TZID=America/Toronto:20290729T094500
DTEND;TZID=America/Toronto:20290729T101500
DTSTAMP:20260425T111832
CREATED:20231006T233639Z
LAST-MODIFIED:20260125T143033Z
UID:10003597-1880012700-1880014500@eccridgetown.ca
SUMMARY:Pre-service Coffee
DESCRIPTION:Join us Sunday morning before Service at 9:45 – 10:15am
URL:https://eccridgetown.ca/event/pre-service-coffee-fellowship/2029-07-29/
END:VEVENT
BEGIN:VEVENT
DTSTART;TZID=America/Toronto:20290729T103000
DTEND;TZID=America/Toronto:20290729T120000
DTSTAMP:20260425T111832
CREATED:20251029T213214Z
LAST-MODIFIED:20260125T143221Z
UID:10002986-1880015400-1880020800@eccridgetown.ca
SUMMARY:Sunday Morning Worship
DESCRIPTION:Everyone welcome!
URL:https://eccridgetown.ca/event/sunday-morning-service-2-5-2/2029-07-29/
END:VEVENT
BEGIN:VEVENT
DTSTART;TZID=America/Toronto:20290805T090000
DTEND;TZID=America/Toronto:20290805T103000
DTSTAMP:20260425T111832
CREATED:20240430T215324Z
LAST-MODIFIED:20260125T142754Z
UID:10003668-1880614800-1880620200@eccridgetown.ca
SUMMARY:ECC Worship Singers Practice
DESCRIPTION:Anyone ages 10 or older who would like to sing or play a musical instrument come and join us!
URL:https://eccridgetown.ca/event/ecc-worship-singers-practice/2029-08-05/
END:VEVENT
BEGIN:VEVENT
DTSTART;TZID=America/Toronto:20290805T094500
DTEND;TZID=America/Toronto:20290805T101500
DTSTAMP:20260425T111832
CREATED:20231006T233639Z
LAST-MODIFIED:20260125T143033Z
UID:10003598-1880617500-1880619300@eccridgetown.ca
SUMMARY:Pre-service Coffee
DESCRIPTION:Join us Sunday morning before Service at 9:45 – 10:15am
URL:https://eccridgetown.ca/event/pre-service-coffee-fellowship/2029-08-05/
END:VEVENT
BEGIN:VEVENT
DTSTART;TZID=America/Toronto:20290805T103000
DTEND;TZID=America/Toronto:20290805T120000
DTSTAMP:20260425T111832
CREATED:20250522T160845Z
LAST-MODIFIED:20250902T215059Z
UID:10003235-1880620200-1880625600@eccridgetown.ca
SUMMARY:Food Bank Collection
DESCRIPTION:Please bring your donations the first Sunday of every month for our local Food Bank at the Salvation Army.  \nEven though the Thrift Store location has closed\, Food Bank services in Ridgetown will continue.
URL:https://eccridgetown.ca/event/food-bank-collection-2/2029-08-05/
END:VEVENT
BEGIN:VEVENT
DTSTART;TZID=America/Toronto:20290805T103000
DTEND;TZID=America/Toronto:20290805T120000
DTSTAMP:20260425T111832
CREATED:20251029T213214Z
LAST-MODIFIED:20260125T143221Z
UID:10002987-1880620200-1880625600@eccridgetown.ca
SUMMARY:Sunday Morning Worship
DESCRIPTION:Everyone welcome!
URL:https://eccridgetown.ca/event/sunday-morning-service-2-5-2/2029-08-05/
END:VEVENT
BEGIN:VEVENT
DTSTART;TZID=America/Toronto:20290812T090000
DTEND;TZID=America/Toronto:20290812T103000
DTSTAMP:20260425T111832
CREATED:20240430T215324Z
LAST-MODIFIED:20260125T142754Z
UID:10003669-1881219600-1881225000@eccridgetown.ca
SUMMARY:ECC Worship Singers Practice
DESCRIPTION:Anyone ages 10 or older who would like to sing or play a musical instrument come and join us!
URL:https://eccridgetown.ca/event/ecc-worship-singers-practice/2029-08-12/
END:VEVENT
BEGIN:VEVENT
DTSTART;TZID=America/Toronto:20290812T094500
DTEND;TZID=America/Toronto:20290812T101500
DTSTAMP:20260425T111832
CREATED:20231006T233639Z
LAST-MODIFIED:20260125T143033Z
UID:10003599-1881222300-1881224100@eccridgetown.ca
SUMMARY:Pre-service Coffee
DESCRIPTION:Join us Sunday morning before Service at 9:45 – 10:15am
URL:https://eccridgetown.ca/event/pre-service-coffee-fellowship/2029-08-12/
END:VEVENT
BEGIN:VEVENT
DTSTART;TZID=America/Toronto:20290812T103000
DTEND;TZID=America/Toronto:20290812T120000
DTSTAMP:20260425T111832
CREATED:20251029T213214Z
LAST-MODIFIED:20260125T143221Z
UID:10002988-1881225000-1881230400@eccridgetown.ca
SUMMARY:Sunday Morning Worship
DESCRIPTION:Everyone welcome!
URL:https://eccridgetown.ca/event/sunday-morning-service-2-5-2/2029-08-12/
END:VEVENT
BEGIN:VEVENT
DTSTART;TZID=America/Toronto:20290819T090000
DTEND;TZID=America/Toronto:20290819T103000
DTSTAMP:20260425T111832
CREATED:20240430T215324Z
LAST-MODIFIED:20260125T142754Z
UID:10003670-1881824400-1881829800@eccridgetown.ca
SUMMARY:ECC Worship Singers Practice
DESCRIPTION:Anyone ages 10 or older who would like to sing or play a musical instrument come and join us!
URL:https://eccridgetown.ca/event/ecc-worship-singers-practice/2029-08-19/
END:VEVENT
BEGIN:VEVENT
DTSTART;TZID=America/Toronto:20290819T094500
DTEND;TZID=America/Toronto:20290819T101500
DTSTAMP:20260425T111832
CREATED:20231006T233639Z
LAST-MODIFIED:20260125T143033Z
UID:10003600-1881827100-1881828900@eccridgetown.ca
SUMMARY:Pre-service Coffee
DESCRIPTION:Join us Sunday morning before Service at 9:45 – 10:15am
URL:https://eccridgetown.ca/event/pre-service-coffee-fellowship/2029-08-19/
END:VEVENT
BEGIN:VEVENT
DTSTART;TZID=America/Toronto:20290819T103000
DTEND;TZID=America/Toronto:20290819T120000
DTSTAMP:20260425T111832
CREATED:20251029T213214Z
LAST-MODIFIED:20260125T143221Z
UID:10002989-1881829800-1881835200@eccridgetown.ca
SUMMARY:Sunday Morning Worship
DESCRIPTION:Everyone welcome!
URL:https://eccridgetown.ca/event/sunday-morning-service-2-5-2/2029-08-19/
END:VEVENT
BEGIN:VEVENT
DTSTART;TZID=America/Toronto:20290822T133000
DTEND;TZID=America/Toronto:20290822T150000
DTSTAMP:20260425T111832
CREATED:20260226T220327Z
LAST-MODIFIED:20260226T220328Z
UID:10002542-1882099800-1882105200@eccridgetown.ca
SUMMARY:Ladies Group
DESCRIPTION:All ladies of any age are welcome to join us for a great time of fellowship\, prayer\, devotion and planning is shared by all over a cup of coffee/tea.\nOur meetings are (usually) held the last Wednesday of the month\, from 1:30 till 3pm. (with the exception of July\, August and December)  \nThe ladies group hosts special events on behalf of the congregation\, and also for those out in the community. We provide lunches for funerals\, wedding receptions\, and any other special events that are requested. We also make donations to both local and international missions. In order to make these donations\, we host fundraising events such as bake sales.
URL:https://eccridgetown.ca/event/ladies-meeting-3-3-2-3/2029-08-22/
END:VEVENT
BEGIN:VEVENT
DTSTART;TZID=America/Toronto:20290826T090000
DTEND;TZID=America/Toronto:20290826T103000
DTSTAMP:20260425T111832
CREATED:20240430T215324Z
LAST-MODIFIED:20260125T142754Z
UID:10003671-1882429200-1882434600@eccridgetown.ca
SUMMARY:ECC Worship Singers Practice
DESCRIPTION:Anyone ages 10 or older who would like to sing or play a musical instrument come and join us!
URL:https://eccridgetown.ca/event/ecc-worship-singers-practice/2029-08-26/
END:VEVENT
BEGIN:VEVENT
DTSTART;TZID=America/Toronto:20290826T094500
DTEND;TZID=America/Toronto:20290826T101500
DTSTAMP:20260425T111832
CREATED:20231006T233639Z
LAST-MODIFIED:20260125T143033Z
UID:10003601-1882431900-1882433700@eccridgetown.ca
SUMMARY:Pre-service Coffee
DESCRIPTION:Join us Sunday morning before Service at 9:45 – 10:15am
URL:https://eccridgetown.ca/event/pre-service-coffee-fellowship/2029-08-26/
END:VEVENT
BEGIN:VEVENT
DTSTART;TZID=America/Toronto:20290826T103000
DTEND;TZID=America/Toronto:20290826T120000
DTSTAMP:20260425T111832
CREATED:20251029T213214Z
LAST-MODIFIED:20260125T143221Z
UID:10002990-1882434600-1882440000@eccridgetown.ca
SUMMARY:Sunday Morning Worship
DESCRIPTION:Everyone welcome!
URL:https://eccridgetown.ca/event/sunday-morning-service-2-5-2/2029-08-26/
END:VEVENT
BEGIN:VEVENT
DTSTART;TZID=America/Toronto:20290902T090000
DTEND;TZID=America/Toronto:20290902T103000
DTSTAMP:20260425T111832
CREATED:20240430T215324Z
LAST-MODIFIED:20260125T142754Z
UID:10003672-1883034000-1883039400@eccridgetown.ca
SUMMARY:ECC Worship Singers Practice
DESCRIPTION:Anyone ages 10 or older who would like to sing or play a musical instrument come and join us!
URL:https://eccridgetown.ca/event/ecc-worship-singers-practice/2029-09-02/
END:VEVENT
BEGIN:VEVENT
DTSTART;TZID=America/Toronto:20290902T094500
DTEND;TZID=America/Toronto:20290902T101500
DTSTAMP:20260425T111832
CREATED:20231006T233639Z
LAST-MODIFIED:20260125T143033Z
UID:10003602-1883036700-1883038500@eccridgetown.ca
SUMMARY:Pre-service Coffee
DESCRIPTION:Join us Sunday morning before Service at 9:45 – 10:15am
URL:https://eccridgetown.ca/event/pre-service-coffee-fellowship/2029-09-02/
END:VEVENT
END:VCALENDAR