BEGIN:VCALENDAR
VERSION:2.0
PRODID:-//Emmanuel Congregational Church - ECPv6.2.3//NONSGML v1.0//EN
CALSCALE:GREGORIAN
METHOD:PUBLISH
X-WR-CALNAME:Emmanuel Congregational Church
X-ORIGINAL-URL:https://eccridgetown.ca
X-WR-CALDESC:Events for Emmanuel Congregational Church
REFRESH-INTERVAL;VALUE=DURATION:PT1H
X-Robots-Tag:noindex
X-PUBLISHED-TTL:PT1H
BEGIN:VTIMEZONE
TZID:America/Toronto
BEGIN:DAYLIGHT
TZOFFSETFROM:-0500
TZOFFSETTO:-0400
TZNAME:EDT
DTSTART:20280312T070000
END:DAYLIGHT
BEGIN:STANDARD
TZOFFSETFROM:-0400
TZOFFSETTO:-0500
TZNAME:EST
DTSTART:20281105T060000
END:STANDARD
BEGIN:DAYLIGHT
TZOFFSETFROM:-0500
TZOFFSETTO:-0400
TZNAME:EDT
DTSTART:20290311T070000
END:DAYLIGHT
BEGIN:STANDARD
TZOFFSETFROM:-0400
TZOFFSETTO:-0500
TZNAME:EST
DTSTART:20291104T060000
END:STANDARD
END:VTIMEZONE
BEGIN:VEVENT
DTSTART;TZID=America/Toronto:20281231T090000
DTEND;TZID=America/Toronto:20281231T103000
DTSTAMP:20260423T071309
CREATED:20240430T215324Z
LAST-MODIFIED:20260125T142754Z
UID:10002020-1861866000-1861871400@eccridgetown.ca
SUMMARY:ECC Worship Singers Practice
DESCRIPTION:Anyone ages 10 or older who would like to sing or play a musical instrument come and join us!
URL:https://eccridgetown.ca/event/ecc-worship-singers-practice/2028-12-31/
END:VEVENT
BEGIN:VEVENT
DTSTART;TZID=America/Toronto:20281231T094500
DTEND;TZID=America/Toronto:20281231T101500
DTSTAMP:20260423T071309
CREATED:20231006T233639Z
LAST-MODIFIED:20260125T143033Z
UID:10003567-1861868700-1861870500@eccridgetown.ca
SUMMARY:Pre-service Coffee
DESCRIPTION:Join us Sunday morning before Service at 9:45 – 10:15am
URL:https://eccridgetown.ca/event/pre-service-coffee-fellowship/2028-12-31/
END:VEVENT
BEGIN:VEVENT
DTSTART;TZID=America/Toronto:20281231T103000
DTEND;TZID=America/Toronto:20281231T120000
DTSTAMP:20260423T071309
CREATED:20251029T213214Z
LAST-MODIFIED:20260125T143221Z
UID:10002956-1861871400-1861876800@eccridgetown.ca
SUMMARY:Sunday Morning Worship
DESCRIPTION:Everyone welcome!
URL:https://eccridgetown.ca/event/sunday-morning-service-2-5-2/2028-12-31/
END:VEVENT
BEGIN:VEVENT
DTSTART;TZID=America/Toronto:20290107T090000
DTEND;TZID=America/Toronto:20290107T103000
DTSTAMP:20260423T071309
CREATED:20240430T215324Z
LAST-MODIFIED:20260125T142754Z
UID:10002021-1862470800-1862476200@eccridgetown.ca
SUMMARY:ECC Worship Singers Practice
DESCRIPTION:Anyone ages 10 or older who would like to sing or play a musical instrument come and join us!
URL:https://eccridgetown.ca/event/ecc-worship-singers-practice/2029-01-07/
END:VEVENT
BEGIN:VEVENT
DTSTART;TZID=America/Toronto:20290107T094500
DTEND;TZID=America/Toronto:20290107T101500
DTSTAMP:20260423T071309
CREATED:20231006T233639Z
LAST-MODIFIED:20260125T143033Z
UID:10003568-1862473500-1862475300@eccridgetown.ca
SUMMARY:Pre-service Coffee
DESCRIPTION:Join us Sunday morning before Service at 9:45 – 10:15am
URL:https://eccridgetown.ca/event/pre-service-coffee-fellowship/2029-01-07/
END:VEVENT
BEGIN:VEVENT
DTSTART;TZID=America/Toronto:20290107T103000
DTEND;TZID=America/Toronto:20290107T120000
DTSTAMP:20260423T071309
CREATED:20250522T160845Z
LAST-MODIFIED:20250902T215059Z
UID:10003228-1862476200-1862481600@eccridgetown.ca
SUMMARY:Food Bank Collection
DESCRIPTION:Please bring your donations the first Sunday of every month for our local Food Bank at the Salvation Army.  \nEven though the Thrift Store location has closed\, Food Bank services in Ridgetown will continue.
URL:https://eccridgetown.ca/event/food-bank-collection-2/2029-01-07/
END:VEVENT
BEGIN:VEVENT
DTSTART;TZID=America/Toronto:20290107T103000
DTEND;TZID=America/Toronto:20290107T120000
DTSTAMP:20260423T071309
CREATED:20251029T213214Z
LAST-MODIFIED:20260125T143221Z
UID:10002957-1862476200-1862481600@eccridgetown.ca
SUMMARY:Sunday Morning Worship
DESCRIPTION:Everyone welcome!
URL:https://eccridgetown.ca/event/sunday-morning-service-2-5-2/2029-01-07/
END:VEVENT
BEGIN:VEVENT
DTSTART;TZID=America/Toronto:20290114T090000
DTEND;TZID=America/Toronto:20290114T103000
DTSTAMP:20260423T071309
CREATED:20240430T215324Z
LAST-MODIFIED:20260125T142754Z
UID:10002022-1863075600-1863081000@eccridgetown.ca
SUMMARY:ECC Worship Singers Practice
DESCRIPTION:Anyone ages 10 or older who would like to sing or play a musical instrument come and join us!
URL:https://eccridgetown.ca/event/ecc-worship-singers-practice/2029-01-14/
END:VEVENT
BEGIN:VEVENT
DTSTART;TZID=America/Toronto:20290114T094500
DTEND;TZID=America/Toronto:20290114T101500
DTSTAMP:20260423T071309
CREATED:20231006T233639Z
LAST-MODIFIED:20260125T143033Z
UID:10003569-1863078300-1863080100@eccridgetown.ca
SUMMARY:Pre-service Coffee
DESCRIPTION:Join us Sunday morning before Service at 9:45 – 10:15am
URL:https://eccridgetown.ca/event/pre-service-coffee-fellowship/2029-01-14/
END:VEVENT
BEGIN:VEVENT
DTSTART;TZID=America/Toronto:20290114T103000
DTEND;TZID=America/Toronto:20290114T120000
DTSTAMP:20260423T071309
CREATED:20251029T213214Z
LAST-MODIFIED:20260125T143221Z
UID:10002958-1863081000-1863086400@eccridgetown.ca
SUMMARY:Sunday Morning Worship
DESCRIPTION:Everyone welcome!
URL:https://eccridgetown.ca/event/sunday-morning-service-2-5-2/2029-01-14/
END:VEVENT
BEGIN:VEVENT
DTSTART;TZID=America/Toronto:20290121T090000
DTEND;TZID=America/Toronto:20290121T103000
DTSTAMP:20260423T071309
CREATED:20240430T215324Z
LAST-MODIFIED:20260125T142754Z
UID:10002023-1863680400-1863685800@eccridgetown.ca
SUMMARY:ECC Worship Singers Practice
DESCRIPTION:Anyone ages 10 or older who would like to sing or play a musical instrument come and join us!
URL:https://eccridgetown.ca/event/ecc-worship-singers-practice/2029-01-21/
END:VEVENT
BEGIN:VEVENT
DTSTART;TZID=America/Toronto:20290121T094500
DTEND;TZID=America/Toronto:20290121T101500
DTSTAMP:20260423T071309
CREATED:20231006T233639Z
LAST-MODIFIED:20260125T143033Z
UID:10003570-1863683100-1863684900@eccridgetown.ca
SUMMARY:Pre-service Coffee
DESCRIPTION:Join us Sunday morning before Service at 9:45 – 10:15am
URL:https://eccridgetown.ca/event/pre-service-coffee-fellowship/2029-01-21/
END:VEVENT
BEGIN:VEVENT
DTSTART;TZID=America/Toronto:20290121T103000
DTEND;TZID=America/Toronto:20290121T120000
DTSTAMP:20260423T071309
CREATED:20251029T213214Z
LAST-MODIFIED:20260125T143221Z
UID:10002959-1863685800-1863691200@eccridgetown.ca
SUMMARY:Sunday Morning Worship
DESCRIPTION:Everyone welcome!
URL:https://eccridgetown.ca/event/sunday-morning-service-2-5-2/2029-01-21/
END:VEVENT
BEGIN:VEVENT
DTSTART;TZID=America/Toronto:20290124T133000
DTEND;TZID=America/Toronto:20290124T150000
DTSTAMP:20260423T071309
CREATED:20260226T220327Z
LAST-MODIFIED:20260226T220328Z
UID:10002535-1863955800-1863961200@eccridgetown.ca
SUMMARY:Ladies Group
DESCRIPTION:All ladies of any age are welcome to join us for a great time of fellowship\, prayer\, devotion and planning is shared by all over a cup of coffee/tea.\nOur meetings are (usually) held the last Wednesday of the month\, from 1:30 till 3pm. (with the exception of July\, August and December)  \nThe ladies group hosts special events on behalf of the congregation\, and also for those out in the community. We provide lunches for funerals\, wedding receptions\, and any other special events that are requested. We also make donations to both local and international missions. In order to make these donations\, we host fundraising events such as bake sales.
URL:https://eccridgetown.ca/event/ladies-meeting-3-3-2-3/2029-01-24/
END:VEVENT
BEGIN:VEVENT
DTSTART;TZID=America/Toronto:20290128T090000
DTEND;TZID=America/Toronto:20290128T103000
DTSTAMP:20260423T071309
CREATED:20240430T215324Z
LAST-MODIFIED:20260125T142754Z
UID:10002024-1864285200-1864290600@eccridgetown.ca
SUMMARY:ECC Worship Singers Practice
DESCRIPTION:Anyone ages 10 or older who would like to sing or play a musical instrument come and join us!
URL:https://eccridgetown.ca/event/ecc-worship-singers-practice/2029-01-28/
END:VEVENT
BEGIN:VEVENT
DTSTART;TZID=America/Toronto:20290128T094500
DTEND;TZID=America/Toronto:20290128T101500
DTSTAMP:20260423T071309
CREATED:20231006T233639Z
LAST-MODIFIED:20260125T143033Z
UID:10003571-1864287900-1864289700@eccridgetown.ca
SUMMARY:Pre-service Coffee
DESCRIPTION:Join us Sunday morning before Service at 9:45 – 10:15am
URL:https://eccridgetown.ca/event/pre-service-coffee-fellowship/2029-01-28/
END:VEVENT
BEGIN:VEVENT
DTSTART;TZID=America/Toronto:20290128T103000
DTEND;TZID=America/Toronto:20290128T120000
DTSTAMP:20260423T071309
CREATED:20251029T213214Z
LAST-MODIFIED:20260125T143221Z
UID:10002960-1864290600-1864296000@eccridgetown.ca
SUMMARY:Sunday Morning Worship
DESCRIPTION:Everyone welcome!
URL:https://eccridgetown.ca/event/sunday-morning-service-2-5-2/2029-01-28/
END:VEVENT
BEGIN:VEVENT
DTSTART;TZID=America/Toronto:20290204T090000
DTEND;TZID=America/Toronto:20290204T103000
DTSTAMP:20260423T071309
CREATED:20240430T215324Z
LAST-MODIFIED:20260125T142754Z
UID:10002025-1864890000-1864895400@eccridgetown.ca
SUMMARY:ECC Worship Singers Practice
DESCRIPTION:Anyone ages 10 or older who would like to sing or play a musical instrument come and join us!
URL:https://eccridgetown.ca/event/ecc-worship-singers-practice/2029-02-04/
END:VEVENT
BEGIN:VEVENT
DTSTART;TZID=America/Toronto:20290204T094500
DTEND;TZID=America/Toronto:20290204T101500
DTSTAMP:20260423T071309
CREATED:20231006T233639Z
LAST-MODIFIED:20260125T143033Z
UID:10003572-1864892700-1864894500@eccridgetown.ca
SUMMARY:Pre-service Coffee
DESCRIPTION:Join us Sunday morning before Service at 9:45 – 10:15am
URL:https://eccridgetown.ca/event/pre-service-coffee-fellowship/2029-02-04/
END:VEVENT
BEGIN:VEVENT
DTSTART;TZID=America/Toronto:20290204T103000
DTEND;TZID=America/Toronto:20290204T120000
DTSTAMP:20260423T071309
CREATED:20250522T160845Z
LAST-MODIFIED:20250902T215059Z
UID:10003229-1864895400-1864900800@eccridgetown.ca
SUMMARY:Food Bank Collection
DESCRIPTION:Please bring your donations the first Sunday of every month for our local Food Bank at the Salvation Army.  \nEven though the Thrift Store location has closed\, Food Bank services in Ridgetown will continue.
URL:https://eccridgetown.ca/event/food-bank-collection-2/2029-02-04/
END:VEVENT
BEGIN:VEVENT
DTSTART;TZID=America/Toronto:20290204T103000
DTEND;TZID=America/Toronto:20290204T120000
DTSTAMP:20260423T071309
CREATED:20251029T213214Z
LAST-MODIFIED:20260125T143221Z
UID:10002961-1864895400-1864900800@eccridgetown.ca
SUMMARY:Sunday Morning Worship
DESCRIPTION:Everyone welcome!
URL:https://eccridgetown.ca/event/sunday-morning-service-2-5-2/2029-02-04/
END:VEVENT
BEGIN:VEVENT
DTSTART;TZID=America/Toronto:20290211T090000
DTEND;TZID=America/Toronto:20290211T103000
DTSTAMP:20260423T071309
CREATED:20240430T215324Z
LAST-MODIFIED:20260125T142754Z
UID:10002026-1865494800-1865500200@eccridgetown.ca
SUMMARY:ECC Worship Singers Practice
DESCRIPTION:Anyone ages 10 or older who would like to sing or play a musical instrument come and join us!
URL:https://eccridgetown.ca/event/ecc-worship-singers-practice/2029-02-11/
END:VEVENT
BEGIN:VEVENT
DTSTART;TZID=America/Toronto:20290211T094500
DTEND;TZID=America/Toronto:20290211T101500
DTSTAMP:20260423T071309
CREATED:20231006T233639Z
LAST-MODIFIED:20260125T143033Z
UID:10003573-1865497500-1865499300@eccridgetown.ca
SUMMARY:Pre-service Coffee
DESCRIPTION:Join us Sunday morning before Service at 9:45 – 10:15am
URL:https://eccridgetown.ca/event/pre-service-coffee-fellowship/2029-02-11/
END:VEVENT
BEGIN:VEVENT
DTSTART;TZID=America/Toronto:20290211T103000
DTEND;TZID=America/Toronto:20290211T120000
DTSTAMP:20260423T071309
CREATED:20251029T213214Z
LAST-MODIFIED:20260125T143221Z
UID:10002962-1865500200-1865505600@eccridgetown.ca
SUMMARY:Sunday Morning Worship
DESCRIPTION:Everyone welcome!
URL:https://eccridgetown.ca/event/sunday-morning-service-2-5-2/2029-02-11/
END:VEVENT
BEGIN:VEVENT
DTSTART;TZID=America/Toronto:20290218T090000
DTEND;TZID=America/Toronto:20290218T103000
DTSTAMP:20260423T071309
CREATED:20240430T215324Z
LAST-MODIFIED:20260125T142754Z
UID:10002027-1866099600-1866105000@eccridgetown.ca
SUMMARY:ECC Worship Singers Practice
DESCRIPTION:Anyone ages 10 or older who would like to sing or play a musical instrument come and join us!
URL:https://eccridgetown.ca/event/ecc-worship-singers-practice/2029-02-18/
END:VEVENT
BEGIN:VEVENT
DTSTART;TZID=America/Toronto:20290218T094500
DTEND;TZID=America/Toronto:20290218T101500
DTSTAMP:20260423T071309
CREATED:20231006T233639Z
LAST-MODIFIED:20260125T143033Z
UID:10003574-1866102300-1866104100@eccridgetown.ca
SUMMARY:Pre-service Coffee
DESCRIPTION:Join us Sunday morning before Service at 9:45 – 10:15am
URL:https://eccridgetown.ca/event/pre-service-coffee-fellowship/2029-02-18/
END:VEVENT
BEGIN:VEVENT
DTSTART;TZID=America/Toronto:20290218T103000
DTEND;TZID=America/Toronto:20290218T120000
DTSTAMP:20260423T071309
CREATED:20251029T213214Z
LAST-MODIFIED:20260125T143221Z
UID:10002963-1866105000-1866110400@eccridgetown.ca
SUMMARY:Sunday Morning Worship
DESCRIPTION:Everyone welcome!
URL:https://eccridgetown.ca/event/sunday-morning-service-2-5-2/2029-02-18/
END:VEVENT
BEGIN:VEVENT
DTSTART;TZID=America/Toronto:20290225T090000
DTEND;TZID=America/Toronto:20290225T103000
DTSTAMP:20260423T071309
CREATED:20240430T215324Z
LAST-MODIFIED:20260125T142754Z
UID:10002028-1866704400-1866709800@eccridgetown.ca
SUMMARY:ECC Worship Singers Practice
DESCRIPTION:Anyone ages 10 or older who would like to sing or play a musical instrument come and join us!
URL:https://eccridgetown.ca/event/ecc-worship-singers-practice/2029-02-25/
END:VEVENT
BEGIN:VEVENT
DTSTART;TZID=America/Toronto:20290225T094500
DTEND;TZID=America/Toronto:20290225T101500
DTSTAMP:20260423T071309
CREATED:20231006T233639Z
LAST-MODIFIED:20260125T143033Z
UID:10003575-1866707100-1866708900@eccridgetown.ca
SUMMARY:Pre-service Coffee
DESCRIPTION:Join us Sunday morning before Service at 9:45 – 10:15am
URL:https://eccridgetown.ca/event/pre-service-coffee-fellowship/2029-02-25/
END:VEVENT
BEGIN:VEVENT
DTSTART;TZID=America/Toronto:20290225T103000
DTEND;TZID=America/Toronto:20290225T120000
DTSTAMP:20260423T071309
CREATED:20251029T213214Z
LAST-MODIFIED:20260125T143221Z
UID:10002964-1866709800-1866715200@eccridgetown.ca
SUMMARY:Sunday Morning Worship
DESCRIPTION:Everyone welcome!
URL:https://eccridgetown.ca/event/sunday-morning-service-2-5-2/2029-02-25/
END:VEVENT
END:VCALENDAR