BEGIN:VCALENDAR
VERSION:2.0
PRODID:-//Emmanuel Congregational Church - ECPv6.2.3//NONSGML v1.0//EN
CALSCALE:GREGORIAN
METHOD:PUBLISH
X-ORIGINAL-URL:https://eccridgetown.ca
X-WR-CALDESC:Events for Emmanuel Congregational Church
REFRESH-INTERVAL;VALUE=DURATION:PT1H
X-Robots-Tag:noindex
X-PUBLISHED-TTL:PT1H
BEGIN:VTIMEZONE
TZID:America/Toronto
BEGIN:DAYLIGHT
TZOFFSETFROM:-0500
TZOFFSETTO:-0400
TZNAME:EDT
DTSTART:20260308T070000
END:DAYLIGHT
BEGIN:STANDARD
TZOFFSETFROM:-0400
TZOFFSETTO:-0500
TZNAME:EST
DTSTART:20261101T060000
END:STANDARD
END:VTIMEZONE
BEGIN:VEVENT
DTSTART;TZID=America/Toronto:20260927T094500
DTEND;TZID=America/Toronto:20260927T101500
DTSTAMP:20260420T131244
CREATED:20231006T233639Z
LAST-MODIFIED:20260125T143033Z
UID:10001590-1790502300-1790504100@eccridgetown.ca
SUMMARY:Pre-service Coffee
DESCRIPTION:Join us Sunday morning before Service at 9:45 – 10:15am
URL:https://eccridgetown.ca/event/pre-service-coffee-fellowship/2026-09-27/
END:VEVENT
BEGIN:VEVENT
DTSTART;TZID=America/Toronto:20260927T103000
DTEND;TZID=America/Toronto:20260927T120000
DTSTAMP:20260420T131244
CREATED:20251029T213214Z
LAST-MODIFIED:20260125T143221Z
UID:10002838-1790505000-1790510400@eccridgetown.ca
SUMMARY:Sunday Morning Worship
DESCRIPTION:Everyone welcome!
URL:https://eccridgetown.ca/event/sunday-morning-service-2-5-2/2026-09-27/
END:VEVENT
BEGIN:VEVENT
DTSTART;TZID=America/Toronto:20261004T090000
DTEND;TZID=America/Toronto:20261004T103000
DTSTAMP:20260420T131244
CREATED:20240430T215324Z
LAST-MODIFIED:20260125T142754Z
UID:10001903-1791104400-1791109800@eccridgetown.ca
SUMMARY:ECC Worship Singers Practice
DESCRIPTION:Anyone ages 10 or older who would like to sing or play a musical instrument come and join us!
URL:https://eccridgetown.ca/event/ecc-worship-singers-practice/2026-10-04/
END:VEVENT
BEGIN:VEVENT
DTSTART;TZID=America/Toronto:20261004T094500
DTEND;TZID=America/Toronto:20261004T101500
DTSTAMP:20260420T131244
CREATED:20231006T233639Z
LAST-MODIFIED:20260125T143033Z
UID:10001591-1791107100-1791108900@eccridgetown.ca
SUMMARY:Pre-service Coffee
DESCRIPTION:Join us Sunday morning before Service at 9:45 – 10:15am
URL:https://eccridgetown.ca/event/pre-service-coffee-fellowship/2026-10-04/
END:VEVENT
BEGIN:VEVENT
DTSTART;TZID=America/Toronto:20261004T103000
DTEND;TZID=America/Toronto:20261004T120000
DTSTAMP:20260420T131244
CREATED:20250522T160845Z
LAST-MODIFIED:20250902T215059Z
UID:10003201-1791109800-1791115200@eccridgetown.ca
SUMMARY:Food Bank Collection
DESCRIPTION:Please bring your donations the first Sunday of every month for our local Food Bank at the Salvation Army.  \nEven though the Thrift Store location has closed\, Food Bank services in Ridgetown will continue.
URL:https://eccridgetown.ca/event/food-bank-collection-2/2026-10-04/
END:VEVENT
BEGIN:VEVENT
DTSTART;TZID=America/Toronto:20261004T103000
DTEND;TZID=America/Toronto:20261004T120000
DTSTAMP:20260420T131244
CREATED:20251029T213214Z
LAST-MODIFIED:20260125T143221Z
UID:10002839-1791109800-1791115200@eccridgetown.ca
SUMMARY:Sunday Morning Worship
DESCRIPTION:Everyone welcome!
URL:https://eccridgetown.ca/event/sunday-morning-service-2-5-2/2026-10-04/
END:VEVENT
BEGIN:VEVENT
DTSTART;TZID=America/Toronto:20261011T090000
DTEND;TZID=America/Toronto:20261011T103000
DTSTAMP:20260420T131244
CREATED:20240430T215324Z
LAST-MODIFIED:20260125T142754Z
UID:10001904-1791709200-1791714600@eccridgetown.ca
SUMMARY:ECC Worship Singers Practice
DESCRIPTION:Anyone ages 10 or older who would like to sing or play a musical instrument come and join us!
URL:https://eccridgetown.ca/event/ecc-worship-singers-practice/2026-10-11/
END:VEVENT
BEGIN:VEVENT
DTSTART;TZID=America/Toronto:20261011T094500
DTEND;TZID=America/Toronto:20261011T101500
DTSTAMP:20260420T131244
CREATED:20231006T233639Z
LAST-MODIFIED:20260125T143033Z
UID:10001592-1791711900-1791713700@eccridgetown.ca
SUMMARY:Pre-service Coffee
DESCRIPTION:Join us Sunday morning before Service at 9:45 – 10:15am
URL:https://eccridgetown.ca/event/pre-service-coffee-fellowship/2026-10-11/
END:VEVENT
BEGIN:VEVENT
DTSTART;TZID=America/Toronto:20261011T103000
DTEND;TZID=America/Toronto:20261011T120000
DTSTAMP:20260420T131244
CREATED:20251029T213214Z
LAST-MODIFIED:20260125T143221Z
UID:10002840-1791714600-1791720000@eccridgetown.ca
SUMMARY:Sunday Morning Worship
DESCRIPTION:Everyone welcome!
URL:https://eccridgetown.ca/event/sunday-morning-service-2-5-2/2026-10-11/
END:VEVENT
BEGIN:VEVENT
DTSTART;TZID=America/Toronto:20261018T090000
DTEND;TZID=America/Toronto:20261018T103000
DTSTAMP:20260420T131244
CREATED:20240430T215324Z
LAST-MODIFIED:20260125T142754Z
UID:10001905-1792314000-1792319400@eccridgetown.ca
SUMMARY:ECC Worship Singers Practice
DESCRIPTION:Anyone ages 10 or older who would like to sing or play a musical instrument come and join us!
URL:https://eccridgetown.ca/event/ecc-worship-singers-practice/2026-10-18/
END:VEVENT
BEGIN:VEVENT
DTSTART;TZID=America/Toronto:20261018T094500
DTEND;TZID=America/Toronto:20261018T101500
DTSTAMP:20260420T131244
CREATED:20231006T233639Z
LAST-MODIFIED:20260125T143033Z
UID:10001593-1792316700-1792318500@eccridgetown.ca
SUMMARY:Pre-service Coffee
DESCRIPTION:Join us Sunday morning before Service at 9:45 – 10:15am
URL:https://eccridgetown.ca/event/pre-service-coffee-fellowship/2026-10-18/
END:VEVENT
BEGIN:VEVENT
DTSTART;TZID=America/Toronto:20261018T103000
DTEND;TZID=America/Toronto:20261018T120000
DTSTAMP:20260420T131244
CREATED:20251029T213214Z
LAST-MODIFIED:20260125T143221Z
UID:10002841-1792319400-1792324800@eccridgetown.ca
SUMMARY:Sunday Morning Worship
DESCRIPTION:Everyone welcome!
URL:https://eccridgetown.ca/event/sunday-morning-service-2-5-2/2026-10-18/
END:VEVENT
BEGIN:VEVENT
DTSTART;TZID=America/Toronto:20261025T090000
DTEND;TZID=America/Toronto:20261025T103000
DTSTAMP:20260420T131244
CREATED:20240430T215324Z
LAST-MODIFIED:20260125T142754Z
UID:10001906-1792918800-1792924200@eccridgetown.ca
SUMMARY:ECC Worship Singers Practice
DESCRIPTION:Anyone ages 10 or older who would like to sing or play a musical instrument come and join us!
URL:https://eccridgetown.ca/event/ecc-worship-singers-practice/2026-10-25/
END:VEVENT
BEGIN:VEVENT
DTSTART;TZID=America/Toronto:20261025T094500
DTEND;TZID=America/Toronto:20261025T101500
DTSTAMP:20260420T131245
CREATED:20231006T233639Z
LAST-MODIFIED:20260125T143033Z
UID:10001594-1792921500-1792923300@eccridgetown.ca
SUMMARY:Pre-service Coffee
DESCRIPTION:Join us Sunday morning before Service at 9:45 – 10:15am
URL:https://eccridgetown.ca/event/pre-service-coffee-fellowship/2026-10-25/
END:VEVENT
BEGIN:VEVENT
DTSTART;TZID=America/Toronto:20261025T103000
DTEND;TZID=America/Toronto:20261025T120000
DTSTAMP:20260420T131245
CREATED:20251029T213214Z
LAST-MODIFIED:20260125T143221Z
UID:10002842-1792924200-1792929600@eccridgetown.ca
SUMMARY:Sunday Morning Worship
DESCRIPTION:Everyone welcome!
URL:https://eccridgetown.ca/event/sunday-morning-service-2-5-2/2026-10-25/
END:VEVENT
BEGIN:VEVENT
DTSTART;TZID=America/Toronto:20261028T133000
DTEND;TZID=America/Toronto:20261028T150000
DTSTAMP:20260420T131245
CREATED:20260226T220327Z
LAST-MODIFIED:20260226T220328Z
UID:10002508-1793194200-1793199600@eccridgetown.ca
SUMMARY:Ladies Group
DESCRIPTION:All ladies of any age are welcome to join us for a great time of fellowship\, prayer\, devotion and planning is shared by all over a cup of coffee/tea.\nOur meetings are (usually) held the last Wednesday of the month\, from 1:30 till 3pm. (with the exception of July\, August and December)  \nThe ladies group hosts special events on behalf of the congregation\, and also for those out in the community. We provide lunches for funerals\, wedding receptions\, and any other special events that are requested. We also make donations to both local and international missions. In order to make these donations\, we host fundraising events such as bake sales.
URL:https://eccridgetown.ca/event/ladies-meeting-3-3-2-3/2026-10-28/
END:VEVENT
BEGIN:VEVENT
DTSTART;TZID=America/Toronto:20261101T090000
DTEND;TZID=America/Toronto:20261101T103000
DTSTAMP:20260420T131245
CREATED:20240430T215324Z
LAST-MODIFIED:20260125T142754Z
UID:10001907-1793523600-1793529000@eccridgetown.ca
SUMMARY:ECC Worship Singers Practice
DESCRIPTION:Anyone ages 10 or older who would like to sing or play a musical instrument come and join us!
URL:https://eccridgetown.ca/event/ecc-worship-singers-practice/2026-11-01/
END:VEVENT
BEGIN:VEVENT
DTSTART;TZID=America/Toronto:20261101T094500
DTEND;TZID=America/Toronto:20261101T101500
DTSTAMP:20260420T131245
CREATED:20231006T233639Z
LAST-MODIFIED:20260125T143033Z
UID:10001595-1793526300-1793528100@eccridgetown.ca
SUMMARY:Pre-service Coffee
DESCRIPTION:Join us Sunday morning before Service at 9:45 – 10:15am
URL:https://eccridgetown.ca/event/pre-service-coffee-fellowship/2026-11-01/
END:VEVENT
BEGIN:VEVENT
DTSTART;TZID=America/Toronto:20261101T103000
DTEND;TZID=America/Toronto:20261101T120000
DTSTAMP:20260420T131245
CREATED:20250522T160845Z
LAST-MODIFIED:20250902T215059Z
UID:10003202-1793529000-1793534400@eccridgetown.ca
SUMMARY:Food Bank Collection
DESCRIPTION:Please bring your donations the first Sunday of every month for our local Food Bank at the Salvation Army.  \nEven though the Thrift Store location has closed\, Food Bank services in Ridgetown will continue.
URL:https://eccridgetown.ca/event/food-bank-collection-2/2026-11-01/
END:VEVENT
BEGIN:VEVENT
DTSTART;TZID=America/Toronto:20261101T103000
DTEND;TZID=America/Toronto:20261101T120000
DTSTAMP:20260420T131245
CREATED:20251029T213214Z
LAST-MODIFIED:20260125T143221Z
UID:10002843-1793529000-1793534400@eccridgetown.ca
SUMMARY:Sunday Morning Worship
DESCRIPTION:Everyone welcome!
URL:https://eccridgetown.ca/event/sunday-morning-service-2-5-2/2026-11-01/
END:VEVENT
BEGIN:VEVENT
DTSTART;TZID=America/Toronto:20261108T090000
DTEND;TZID=America/Toronto:20261108T103000
DTSTAMP:20260420T131245
CREATED:20240430T215324Z
LAST-MODIFIED:20260125T142754Z
UID:10001908-1794128400-1794133800@eccridgetown.ca
SUMMARY:ECC Worship Singers Practice
DESCRIPTION:Anyone ages 10 or older who would like to sing or play a musical instrument come and join us!
URL:https://eccridgetown.ca/event/ecc-worship-singers-practice/2026-11-08/
END:VEVENT
BEGIN:VEVENT
DTSTART;TZID=America/Toronto:20261108T094500
DTEND;TZID=America/Toronto:20261108T101500
DTSTAMP:20260420T131245
CREATED:20231006T233639Z
LAST-MODIFIED:20260125T143033Z
UID:10001596-1794131100-1794132900@eccridgetown.ca
SUMMARY:Pre-service Coffee
DESCRIPTION:Join us Sunday morning before Service at 9:45 – 10:15am
URL:https://eccridgetown.ca/event/pre-service-coffee-fellowship/2026-11-08/
END:VEVENT
BEGIN:VEVENT
DTSTART;TZID=America/Toronto:20261108T103000
DTEND;TZID=America/Toronto:20261108T120000
DTSTAMP:20260420T131245
CREATED:20251029T213214Z
LAST-MODIFIED:20260125T143221Z
UID:10002844-1794133800-1794139200@eccridgetown.ca
SUMMARY:Sunday Morning Worship
DESCRIPTION:Everyone welcome!
URL:https://eccridgetown.ca/event/sunday-morning-service-2-5-2/2026-11-08/
END:VEVENT
BEGIN:VEVENT
DTSTART;TZID=America/Toronto:20261115T090000
DTEND;TZID=America/Toronto:20261115T103000
DTSTAMP:20260420T131245
CREATED:20240430T215324Z
LAST-MODIFIED:20260125T142754Z
UID:10001909-1794733200-1794738600@eccridgetown.ca
SUMMARY:ECC Worship Singers Practice
DESCRIPTION:Anyone ages 10 or older who would like to sing or play a musical instrument come and join us!
URL:https://eccridgetown.ca/event/ecc-worship-singers-practice/2026-11-15/
END:VEVENT
BEGIN:VEVENT
DTSTART;TZID=America/Toronto:20261115T094500
DTEND;TZID=America/Toronto:20261115T101500
DTSTAMP:20260420T131245
CREATED:20231006T233639Z
LAST-MODIFIED:20260125T143033Z
UID:10001597-1794735900-1794737700@eccridgetown.ca
SUMMARY:Pre-service Coffee
DESCRIPTION:Join us Sunday morning before Service at 9:45 – 10:15am
URL:https://eccridgetown.ca/event/pre-service-coffee-fellowship/2026-11-15/
END:VEVENT
BEGIN:VEVENT
DTSTART;TZID=America/Toronto:20261115T103000
DTEND;TZID=America/Toronto:20261115T120000
DTSTAMP:20260420T131245
CREATED:20251029T213214Z
LAST-MODIFIED:20260125T143221Z
UID:10002845-1794738600-1794744000@eccridgetown.ca
SUMMARY:Sunday Morning Worship
DESCRIPTION:Everyone welcome!
URL:https://eccridgetown.ca/event/sunday-morning-service-2-5-2/2026-11-15/
END:VEVENT
BEGIN:VEVENT
DTSTART;TZID=America/Toronto:20261122T090000
DTEND;TZID=America/Toronto:20261122T103000
DTSTAMP:20260420T131245
CREATED:20240430T215324Z
LAST-MODIFIED:20260125T142754Z
UID:10001910-1795338000-1795343400@eccridgetown.ca
SUMMARY:ECC Worship Singers Practice
DESCRIPTION:Anyone ages 10 or older who would like to sing or play a musical instrument come and join us!
URL:https://eccridgetown.ca/event/ecc-worship-singers-practice/2026-11-22/
END:VEVENT
BEGIN:VEVENT
DTSTART;TZID=America/Toronto:20261122T094500
DTEND;TZID=America/Toronto:20261122T101500
DTSTAMP:20260420T131245
CREATED:20231006T233639Z
LAST-MODIFIED:20260125T143033Z
UID:10001598-1795340700-1795342500@eccridgetown.ca
SUMMARY:Pre-service Coffee
DESCRIPTION:Join us Sunday morning before Service at 9:45 – 10:15am
URL:https://eccridgetown.ca/event/pre-service-coffee-fellowship/2026-11-22/
END:VEVENT
BEGIN:VEVENT
DTSTART;TZID=America/Toronto:20261122T103000
DTEND;TZID=America/Toronto:20261122T120000
DTSTAMP:20260420T131245
CREATED:20251029T213214Z
LAST-MODIFIED:20260125T143221Z
UID:10002846-1795343400-1795348800@eccridgetown.ca
SUMMARY:Sunday Morning Worship
DESCRIPTION:Everyone welcome!
URL:https://eccridgetown.ca/event/sunday-morning-service-2-5-2/2026-11-22/
END:VEVENT
BEGIN:VEVENT
DTSTART;TZID=America/Toronto:20261125T133000
DTEND;TZID=America/Toronto:20261125T150000
DTSTAMP:20260420T131245
CREATED:20260226T220327Z
LAST-MODIFIED:20260226T220328Z
UID:10002509-1795613400-1795618800@eccridgetown.ca
SUMMARY:Ladies Group
DESCRIPTION:All ladies of any age are welcome to join us for a great time of fellowship\, prayer\, devotion and planning is shared by all over a cup of coffee/tea.\nOur meetings are (usually) held the last Wednesday of the month\, from 1:30 till 3pm. (with the exception of July\, August and December)  \nThe ladies group hosts special events on behalf of the congregation\, and also for those out in the community. We provide lunches for funerals\, wedding receptions\, and any other special events that are requested. We also make donations to both local and international missions. In order to make these donations\, we host fundraising events such as bake sales.
URL:https://eccridgetown.ca/event/ladies-meeting-3-3-2-3/2026-11-25/
END:VEVENT
END:VCALENDAR