BEGIN:VCALENDAR
VERSION:2.0
PRODID:-//Emmanuel Congregational Church - ECPv6.2.3//NONSGML v1.0//EN
CALSCALE:GREGORIAN
METHOD:PUBLISH
X-WR-CALNAME:Emmanuel Congregational Church
X-ORIGINAL-URL:https://eccridgetown.ca
X-WR-CALDESC:Events for Emmanuel Congregational Church
REFRESH-INTERVAL;VALUE=DURATION:PT1H
X-Robots-Tag:noindex
X-PUBLISHED-TTL:PT1H
BEGIN:VTIMEZONE
TZID:America/Toronto
BEGIN:DAYLIGHT
TZOFFSETFROM:-0500
TZOFFSETTO:-0400
TZNAME:EDT
DTSTART:20250309T070000
END:DAYLIGHT
BEGIN:STANDARD
TZOFFSETFROM:-0400
TZOFFSETTO:-0500
TZNAME:EST
DTSTART:20251102T060000
END:STANDARD
END:VTIMEZONE
BEGIN:VEVENT
DTSTART;TZID=America/Toronto:20251214T183000
DTEND;TZID=America/Toronto:20251214T193000
DTSTAMP:20260420T210258
CREATED:20251130T231039Z
LAST-MODIFIED:20251130T231055Z
UID:10003896-1765737000-1765740600@eccridgetown.ca
SUMMARY:Ridgetown's Living Nativity
DESCRIPTION:THE LIVING NATIVITY will be held at the Ridgetown Fair Grounds picnic shelter\, behind Timmie’s.
URL:https://eccridgetown.ca/event/ridgetown-living-nativity/
END:VEVENT
BEGIN:VEVENT
DTSTART;TZID=America/Toronto:20251214T103000
DTEND;TZID=America/Toronto:20251214T120000
DTSTAMP:20260420T210258
CREATED:20251029T213214Z
LAST-MODIFIED:20260125T143221Z
UID:10002797-1765708200-1765713600@eccridgetown.ca
SUMMARY:Sunday Morning Worship
DESCRIPTION:Everyone welcome!
URL:https://eccridgetown.ca/event/sunday-morning-service-2-5-2/2025-12-14/
END:VEVENT
BEGIN:VEVENT
DTSTART;TZID=America/Toronto:20251214T094500
DTEND;TZID=America/Toronto:20251214T101500
DTSTAMP:20260420T210258
CREATED:20231006T233639Z
LAST-MODIFIED:20260125T143033Z
UID:10001549-1765705500-1765707300@eccridgetown.ca
SUMMARY:Pre-service Coffee
DESCRIPTION:Join us Sunday morning before Service at 9:45 – 10:15am
URL:https://eccridgetown.ca/event/pre-service-coffee-fellowship/2025-12-14/
END:VEVENT
BEGIN:VEVENT
DTSTART;TZID=America/Toronto:20251214T090000
DTEND;TZID=America/Toronto:20251214T103000
DTSTAMP:20260420T210258
CREATED:20240430T215324Z
LAST-MODIFIED:20260125T142754Z
UID:10001861-1765702800-1765708200@eccridgetown.ca
SUMMARY:ECC Worship Singers Practice
DESCRIPTION:Anyone ages 10 or older who would like to sing or play a musical instrument come and join us!
URL:https://eccridgetown.ca/event/ecc-worship-singers-practice/2025-12-14/
END:VEVENT
BEGIN:VEVENT
DTSTART;TZID=America/Toronto:20251212T190000
DTEND;TZID=America/Toronto:20251212T210000
DTSTAMP:20260420T210258
CREATED:20250909T155012Z
LAST-MODIFIED:20250923T211946Z
UID:10003767-1765566000-1765573200@eccridgetown.ca
SUMMARY:Lion Heart Youth
DESCRIPTION:Every Friday\, Lion Heart Youth gathers for an engaging\, exciting\, and uplifting experience. Our program is open to students in grade 7-12. \nEach week\, our evenings are filled with exciting activities\, insightful discussions\, and meaningful connections. \nEach night includes games\, devotions\, worship\, fun\, and fellowship. \nCheck out our home page for more details!
URL:https://eccridgetown.ca/event/lion-heart-youth-11/2025-12-12/
ATTACH;FMTTYPE=application/pdf:https://eccridgetown.ca/wp-content/uploads/2025/09/2025-26-Youth-Schedule-Sept-Jun.pdf
END:VEVENT
BEGIN:VEVENT
DTSTART;TZID=America/Toronto:20251211T183000
DTEND;TZID=America/Toronto:20251211T200000
DTSTAMP:20260420T210258
CREATED:20250918T025426Z
LAST-MODIFIED:20251130T230248Z
UID:10003777-1765477800-1765483200@eccridgetown.ca
SUMMARY:Women’s Bible Study on EPHESIANS.
DESCRIPTION:It will be on Thursday nights beginning Oct. 2nd from 6:30pm – 8:00pm and it will be every other week.  \nCost is $18.65 due on/before Sept. 28th to order books. \nEphesians\nHow can we live more authentic lives?\nChristian community can be difficult to navigate.\nWe are called to live in unity with other Christians\, but that is sometimes easier said than done. Paul’s letter to the Ephesians addresses hypocrisy\, unity\, and other key issues the church still struggles with today. Dig deep into Ephesians and discover the practical insight intended to help you live and worship in harmony with your fellow believers.\nIn this Bible study you will find:\n• 14 lessons to lead you through the book of Ephesians
URL:https://eccridgetown.ca/event/womens-bible-study-on-ephesians/2025-12-11/
END:VEVENT
BEGIN:VEVENT
DTSTART;TZID=America/Toronto:20251209T190000
DTEND;TZID=America/Toronto:20251209T210000
DTSTAMP:20260420T210258
CREATED:20251001T032244Z
LAST-MODIFIED:20251217T200135Z
UID:10003798-1765306800-1765314000@eccridgetown.ca
SUMMARY:Teen Bible Quizzing Night
DESCRIPTION:Something New for Teens in Our Community! 🌟\nStarting this September\, Lion Heart Youth (grades 7–12 at The Gathering Place & Emmanuel Congregational Church) is launching a brand-new program called Bible Quizzing — and it’s open to ALL teens in the community\, whether they’ve ever been to church or not.\nThis is an awesome opportunity for students to join a team\, have fun\, and build memorization and teamwork skills in a friendly\, positive environment.\nSo\, what is it?\n👉 A fun\, game-style competition with buzzers\, teams\, and lots of fun\n👉 A chance to build confidence\, sharpen memory skills\, and make great friends\n👉 A safe space where teens are encouraged\, supported\, and challenged \n• Weekly Quizzing Nights: Beginning Tuesday\, September 16\, 7–9 PM (running September–May)\nThis year\, we’ll be exploring 1 & 2 Corinthians together — but no prior knowledge is needed! We’ll learn in a way that’s fun and engaging. And to top it off… at the end of the year we’ll take a weekend trip to Muskoka Woods! 🎉\nIf you’re looking for something new for your teen — a place that’s safe\, encouraging\, and a little competitive 😉 — come check it out!\nBring your student (and their friends!) to our Intro Night on September 9 at ECC to see what it’s all about.
URL:https://eccridgetown.ca/event/teen-bible-quizzing-night/2025-12-09/
END:VEVENT
BEGIN:VEVENT
DTSTART;TZID=America/Toronto:20251209T190000
DTEND;TZID=America/Toronto:20251209T200000
DTSTAMP:20260420T210258
CREATED:20251130T225423Z
LAST-MODIFIED:20251130T225423Z
UID:10003875-1765306800-1765310400@eccridgetown.ca
SUMMARY:NO Bible Study
DESCRIPTION:
URL:https://eccridgetown.ca/event/no-bible-study-5/2025-12-09/
END:VEVENT
BEGIN:VEVENT
DTSTART;TZID=America/Toronto:20251207T103000
DTEND;TZID=America/Toronto:20251207T120000
DTSTAMP:20260420T210258
CREATED:20251029T213214Z
LAST-MODIFIED:20260125T143221Z
UID:10002796-1765103400-1765108800@eccridgetown.ca
SUMMARY:Sunday Morning Worship
DESCRIPTION:Everyone welcome!
URL:https://eccridgetown.ca/event/sunday-morning-service-2-5-2/2025-12-07/
END:VEVENT
BEGIN:VEVENT
DTSTART;TZID=America/Toronto:20251207T103000
DTEND;TZID=America/Toronto:20251207T120000
DTSTAMP:20260420T210258
CREATED:20250522T160845Z
LAST-MODIFIED:20250902T215059Z
UID:10003191-1765103400-1765108800@eccridgetown.ca
SUMMARY:Food Bank Collection
DESCRIPTION:Please bring your donations the first Sunday of every month for our local Food Bank at the Salvation Army.  \nEven though the Thrift Store location has closed\, Food Bank services in Ridgetown will continue.
URL:https://eccridgetown.ca/event/food-bank-collection-2/2025-12-07/
END:VEVENT
BEGIN:VEVENT
DTSTART;TZID=America/Toronto:20251207T094500
DTEND;TZID=America/Toronto:20251207T101500
DTSTAMP:20260420T210258
CREATED:20231006T233639Z
LAST-MODIFIED:20260125T143033Z
UID:10001548-1765100700-1765102500@eccridgetown.ca
SUMMARY:Pre-service Coffee
DESCRIPTION:Join us Sunday morning before Service at 9:45 – 10:15am
URL:https://eccridgetown.ca/event/pre-service-coffee-fellowship/2025-12-07/
END:VEVENT
BEGIN:VEVENT
DTSTART;TZID=America/Toronto:20251207T090000
DTEND;TZID=America/Toronto:20251207T103000
DTSTAMP:20260420T210258
CREATED:20240430T215324Z
LAST-MODIFIED:20260125T142754Z
UID:10001860-1765098000-1765103400@eccridgetown.ca
SUMMARY:ECC Worship Singers Practice
DESCRIPTION:Anyone ages 10 or older who would like to sing or play a musical instrument come and join us!
URL:https://eccridgetown.ca/event/ecc-worship-singers-practice/2025-12-07/
END:VEVENT
BEGIN:VEVENT
DTSTART;TZID=America/Toronto:20251205T190000
DTEND;TZID=America/Toronto:20251205T210000
DTSTAMP:20260420T210258
CREATED:20250909T155012Z
LAST-MODIFIED:20250923T211946Z
UID:10003766-1764961200-1764968400@eccridgetown.ca
SUMMARY:Lion Heart Youth
DESCRIPTION:Every Friday\, Lion Heart Youth gathers for an engaging\, exciting\, and uplifting experience. Our program is open to students in grade 7-12. \nEach week\, our evenings are filled with exciting activities\, insightful discussions\, and meaningful connections. \nEach night includes games\, devotions\, worship\, fun\, and fellowship. \nCheck out our home page for more details!
URL:https://eccridgetown.ca/event/lion-heart-youth-11/2025-12-05/
ATTACH;FMTTYPE=application/pdf:https://eccridgetown.ca/wp-content/uploads/2025/09/2025-26-Youth-Schedule-Sept-Jun.pdf
END:VEVENT
BEGIN:VEVENT
DTSTART;TZID=America/Toronto:20251202T190000
DTEND;TZID=America/Toronto:20251202T210000
DTSTAMP:20260420T210258
CREATED:20251001T032244Z
LAST-MODIFIED:20251217T200135Z
UID:10003797-1764702000-1764709200@eccridgetown.ca
SUMMARY:Teen Bible Quizzing Night
DESCRIPTION:Something New for Teens in Our Community! 🌟\nStarting this September\, Lion Heart Youth (grades 7–12 at The Gathering Place & Emmanuel Congregational Church) is launching a brand-new program called Bible Quizzing — and it’s open to ALL teens in the community\, whether they’ve ever been to church or not.\nThis is an awesome opportunity for students to join a team\, have fun\, and build memorization and teamwork skills in a friendly\, positive environment.\nSo\, what is it?\n👉 A fun\, game-style competition with buzzers\, teams\, and lots of fun\n👉 A chance to build confidence\, sharpen memory skills\, and make great friends\n👉 A safe space where teens are encouraged\, supported\, and challenged \n• Weekly Quizzing Nights: Beginning Tuesday\, September 16\, 7–9 PM (running September–May)\nThis year\, we’ll be exploring 1 & 2 Corinthians together — but no prior knowledge is needed! We’ll learn in a way that’s fun and engaging. And to top it off… at the end of the year we’ll take a weekend trip to Muskoka Woods! 🎉\nIf you’re looking for something new for your teen — a place that’s safe\, encouraging\, and a little competitive 😉 — come check it out!\nBring your student (and their friends!) to our Intro Night on September 9 at ECC to see what it’s all about.
URL:https://eccridgetown.ca/event/teen-bible-quizzing-night/2025-12-02/
END:VEVENT
BEGIN:VEVENT
DTSTART;TZID=America/Toronto:20251202T190000
DTEND;TZID=America/Toronto:20251202T200000
DTSTAMP:20260420T210258
CREATED:20251130T225423Z
LAST-MODIFIED:20251130T225423Z
UID:10003874-1764702000-1764705600@eccridgetown.ca
SUMMARY:NO Bible Study
DESCRIPTION:
URL:https://eccridgetown.ca/event/no-bible-study-5/2025-12-02/
END:VEVENT
BEGIN:VEVENT
DTSTART;TZID=America/Toronto:20251130T170000
DTEND;TZID=America/Toronto:20251130T200000
DTSTAMP:20260420T210258
CREATED:20251029T214659Z
LAST-MODIFIED:20251029T214659Z
UID:10003869-1764522000-1764532800@eccridgetown.ca
SUMMARY:Christmas Potluck & Carolling
DESCRIPTION:Come fellowship and enjoy a Christmas Potluck Supper\, followed by carolling.
URL:https://eccridgetown.ca/event/christmas-potluck-carolling/
END:VEVENT
BEGIN:VEVENT
DTSTART;TZID=America/Toronto:20251130T103000
DTEND;TZID=America/Toronto:20251130T120000
DTSTAMP:20260420T210258
CREATED:20251029T213214Z
LAST-MODIFIED:20260125T143221Z
UID:10002795-1764498600-1764504000@eccridgetown.ca
SUMMARY:Sunday Morning Worship
DESCRIPTION:Everyone welcome!
URL:https://eccridgetown.ca/event/sunday-morning-service-2-5-2/2025-11-30/
END:VEVENT
BEGIN:VEVENT
DTSTART;TZID=America/Toronto:20251130T094500
DTEND;TZID=America/Toronto:20251130T101500
DTSTAMP:20260420T210258
CREATED:20231006T233639Z
LAST-MODIFIED:20260125T143033Z
UID:10001547-1764495900-1764497700@eccridgetown.ca
SUMMARY:Pre-service Coffee
DESCRIPTION:Join us Sunday morning before Service at 9:45 – 10:15am
URL:https://eccridgetown.ca/event/pre-service-coffee-fellowship/2025-11-30/
END:VEVENT
BEGIN:VEVENT
DTSTART;TZID=America/Toronto:20251130T090000
DTEND;TZID=America/Toronto:20251130T103000
DTSTAMP:20260420T210258
CREATED:20240430T215324Z
LAST-MODIFIED:20260125T142754Z
UID:10001859-1764493200-1764498600@eccridgetown.ca
SUMMARY:ECC Worship Singers Practice
DESCRIPTION:Anyone ages 10 or older who would like to sing or play a musical instrument come and join us!
URL:https://eccridgetown.ca/event/ecc-worship-singers-practice/2025-11-30/
END:VEVENT
BEGIN:VEVENT
DTSTART;TZID=America/Toronto:20251129T090000
DTEND;TZID=America/Toronto:20251129T120000
DTSTAMP:20260420T210258
CREATED:20251029T214245Z
LAST-MODIFIED:20251029T214345Z
UID:10003868-1764406800-1764417600@eccridgetown.ca
SUMMARY:Ladies Christmas Bake Sale
DESCRIPTION:Stock up and treat yourself to our Ladies Yummy Baking! \nThere will also be other vendors on site.
URL:https://eccridgetown.ca/event/ladies-christmas-bake-sale/
END:VEVENT
BEGIN:VEVENT
DTSTART;TZID=America/Toronto:20251129T083000
DTEND;TZID=America/Toronto:20251129T090000
DTSTAMP:20260420T210258
CREATED:20251030T213133Z
LAST-MODIFIED:20251030T213133Z
UID:10003873-1764405000-1764406800@eccridgetown.ca
SUMMARY:Baking Donations Drop-off
DESCRIPTION:If Friday is not convenient for dropping off your baking donations\, please have them at the church before 9am Sat.
URL:https://eccridgetown.ca/event/baking-donations-drop-off/
END:VEVENT
BEGIN:VEVENT
DTSTART;TZID=America/Toronto:20251128T190000
DTEND;TZID=America/Toronto:20251128T210000
DTSTAMP:20260420T210258
CREATED:20250909T155012Z
LAST-MODIFIED:20250923T211946Z
UID:10003765-1764356400-1764363600@eccridgetown.ca
SUMMARY:Lion Heart Youth
DESCRIPTION:Every Friday\, Lion Heart Youth gathers for an engaging\, exciting\, and uplifting experience. Our program is open to students in grade 7-12. \nEach week\, our evenings are filled with exciting activities\, insightful discussions\, and meaningful connections. \nEach night includes games\, devotions\, worship\, fun\, and fellowship. \nCheck out our home page for more details!
URL:https://eccridgetown.ca/event/lion-heart-youth-11/2025-11-28/
ATTACH;FMTTYPE=application/pdf:https://eccridgetown.ca/wp-content/uploads/2025/09/2025-26-Youth-Schedule-Sept-Jun.pdf
END:VEVENT
BEGIN:VEVENT
DTSTART;TZID=America/Toronto:20251128T130000
DTEND;TZID=America/Toronto:20251128T160000
DTSTAMP:20260420T210258
CREATED:20251030T212811Z
LAST-MODIFIED:20251030T212811Z
UID:10003872-1764334800-1764345600@eccridgetown.ca
SUMMARY:Baked Goods Drop-off
DESCRIPTION:All donations of baking for tomorrow’s Bake Sale are greatly appreciated and may be brought to the church for pricing on Friday afternoon.  \nIf that is not convenient\, please have baking at church before 9am Sat. for pricing.
URL:https://eccridgetown.ca/event/baked-goods-drop-off/
END:VEVENT
BEGIN:VEVENT
DTSTART;TZID=America/Toronto:20251127T183000
DTEND;TZID=America/Toronto:20251127T200000
DTSTAMP:20260420T210258
CREATED:20250918T025426Z
LAST-MODIFIED:20251130T230248Z
UID:10003776-1764268200-1764273600@eccridgetown.ca
SUMMARY:Women’s Bible Study on EPHESIANS.
DESCRIPTION:It will be on Thursday nights beginning Oct. 2nd from 6:30pm – 8:00pm and it will be every other week.  \nCost is $18.65 due on/before Sept. 28th to order books. \nEphesians\nHow can we live more authentic lives?\nChristian community can be difficult to navigate.\nWe are called to live in unity with other Christians\, but that is sometimes easier said than done. Paul’s letter to the Ephesians addresses hypocrisy\, unity\, and other key issues the church still struggles with today. Dig deep into Ephesians and discover the practical insight intended to help you live and worship in harmony with your fellow believers.\nIn this Bible study you will find:\n• 14 lessons to lead you through the book of Ephesians
URL:https://eccridgetown.ca/event/womens-bible-study-on-ephesians/2025-11-27/
END:VEVENT
BEGIN:VEVENT
DTSTART;TZID=America/Toronto:20251126T133000
DTEND;TZID=America/Toronto:20251126T150000
DTSTAMP:20260420T210258
CREATED:20241128T221641Z
LAST-MODIFIED:20250902T211949Z
UID:10002497-1764163800-1764169200@eccridgetown.ca
SUMMARY:Ladies Group
DESCRIPTION:All ladies of any age are welcome to join us for a great time of fellowship\, prayer\, devotion and planning is shared by all over a cup of coffee/tea.\nOur meetings are (usually) held the last Wednesday of the month\, from 1:30 till 3pm. (with the exception of July\, August and December)  \nThe ladies group hosts special events on behalf of the congregation\, and also for those out in the community. We provide lunches for funerals\, wedding receptions\, and any other special events that are requested. We also make donations to both local and international missions. In order to make these donations\, we host fundraising events such as bake sales.
URL:https://eccridgetown.ca/event/ladies-meeting-3-3-2/2025-11-26/
END:VEVENT
BEGIN:VEVENT
DTSTART;TZID=America/Toronto:20251125T190000
DTEND;TZID=America/Toronto:20251125T210000
DTSTAMP:20260420T210258
CREATED:20251001T032244Z
LAST-MODIFIED:20251217T200135Z
UID:10003796-1764097200-1764104400@eccridgetown.ca
SUMMARY:Teen Bible Quizzing Night
DESCRIPTION:Something New for Teens in Our Community! 🌟\nStarting this September\, Lion Heart Youth (grades 7–12 at The Gathering Place & Emmanuel Congregational Church) is launching a brand-new program called Bible Quizzing — and it’s open to ALL teens in the community\, whether they’ve ever been to church or not.\nThis is an awesome opportunity for students to join a team\, have fun\, and build memorization and teamwork skills in a friendly\, positive environment.\nSo\, what is it?\n👉 A fun\, game-style competition with buzzers\, teams\, and lots of fun\n👉 A chance to build confidence\, sharpen memory skills\, and make great friends\n👉 A safe space where teens are encouraged\, supported\, and challenged \n• Weekly Quizzing Nights: Beginning Tuesday\, September 16\, 7–9 PM (running September–May)\nThis year\, we’ll be exploring 1 & 2 Corinthians together — but no prior knowledge is needed! We’ll learn in a way that’s fun and engaging. And to top it off… at the end of the year we’ll take a weekend trip to Muskoka Woods! 🎉\nIf you’re looking for something new for your teen — a place that’s safe\, encouraging\, and a little competitive 😉 — come check it out!\nBring your student (and their friends!) to our Intro Night on September 9 at ECC to see what it’s all about.
URL:https://eccridgetown.ca/event/teen-bible-quizzing-night/2025-11-25/
END:VEVENT
BEGIN:VEVENT
DTSTART;TZID=America/Toronto:20251125T190000
DTEND;TZID=America/Toronto:20251125T200000
DTSTAMP:20260420T210258
CREATED:20250904T211302Z
LAST-MODIFIED:20251130T225153Z
UID:10003752-1764097200-1764100800@eccridgetown.ca
SUMMARY:Bible Study
DESCRIPTION:Our Fall Bible study lead by Pastor John will be discussing the Book of Isaiah.
URL:https://eccridgetown.ca/event/bible-study-6/2025-11-25/
END:VEVENT
BEGIN:VEVENT
DTSTART;TZID=America/Toronto:20251123T103000
DTEND;TZID=America/Toronto:20251123T120000
DTSTAMP:20260420T210258
CREATED:20251029T213214Z
LAST-MODIFIED:20260125T143221Z
UID:10002794-1763893800-1763899200@eccridgetown.ca
SUMMARY:Sunday Morning Worship
DESCRIPTION:Everyone welcome!
URL:https://eccridgetown.ca/event/sunday-morning-service-2-5-2/2025-11-23/
END:VEVENT
BEGIN:VEVENT
DTSTART;TZID=America/Toronto:20251123T094500
DTEND;TZID=America/Toronto:20251123T101500
DTSTAMP:20260420T210258
CREATED:20231006T233639Z
LAST-MODIFIED:20260125T143033Z
UID:10001546-1763891100-1763892900@eccridgetown.ca
SUMMARY:Pre-service Coffee
DESCRIPTION:Join us Sunday morning before Service at 9:45 – 10:15am
URL:https://eccridgetown.ca/event/pre-service-coffee-fellowship/2025-11-23/
END:VEVENT
BEGIN:VEVENT
DTSTART;TZID=America/Toronto:20251123T090000
DTEND;TZID=America/Toronto:20251123T103000
DTSTAMP:20260420T210258
CREATED:20240430T215324Z
LAST-MODIFIED:20260125T142754Z
UID:10001858-1763888400-1763893800@eccridgetown.ca
SUMMARY:ECC Worship Singers Practice
DESCRIPTION:Anyone ages 10 or older who would like to sing or play a musical instrument come and join us!
URL:https://eccridgetown.ca/event/ecc-worship-singers-practice/2025-11-23/
END:VEVENT
END:VCALENDAR