BEGIN:VCALENDAR
VERSION:2.0
PRODID:-//Emmanuel Congregational Church - ECPv6.2.3//NONSGML v1.0//EN
CALSCALE:GREGORIAN
METHOD:PUBLISH
X-WR-CALNAME:Emmanuel Congregational Church
X-ORIGINAL-URL:https://eccridgetown.ca
X-WR-CALDESC:Events for Emmanuel Congregational Church
REFRESH-INTERVAL;VALUE=DURATION:PT1H
X-Robots-Tag:noindex
X-PUBLISHED-TTL:PT1H
BEGIN:VTIMEZONE
TZID:America/Toronto
BEGIN:DAYLIGHT
TZOFFSETFROM:-0500
TZOFFSETTO:-0400
TZNAME:EDT
DTSTART:20240310T070000
END:DAYLIGHT
BEGIN:STANDARD
TZOFFSETFROM:-0400
TZOFFSETTO:-0500
TZNAME:EST
DTSTART:20241103T060000
END:STANDARD
END:VTIMEZONE
BEGIN:VEVENT
DTSTART;TZID=America/Toronto:20240901T103000
DTEND;TZID=America/Toronto:20240901T120000
DTSTAMP:20260423T095420
CREATED:20231006T152930Z
LAST-MODIFIED:20241202T204118Z
UID:10000341-1725186600-1725192000@eccridgetown.ca
SUMMARY:Sunday Morning Worship
DESCRIPTION:
URL:https://eccridgetown.ca/event/sunday-morning-service-2-3/2024-09-01/
END:VEVENT
BEGIN:VEVENT
DTSTART;TZID=America/Toronto:20240901T103000
DTEND;TZID=America/Toronto:20240901T120000
DTSTAMP:20260423T095420
CREATED:20230918T185756Z
LAST-MODIFIED:20230918T185756Z
UID:10001124-1725186600-1725192000@eccridgetown.ca
SUMMARY:Food Bank Collection
DESCRIPTION:First Sunday of every month!
URL:https://eccridgetown.ca/event/food-bank-collection/2024-09-01/
END:VEVENT
BEGIN:VEVENT
DTSTART;TZID=America/Toronto:20240901T094500
DTEND;TZID=America/Toronto:20240901T101500
DTSTAMP:20260423T095420
CREATED:20231006T233639Z
LAST-MODIFIED:20260125T143033Z
UID:10001482-1725183900-1725185700@eccridgetown.ca
SUMMARY:Pre-service Coffee
DESCRIPTION:Join us Sunday morning before Service at 9:45 – 10:15am
URL:https://eccridgetown.ca/event/pre-service-coffee-fellowship/2024-09-01/
END:VEVENT
BEGIN:VEVENT
DTSTART;TZID=America/Toronto:20240901T090000
DTEND;TZID=America/Toronto:20240901T103000
DTSTAMP:20260423T095420
CREATED:20240430T215324Z
LAST-MODIFIED:20260125T142754Z
UID:10001794-1725181200-1725186600@eccridgetown.ca
SUMMARY:ECC Worship Singers Practice
DESCRIPTION:Anyone ages 10 or older who would like to sing or play a musical instrument come and join us!
URL:https://eccridgetown.ca/event/ecc-worship-singers-practice/2024-09-01/
END:VEVENT
BEGIN:VEVENT
DTSTART;TZID=America/Toronto:20240825T103000
DTEND;TZID=America/Toronto:20240825T120000
DTSTAMP:20260423T095420
CREATED:20231006T152930Z
LAST-MODIFIED:20241202T204118Z
UID:10000340-1724581800-1724587200@eccridgetown.ca
SUMMARY:Sunday Morning Worship
DESCRIPTION:
URL:https://eccridgetown.ca/event/sunday-morning-service-2-3/2024-08-25/
END:VEVENT
BEGIN:VEVENT
DTSTART;TZID=America/Toronto:20240825T094500
DTEND;TZID=America/Toronto:20240825T101500
DTSTAMP:20260423T095420
CREATED:20231006T233639Z
LAST-MODIFIED:20260125T143033Z
UID:10001481-1724579100-1724580900@eccridgetown.ca
SUMMARY:Pre-service Coffee
DESCRIPTION:Join us Sunday morning before Service at 9:45 – 10:15am
URL:https://eccridgetown.ca/event/pre-service-coffee-fellowship/2024-08-25/
END:VEVENT
BEGIN:VEVENT
DTSTART;TZID=America/Toronto:20240825T090000
DTEND;TZID=America/Toronto:20240825T103000
DTSTAMP:20260423T095420
CREATED:20240430T215324Z
LAST-MODIFIED:20260125T142754Z
UID:10001793-1724576400-1724581800@eccridgetown.ca
SUMMARY:ECC Worship Singers Practice
DESCRIPTION:Anyone ages 10 or older who would like to sing or play a musical instrument come and join us!
URL:https://eccridgetown.ca/event/ecc-worship-singers-practice/2024-08-25/
END:VEVENT
BEGIN:VEVENT
DTSTART;VALUE=DATE:20240823
DTEND;VALUE=DATE:20240826
DTSTAMP:20260423T095420
CREATED:20240630T190705Z
LAST-MODIFIED:20240801T213103Z
UID:10002200-1724371200-1724630399@eccridgetown.ca
SUMMARY:Youth Camping at Rondeau
DESCRIPTION:Kayaking\, swimming\, fishing\, biking\, bonfires\, games and more! \n$20/person \n(sites are full)
URL:https://eccridgetown.ca/event/youth-camping-at-rondeau/
END:VEVENT
BEGIN:VEVENT
DTSTART;TZID=America/Toronto:20240820T103000
DTEND;TZID=America/Toronto:20240820T113000
DTSTAMP:20260423T095420
CREATED:20240216T214528Z
LAST-MODIFIED:20240412T195625Z
UID:10001770-1724149800-1724153400@eccridgetown.ca
SUMMARY:Worship Service at The Village
DESCRIPTION:Emmanuel will be hosting a worship service at Village on the Ridge Retirement Residence at 10:30am.\nWe would love you to join the residents for this special time if you are able\, but please respect the well being of the residents by staying home if you are not well.\nThese dates are always subject to change.
URL:https://eccridgetown.ca/event/worship-service-at-the-village/2024-08-20/
END:VEVENT
BEGIN:VEVENT
DTSTART;TZID=America/Toronto:20240818T103000
DTEND;TZID=America/Toronto:20240818T120000
DTSTAMP:20260423T095420
CREATED:20240412T201615Z
LAST-MODIFIED:20240412T201615Z
UID:10001776-1723977000-1723982400@eccridgetown.ca
SUMMARY:Rosemary Mitton
DESCRIPTION:Emmanuel will be welcoming our very own Rosemary Mitton as our guest speaker.
URL:https://eccridgetown.ca/event/rosemary-mitton/
END:VEVENT
BEGIN:VEVENT
DTSTART;TZID=America/Toronto:20240818T103000
DTEND;TZID=America/Toronto:20240818T120000
DTSTAMP:20260423T095420
CREATED:20231006T152930Z
LAST-MODIFIED:20241202T204118Z
UID:10000339-1723977000-1723982400@eccridgetown.ca
SUMMARY:Sunday Morning Worship
DESCRIPTION:
URL:https://eccridgetown.ca/event/sunday-morning-service-2-3/2024-08-18/
END:VEVENT
BEGIN:VEVENT
DTSTART;TZID=America/Toronto:20240818T094500
DTEND;TZID=America/Toronto:20240818T101500
DTSTAMP:20260423T095420
CREATED:20231006T233639Z
LAST-MODIFIED:20260125T143033Z
UID:10001480-1723974300-1723976100@eccridgetown.ca
SUMMARY:Pre-service Coffee
DESCRIPTION:Join us Sunday morning before Service at 9:45 – 10:15am
URL:https://eccridgetown.ca/event/pre-service-coffee-fellowship/2024-08-18/
END:VEVENT
BEGIN:VEVENT
DTSTART;TZID=America/Toronto:20240818T090000
DTEND;TZID=America/Toronto:20240818T103000
DTSTAMP:20260423T095420
CREATED:20240430T215324Z
LAST-MODIFIED:20260125T142754Z
UID:10001792-1723971600-1723977000@eccridgetown.ca
SUMMARY:ECC Worship Singers Practice
DESCRIPTION:Anyone ages 10 or older who would like to sing or play a musical instrument come and join us!
URL:https://eccridgetown.ca/event/ecc-worship-singers-practice/2024-08-18/
END:VEVENT
BEGIN:VEVENT
DTSTART;TZID=America/Toronto:20240811T103000
DTEND;TZID=America/Toronto:20240811T120000
DTSTAMP:20260423T095420
CREATED:20231006T152930Z
LAST-MODIFIED:20241202T204118Z
UID:10000338-1723372200-1723377600@eccridgetown.ca
SUMMARY:Sunday Morning Worship
DESCRIPTION:
URL:https://eccridgetown.ca/event/sunday-morning-service-2-3/2024-08-11/
END:VEVENT
BEGIN:VEVENT
DTSTART;TZID=America/Toronto:20240811T094500
DTEND;TZID=America/Toronto:20240811T101500
DTSTAMP:20260423T095420
CREATED:20231006T233639Z
LAST-MODIFIED:20260125T143033Z
UID:10001479-1723369500-1723371300@eccridgetown.ca
SUMMARY:Pre-service Coffee
DESCRIPTION:Join us Sunday morning before Service at 9:45 – 10:15am
URL:https://eccridgetown.ca/event/pre-service-coffee-fellowship/2024-08-11/
END:VEVENT
BEGIN:VEVENT
DTSTART;TZID=America/Toronto:20240811T090000
DTEND;TZID=America/Toronto:20240811T103000
DTSTAMP:20260423T095420
CREATED:20240430T215324Z
LAST-MODIFIED:20260125T142754Z
UID:10001791-1723366800-1723372200@eccridgetown.ca
SUMMARY:ECC Worship Singers Practice
DESCRIPTION:Anyone ages 10 or older who would like to sing or play a musical instrument come and join us!
URL:https://eccridgetown.ca/event/ecc-worship-singers-practice/2024-08-11/
END:VEVENT
BEGIN:VEVENT
DTSTART;TZID=America/Toronto:20240809T190000
DTEND;TZID=America/Toronto:20240809T210000
DTSTAMP:20260423T095420
CREATED:20240801T213223Z
LAST-MODIFIED:20240801T213223Z
UID:10002201-1723230000-1723237200@eccridgetown.ca
SUMMARY:Lion Heart Youth
DESCRIPTION:Youth Movie Night at ECC.
URL:https://eccridgetown.ca/event/lion-heart-youth-4/
END:VEVENT
BEGIN:VEVENT
DTSTART;TZID=America/Toronto:20240804T103000
DTEND;TZID=America/Toronto:20240804T120000
DTSTAMP:20260423T095420
CREATED:20231006T152930Z
LAST-MODIFIED:20241202T204118Z
UID:10000337-1722767400-1722772800@eccridgetown.ca
SUMMARY:Sunday Morning Worship
DESCRIPTION:
URL:https://eccridgetown.ca/event/sunday-morning-service-2-3/2024-08-04/
END:VEVENT
BEGIN:VEVENT
DTSTART;TZID=America/Toronto:20240804T103000
DTEND;TZID=America/Toronto:20240804T120000
DTSTAMP:20260423T095420
CREATED:20230918T185756Z
LAST-MODIFIED:20230918T185756Z
UID:10001123-1722767400-1722772800@eccridgetown.ca
SUMMARY:Food Bank Collection
DESCRIPTION:First Sunday of every month!
URL:https://eccridgetown.ca/event/food-bank-collection/2024-08-04/
END:VEVENT
BEGIN:VEVENT
DTSTART;TZID=America/Toronto:20240804T094500
DTEND;TZID=America/Toronto:20240804T101500
DTSTAMP:20260423T095420
CREATED:20231006T233639Z
LAST-MODIFIED:20260125T143033Z
UID:10001478-1722764700-1722766500@eccridgetown.ca
SUMMARY:Pre-service Coffee
DESCRIPTION:Join us Sunday morning before Service at 9:45 – 10:15am
URL:https://eccridgetown.ca/event/pre-service-coffee-fellowship/2024-08-04/
END:VEVENT
BEGIN:VEVENT
DTSTART;TZID=America/Toronto:20240804T090000
DTEND;TZID=America/Toronto:20240804T103000
DTSTAMP:20260423T095420
CREATED:20240430T215324Z
LAST-MODIFIED:20260125T142754Z
UID:10001790-1722762000-1722767400@eccridgetown.ca
SUMMARY:ECC Worship Singers Practice
DESCRIPTION:Anyone ages 10 or older who would like to sing or play a musical instrument come and join us!
URL:https://eccridgetown.ca/event/ecc-worship-singers-practice/2024-08-04/
END:VEVENT
BEGIN:VEVENT
DTSTART;TZID=America/Toronto:20240728T103000
DTEND;TZID=America/Toronto:20240728T120000
DTSTAMP:20260423T095420
CREATED:20231006T152930Z
LAST-MODIFIED:20241202T204118Z
UID:10000336-1722162600-1722168000@eccridgetown.ca
SUMMARY:Sunday Morning Worship
DESCRIPTION:
URL:https://eccridgetown.ca/event/sunday-morning-service-2-3/2024-07-28/
END:VEVENT
BEGIN:VEVENT
DTSTART;TZID=America/Toronto:20240728T094500
DTEND;TZID=America/Toronto:20240728T101500
DTSTAMP:20260423T095420
CREATED:20231006T233639Z
LAST-MODIFIED:20260125T143033Z
UID:10001477-1722159900-1722161700@eccridgetown.ca
SUMMARY:Pre-service Coffee
DESCRIPTION:Join us Sunday morning before Service at 9:45 – 10:15am
URL:https://eccridgetown.ca/event/pre-service-coffee-fellowship/2024-07-28/
END:VEVENT
BEGIN:VEVENT
DTSTART;TZID=America/Toronto:20240728T090000
DTEND;TZID=America/Toronto:20240728T103000
DTSTAMP:20260423T095420
CREATED:20240430T215324Z
LAST-MODIFIED:20260125T142754Z
UID:10001789-1722157200-1722162600@eccridgetown.ca
SUMMARY:ECC Worship Singers Practice
DESCRIPTION:Anyone ages 10 or older who would like to sing or play a musical instrument come and join us!
URL:https://eccridgetown.ca/event/ecc-worship-singers-practice/2024-07-28/
END:VEVENT
BEGIN:VEVENT
DTSTART;TZID=America/Toronto:20240726T190000
DTEND;TZID=America/Toronto:20240726T210000
DTSTAMP:20260423T095420
CREATED:20240630T190148Z
LAST-MODIFIED:20240630T190148Z
UID:10002199-1722020400-1722027600@eccridgetown.ca
SUMMARY:Lion Heart Youth
DESCRIPTION:Youth Snack Potluck at ECC.  \nBring your favourite snacks (& candy for candy salad) and join us in a great night of fellowship! \nBring your friends! \nRSVP deadline for August camping
URL:https://eccridgetown.ca/event/lion-heart-youth-3/
END:VEVENT
BEGIN:VEVENT
DTSTART;TZID=America/Toronto:20240721T103000
DTEND;TZID=America/Toronto:20240721T120000
DTSTAMP:20260423T095420
CREATED:20240412T201433Z
LAST-MODIFIED:20240412T201749Z
UID:10001775-1721557800-1721563200@eccridgetown.ca
SUMMARY:Al DeLaet
DESCRIPTION:Emmanuel will be welcoming Al DeLaet as our guest speaker.
URL:https://eccridgetown.ca/event/guest-speaker-4/
END:VEVENT
BEGIN:VEVENT
DTSTART;TZID=America/Toronto:20240721T103000
DTEND;TZID=America/Toronto:20240721T120000
DTSTAMP:20260423T095420
CREATED:20231006T152930Z
LAST-MODIFIED:20241202T204118Z
UID:10000335-1721557800-1721563200@eccridgetown.ca
SUMMARY:Sunday Morning Worship
DESCRIPTION:
URL:https://eccridgetown.ca/event/sunday-morning-service-2-3/2024-07-21/
END:VEVENT
BEGIN:VEVENT
DTSTART;TZID=America/Toronto:20240721T103000
DTEND;TZID=America/Toronto:20240721T113000
DTSTAMP:20260423T095420
CREATED:20240624T222319Z
LAST-MODIFIED:20240630T191043Z
UID:10002170-1721557800-1721561400@eccridgetown.ca
SUMMARY:NO Children's Ministry
DESCRIPTION:There will be no Children’s Program on July 14 & 21.
URL:https://eccridgetown.ca/event/no-childrens-ministry/2024-07-21/
END:VEVENT
BEGIN:VEVENT
DTSTART;TZID=America/Toronto:20240721T094500
DTEND;TZID=America/Toronto:20240721T101500
DTSTAMP:20260423T095420
CREATED:20231006T233639Z
LAST-MODIFIED:20260125T143033Z
UID:10001476-1721555100-1721556900@eccridgetown.ca
SUMMARY:Pre-service Coffee
DESCRIPTION:Join us Sunday morning before Service at 9:45 – 10:15am
URL:https://eccridgetown.ca/event/pre-service-coffee-fellowship/2024-07-21/
END:VEVENT
BEGIN:VEVENT
DTSTART;TZID=America/Toronto:20240721T090000
DTEND;TZID=America/Toronto:20240721T103000
DTSTAMP:20260423T095420
CREATED:20240430T215324Z
LAST-MODIFIED:20260125T142754Z
UID:10001788-1721552400-1721557800@eccridgetown.ca
SUMMARY:ECC Worship Singers Practice
DESCRIPTION:Anyone ages 10 or older who would like to sing or play a musical instrument come and join us!
URL:https://eccridgetown.ca/event/ecc-worship-singers-practice/2024-07-21/
END:VEVENT
END:VCALENDAR