BEGIN:VCALENDAR
VERSION:2.0
PRODID:-//Emmanuel Congregational Church - ECPv6.2.3//NONSGML v1.0//EN
CALSCALE:GREGORIAN
METHOD:PUBLISH
X-ORIGINAL-URL:https://eccridgetown.ca
X-WR-CALDESC:Events for Emmanuel Congregational Church
REFRESH-INTERVAL;VALUE=DURATION:PT1H
X-Robots-Tag:noindex
X-PUBLISHED-TTL:PT1H
BEGIN:VTIMEZONE
TZID:America/Toronto
BEGIN:DAYLIGHT
TZOFFSETFROM:-0500
TZOFFSETTO:-0400
TZNAME:EDT
DTSTART:20290311T070000
END:DAYLIGHT
BEGIN:STANDARD
TZOFFSETFROM:-0400
TZOFFSETTO:-0500
TZNAME:EST
DTSTART:20291104T060000
END:STANDARD
END:VTIMEZONE
BEGIN:VEVENT
DTSTART;TZID=America/Toronto:20290218T094500
DTEND;TZID=America/Toronto:20290218T101500
DTSTAMP:20260423T052733
CREATED:20231006T233639Z
LAST-MODIFIED:20260125T143033Z
UID:10003574-1866102300-1866104100@eccridgetown.ca
SUMMARY:Pre-service Coffee
DESCRIPTION:Join us Sunday morning before Service at 9:45 – 10:15am
URL:https://eccridgetown.ca/event/pre-service-coffee-fellowship/2029-02-18/
END:VEVENT
BEGIN:VEVENT
DTSTART;TZID=America/Toronto:20290218T103000
DTEND;TZID=America/Toronto:20290218T120000
DTSTAMP:20260423T052733
CREATED:20251029T213214Z
LAST-MODIFIED:20260125T143221Z
UID:10002963-1866105000-1866110400@eccridgetown.ca
SUMMARY:Sunday Morning Worship
DESCRIPTION:Everyone welcome!
URL:https://eccridgetown.ca/event/sunday-morning-service-2-5-2/2029-02-18/
END:VEVENT
BEGIN:VEVENT
DTSTART;TZID=America/Toronto:20290225T090000
DTEND;TZID=America/Toronto:20290225T103000
DTSTAMP:20260423T052733
CREATED:20240430T215324Z
LAST-MODIFIED:20260125T142754Z
UID:10002028-1866704400-1866709800@eccridgetown.ca
SUMMARY:ECC Worship Singers Practice
DESCRIPTION:Anyone ages 10 or older who would like to sing or play a musical instrument come and join us!
URL:https://eccridgetown.ca/event/ecc-worship-singers-practice/2029-02-25/
END:VEVENT
BEGIN:VEVENT
DTSTART;TZID=America/Toronto:20290225T094500
DTEND;TZID=America/Toronto:20290225T101500
DTSTAMP:20260423T052733
CREATED:20231006T233639Z
LAST-MODIFIED:20260125T143033Z
UID:10003575-1866707100-1866708900@eccridgetown.ca
SUMMARY:Pre-service Coffee
DESCRIPTION:Join us Sunday morning before Service at 9:45 – 10:15am
URL:https://eccridgetown.ca/event/pre-service-coffee-fellowship/2029-02-25/
END:VEVENT
BEGIN:VEVENT
DTSTART;TZID=America/Toronto:20290225T103000
DTEND;TZID=America/Toronto:20290225T120000
DTSTAMP:20260423T052733
CREATED:20251029T213214Z
LAST-MODIFIED:20260125T143221Z
UID:10002964-1866709800-1866715200@eccridgetown.ca
SUMMARY:Sunday Morning Worship
DESCRIPTION:Everyone welcome!
URL:https://eccridgetown.ca/event/sunday-morning-service-2-5-2/2029-02-25/
END:VEVENT
BEGIN:VEVENT
DTSTART;TZID=America/Toronto:20290228T133000
DTEND;TZID=America/Toronto:20290228T150000
DTSTAMP:20260423T052733
CREATED:20260226T220327Z
LAST-MODIFIED:20260226T220328Z
UID:10002536-1866979800-1866985200@eccridgetown.ca
SUMMARY:Ladies Group
DESCRIPTION:All ladies of any age are welcome to join us for a great time of fellowship\, prayer\, devotion and planning is shared by all over a cup of coffee/tea.\nOur meetings are (usually) held the last Wednesday of the month\, from 1:30 till 3pm. (with the exception of July\, August and December)  \nThe ladies group hosts special events on behalf of the congregation\, and also for those out in the community. We provide lunches for funerals\, wedding receptions\, and any other special events that are requested. We also make donations to both local and international missions. In order to make these donations\, we host fundraising events such as bake sales.
URL:https://eccridgetown.ca/event/ladies-meeting-3-3-2-3/2029-02-28/
END:VEVENT
BEGIN:VEVENT
DTSTART;TZID=America/Toronto:20290304T090000
DTEND;TZID=America/Toronto:20290304T103000
DTSTAMP:20260423T052733
CREATED:20240430T215324Z
LAST-MODIFIED:20260125T142754Z
UID:10002029-1867309200-1867314600@eccridgetown.ca
SUMMARY:ECC Worship Singers Practice
DESCRIPTION:Anyone ages 10 or older who would like to sing or play a musical instrument come and join us!
URL:https://eccridgetown.ca/event/ecc-worship-singers-practice/2029-03-04/
END:VEVENT
BEGIN:VEVENT
DTSTART;TZID=America/Toronto:20290304T094500
DTEND;TZID=America/Toronto:20290304T101500
DTSTAMP:20260423T052733
CREATED:20231006T233639Z
LAST-MODIFIED:20260125T143033Z
UID:10003576-1867311900-1867313700@eccridgetown.ca
SUMMARY:Pre-service Coffee
DESCRIPTION:Join us Sunday morning before Service at 9:45 – 10:15am
URL:https://eccridgetown.ca/event/pre-service-coffee-fellowship/2029-03-04/
END:VEVENT
BEGIN:VEVENT
DTSTART;TZID=America/Toronto:20290304T103000
DTEND;TZID=America/Toronto:20290304T120000
DTSTAMP:20260423T052733
CREATED:20250522T160845Z
LAST-MODIFIED:20250902T215059Z
UID:10003230-1867314600-1867320000@eccridgetown.ca
SUMMARY:Food Bank Collection
DESCRIPTION:Please bring your donations the first Sunday of every month for our local Food Bank at the Salvation Army.  \nEven though the Thrift Store location has closed\, Food Bank services in Ridgetown will continue.
URL:https://eccridgetown.ca/event/food-bank-collection-2/2029-03-04/
END:VEVENT
BEGIN:VEVENT
DTSTART;TZID=America/Toronto:20290304T103000
DTEND;TZID=America/Toronto:20290304T120000
DTSTAMP:20260423T052733
CREATED:20251029T213214Z
LAST-MODIFIED:20260125T143221Z
UID:10002965-1867314600-1867320000@eccridgetown.ca
SUMMARY:Sunday Morning Worship
DESCRIPTION:Everyone welcome!
URL:https://eccridgetown.ca/event/sunday-morning-service-2-5-2/2029-03-04/
END:VEVENT
BEGIN:VEVENT
DTSTART;TZID=America/Toronto:20290311T090000
DTEND;TZID=America/Toronto:20290311T103000
DTSTAMP:20260423T052733
CREATED:20240430T215324Z
LAST-MODIFIED:20260125T142754Z
UID:10002030-1867914000-1867919400@eccridgetown.ca
SUMMARY:ECC Worship Singers Practice
DESCRIPTION:Anyone ages 10 or older who would like to sing or play a musical instrument come and join us!
URL:https://eccridgetown.ca/event/ecc-worship-singers-practice/2029-03-11/
END:VEVENT
BEGIN:VEVENT
DTSTART;TZID=America/Toronto:20290311T094500
DTEND;TZID=America/Toronto:20290311T101500
DTSTAMP:20260423T052733
CREATED:20231006T233639Z
LAST-MODIFIED:20260125T143033Z
UID:10003577-1867916700-1867918500@eccridgetown.ca
SUMMARY:Pre-service Coffee
DESCRIPTION:Join us Sunday morning before Service at 9:45 – 10:15am
URL:https://eccridgetown.ca/event/pre-service-coffee-fellowship/2029-03-11/
END:VEVENT
BEGIN:VEVENT
DTSTART;TZID=America/Toronto:20290311T103000
DTEND;TZID=America/Toronto:20290311T120000
DTSTAMP:20260423T052733
CREATED:20251029T213214Z
LAST-MODIFIED:20260125T143221Z
UID:10002966-1867919400-1867924800@eccridgetown.ca
SUMMARY:Sunday Morning Worship
DESCRIPTION:Everyone welcome!
URL:https://eccridgetown.ca/event/sunday-morning-service-2-5-2/2029-03-11/
END:VEVENT
BEGIN:VEVENT
DTSTART;TZID=America/Toronto:20290318T090000
DTEND;TZID=America/Toronto:20290318T103000
DTSTAMP:20260423T052733
CREATED:20240430T215324Z
LAST-MODIFIED:20260125T142754Z
UID:10002031-1868518800-1868524200@eccridgetown.ca
SUMMARY:ECC Worship Singers Practice
DESCRIPTION:Anyone ages 10 or older who would like to sing or play a musical instrument come and join us!
URL:https://eccridgetown.ca/event/ecc-worship-singers-practice/2029-03-18/
END:VEVENT
BEGIN:VEVENT
DTSTART;TZID=America/Toronto:20290318T094500
DTEND;TZID=America/Toronto:20290318T101500
DTSTAMP:20260423T052733
CREATED:20231006T233639Z
LAST-MODIFIED:20260125T143033Z
UID:10003578-1868521500-1868523300@eccridgetown.ca
SUMMARY:Pre-service Coffee
DESCRIPTION:Join us Sunday morning before Service at 9:45 – 10:15am
URL:https://eccridgetown.ca/event/pre-service-coffee-fellowship/2029-03-18/
END:VEVENT
BEGIN:VEVENT
DTSTART;TZID=America/Toronto:20290318T103000
DTEND;TZID=America/Toronto:20290318T120000
DTSTAMP:20260423T052733
CREATED:20251029T213214Z
LAST-MODIFIED:20260125T143221Z
UID:10002967-1868524200-1868529600@eccridgetown.ca
SUMMARY:Sunday Morning Worship
DESCRIPTION:Everyone welcome!
URL:https://eccridgetown.ca/event/sunday-morning-service-2-5-2/2029-03-18/
END:VEVENT
BEGIN:VEVENT
DTSTART;TZID=America/Toronto:20290325T090000
DTEND;TZID=America/Toronto:20290325T103000
DTSTAMP:20260423T052733
CREATED:20240430T215324Z
LAST-MODIFIED:20260125T142754Z
UID:10002032-1869123600-1869129000@eccridgetown.ca
SUMMARY:ECC Worship Singers Practice
DESCRIPTION:Anyone ages 10 or older who would like to sing or play a musical instrument come and join us!
URL:https://eccridgetown.ca/event/ecc-worship-singers-practice/2029-03-25/
END:VEVENT
BEGIN:VEVENT
DTSTART;TZID=America/Toronto:20290325T094500
DTEND;TZID=America/Toronto:20290325T101500
DTSTAMP:20260423T052733
CREATED:20231006T233639Z
LAST-MODIFIED:20260125T143033Z
UID:10003579-1869126300-1869128100@eccridgetown.ca
SUMMARY:Pre-service Coffee
DESCRIPTION:Join us Sunday morning before Service at 9:45 – 10:15am
URL:https://eccridgetown.ca/event/pre-service-coffee-fellowship/2029-03-25/
END:VEVENT
BEGIN:VEVENT
DTSTART;TZID=America/Toronto:20290325T103000
DTEND;TZID=America/Toronto:20290325T120000
DTSTAMP:20260423T052733
CREATED:20251029T213214Z
LAST-MODIFIED:20260125T143221Z
UID:10002968-1869129000-1869134400@eccridgetown.ca
SUMMARY:Sunday Morning Worship
DESCRIPTION:Everyone welcome!
URL:https://eccridgetown.ca/event/sunday-morning-service-2-5-2/2029-03-25/
END:VEVENT
BEGIN:VEVENT
DTSTART;TZID=America/Toronto:20290328T133000
DTEND;TZID=America/Toronto:20290328T150000
DTSTAMP:20260423T052733
CREATED:20260226T220327Z
LAST-MODIFIED:20260226T220328Z
UID:10002537-1869399000-1869404400@eccridgetown.ca
SUMMARY:Ladies Group
DESCRIPTION:All ladies of any age are welcome to join us for a great time of fellowship\, prayer\, devotion and planning is shared by all over a cup of coffee/tea.\nOur meetings are (usually) held the last Wednesday of the month\, from 1:30 till 3pm. (with the exception of July\, August and December)  \nThe ladies group hosts special events on behalf of the congregation\, and also for those out in the community. We provide lunches for funerals\, wedding receptions\, and any other special events that are requested. We also make donations to both local and international missions. In order to make these donations\, we host fundraising events such as bake sales.
URL:https://eccridgetown.ca/event/ladies-meeting-3-3-2-3/2029-03-28/
END:VEVENT
BEGIN:VEVENT
DTSTART;TZID=America/Toronto:20290401T090000
DTEND;TZID=America/Toronto:20290401T103000
DTSTAMP:20260423T052733
CREATED:20240430T215324Z
LAST-MODIFIED:20260125T142754Z
UID:10002033-1869728400-1869733800@eccridgetown.ca
SUMMARY:ECC Worship Singers Practice
DESCRIPTION:Anyone ages 10 or older who would like to sing or play a musical instrument come and join us!
URL:https://eccridgetown.ca/event/ecc-worship-singers-practice/2029-04-01/
END:VEVENT
BEGIN:VEVENT
DTSTART;TZID=America/Toronto:20290401T094500
DTEND;TZID=America/Toronto:20290401T101500
DTSTAMP:20260423T052733
CREATED:20231006T233639Z
LAST-MODIFIED:20260125T143033Z
UID:10003580-1869731100-1869732900@eccridgetown.ca
SUMMARY:Pre-service Coffee
DESCRIPTION:Join us Sunday morning before Service at 9:45 – 10:15am
URL:https://eccridgetown.ca/event/pre-service-coffee-fellowship/2029-04-01/
END:VEVENT
BEGIN:VEVENT
DTSTART;TZID=America/Toronto:20290401T103000
DTEND;TZID=America/Toronto:20290401T120000
DTSTAMP:20260423T052733
CREATED:20250522T160845Z
LAST-MODIFIED:20250902T215059Z
UID:10003231-1869733800-1869739200@eccridgetown.ca
SUMMARY:Food Bank Collection
DESCRIPTION:Please bring your donations the first Sunday of every month for our local Food Bank at the Salvation Army.  \nEven though the Thrift Store location has closed\, Food Bank services in Ridgetown will continue.
URL:https://eccridgetown.ca/event/food-bank-collection-2/2029-04-01/
END:VEVENT
BEGIN:VEVENT
DTSTART;TZID=America/Toronto:20290401T103000
DTEND;TZID=America/Toronto:20290401T120000
DTSTAMP:20260423T052733
CREATED:20251029T213214Z
LAST-MODIFIED:20260125T143221Z
UID:10002969-1869733800-1869739200@eccridgetown.ca
SUMMARY:Sunday Morning Worship
DESCRIPTION:Everyone welcome!
URL:https://eccridgetown.ca/event/sunday-morning-service-2-5-2/2029-04-01/
END:VEVENT
BEGIN:VEVENT
DTSTART;TZID=America/Toronto:20290408T090000
DTEND;TZID=America/Toronto:20290408T103000
DTSTAMP:20260423T052733
CREATED:20240430T215324Z
LAST-MODIFIED:20260125T142754Z
UID:10002034-1870333200-1870338600@eccridgetown.ca
SUMMARY:ECC Worship Singers Practice
DESCRIPTION:Anyone ages 10 or older who would like to sing or play a musical instrument come and join us!
URL:https://eccridgetown.ca/event/ecc-worship-singers-practice/2029-04-08/
END:VEVENT
BEGIN:VEVENT
DTSTART;TZID=America/Toronto:20290408T094500
DTEND;TZID=America/Toronto:20290408T101500
DTSTAMP:20260423T052734
CREATED:20231006T233639Z
LAST-MODIFIED:20260125T143033Z
UID:10003581-1870335900-1870337700@eccridgetown.ca
SUMMARY:Pre-service Coffee
DESCRIPTION:Join us Sunday morning before Service at 9:45 – 10:15am
URL:https://eccridgetown.ca/event/pre-service-coffee-fellowship/2029-04-08/
END:VEVENT
BEGIN:VEVENT
DTSTART;TZID=America/Toronto:20290408T103000
DTEND;TZID=America/Toronto:20290408T120000
DTSTAMP:20260423T052734
CREATED:20251029T213214Z
LAST-MODIFIED:20260125T143221Z
UID:10002970-1870338600-1870344000@eccridgetown.ca
SUMMARY:Sunday Morning Worship
DESCRIPTION:Everyone welcome!
URL:https://eccridgetown.ca/event/sunday-morning-service-2-5-2/2029-04-08/
END:VEVENT
BEGIN:VEVENT
DTSTART;TZID=America/Toronto:20290415T090000
DTEND;TZID=America/Toronto:20290415T103000
DTSTAMP:20260423T052734
CREATED:20240430T215324Z
LAST-MODIFIED:20260125T142754Z
UID:10002035-1870938000-1870943400@eccridgetown.ca
SUMMARY:ECC Worship Singers Practice
DESCRIPTION:Anyone ages 10 or older who would like to sing or play a musical instrument come and join us!
URL:https://eccridgetown.ca/event/ecc-worship-singers-practice/2029-04-15/
END:VEVENT
BEGIN:VEVENT
DTSTART;TZID=America/Toronto:20290415T094500
DTEND;TZID=America/Toronto:20290415T101500
DTSTAMP:20260423T052734
CREATED:20231006T233639Z
LAST-MODIFIED:20260125T143033Z
UID:10003582-1870940700-1870942500@eccridgetown.ca
SUMMARY:Pre-service Coffee
DESCRIPTION:Join us Sunday morning before Service at 9:45 – 10:15am
URL:https://eccridgetown.ca/event/pre-service-coffee-fellowship/2029-04-15/
END:VEVENT
BEGIN:VEVENT
DTSTART;TZID=America/Toronto:20290415T103000
DTEND;TZID=America/Toronto:20290415T120000
DTSTAMP:20260423T052734
CREATED:20251029T213214Z
LAST-MODIFIED:20260125T143221Z
UID:10002971-1870943400-1870948800@eccridgetown.ca
SUMMARY:Sunday Morning Worship
DESCRIPTION:Everyone welcome!
URL:https://eccridgetown.ca/event/sunday-morning-service-2-5-2/2029-04-15/
END:VEVENT
END:VCALENDAR