BEGIN:VCALENDAR
VERSION:2.0
PRODID:-//Emmanuel Congregational Church - ECPv6.2.3//NONSGML v1.0//EN
CALSCALE:GREGORIAN
METHOD:PUBLISH
X-WR-CALNAME:Emmanuel Congregational Church
X-ORIGINAL-URL:https://eccridgetown.ca
X-WR-CALDESC:Events for Emmanuel Congregational Church
REFRESH-INTERVAL;VALUE=DURATION:PT1H
X-Robots-Tag:noindex
X-PUBLISHED-TTL:PT1H
BEGIN:VTIMEZONE
TZID:America/Toronto
BEGIN:DAYLIGHT
TZOFFSETFROM:-0500
TZOFFSETTO:-0400
TZNAME:EDT
DTSTART:20240310T070000
END:DAYLIGHT
BEGIN:STANDARD
TZOFFSETFROM:-0400
TZOFFSETTO:-0500
TZNAME:EST
DTSTART:20241103T060000
END:STANDARD
END:VTIMEZONE
BEGIN:VEVENT
DTSTART;TZID=America/Toronto:20241018T190000
DTEND;TZID=America/Toronto:20241018T210000
DTSTAMP:20260423T051649
CREATED:20241015T211059Z
LAST-MODIFIED:20241015T211059Z
UID:10002378-1729278000-1729285200@eccridgetown.ca
SUMMARY:Lion Heart Youth Family Night
DESCRIPTION:The whole family is welcome! \nPlease bring a dessert to share!
URL:https://eccridgetown.ca/event/lion-heart-youth-family-night/
END:VEVENT
BEGIN:VEVENT
DTSTART;TZID=America/Toronto:20241015T190000
DTEND;TZID=America/Toronto:20241015T203000
DTSTAMP:20260423T051649
CREATED:20240831T020344Z
LAST-MODIFIED:20241202T193418Z
UID:10002276-1729018800-1729024200@eccridgetown.ca
SUMMARY:Bible Study
DESCRIPTION:Join Pastor John in the sanctuary for Bible Study every Tuesday evening from 7-8:30pm.
URL:https://eccridgetown.ca/event/bible-study-4-2/2024-10-15/
END:VEVENT
BEGIN:VEVENT
DTSTART;TZID=America/Toronto:20241013T103000
DTEND;TZID=America/Toronto:20241013T120000
DTSTAMP:20260423T051649
CREATED:20231006T152930Z
LAST-MODIFIED:20241202T204118Z
UID:10000347-1728815400-1728820800@eccridgetown.ca
SUMMARY:Sunday Morning Worship
DESCRIPTION:
URL:https://eccridgetown.ca/event/sunday-morning-service-2-3/2024-10-13/
END:VEVENT
BEGIN:VEVENT
DTSTART;TZID=America/Toronto:20241013T094500
DTEND;TZID=America/Toronto:20241013T101500
DTSTAMP:20260423T051649
CREATED:20231006T233639Z
LAST-MODIFIED:20260125T143033Z
UID:10001488-1728812700-1728814500@eccridgetown.ca
SUMMARY:Pre-service Coffee
DESCRIPTION:Join us Sunday morning before Service at 9:45 – 10:15am
URL:https://eccridgetown.ca/event/pre-service-coffee-fellowship/2024-10-13/
END:VEVENT
BEGIN:VEVENT
DTSTART;TZID=America/Toronto:20241013T090000
DTEND;TZID=America/Toronto:20241013T103000
DTSTAMP:20260423T051649
CREATED:20240430T215324Z
LAST-MODIFIED:20260125T142754Z
UID:10001800-1728810000-1728815400@eccridgetown.ca
SUMMARY:ECC Worship Singers Practice
DESCRIPTION:Anyone ages 10 or older who would like to sing or play a musical instrument come and join us!
URL:https://eccridgetown.ca/event/ecc-worship-singers-practice/2024-10-13/
END:VEVENT
BEGIN:VEVENT
DTSTART;TZID=America/Toronto:20241011T183000
DTEND;TZID=America/Toronto:20241011T210000
DTSTAMP:20260423T051649
CREATED:20241008T022748Z
LAST-MODIFIED:20241008T022748Z
UID:10002377-1728671400-1728680400@eccridgetown.ca
SUMMARY:Lion Heart Youth Supper & Social at the Pool's
DESCRIPTION:Lion Heart Youth will be hosted at the Pool’s house this Friday\, October 11. \nWe will be meeting from 6:30-9:00 PM\, and dinner will be provided! \nIf your child/children are planning on attending\, please email Curtis or Jess by Wednesday evening.
URL:https://eccridgetown.ca/event/lion-heart-youth-supper-social-at-the-pools/
END:VEVENT
BEGIN:VEVENT
DTSTART;TZID=America/Toronto:20241008T190000
DTEND;TZID=America/Toronto:20241008T203000
DTSTAMP:20260423T051649
CREATED:20240831T020344Z
LAST-MODIFIED:20241202T193418Z
UID:10002275-1728414000-1728419400@eccridgetown.ca
SUMMARY:Bible Study
DESCRIPTION:Join Pastor John in the sanctuary for Bible Study every Tuesday evening from 7-8:30pm.
URL:https://eccridgetown.ca/event/bible-study-4-2/2024-10-08/
END:VEVENT
BEGIN:VEVENT
DTSTART;TZID=America/Toronto:20241006T150000
DTEND;TZID=America/Toronto:20241006T170000
DTSTAMP:20260423T051649
CREATED:20241002T160921Z
LAST-MODIFIED:20241002T160921Z
UID:10002376-1728226800-1728234000@eccridgetown.ca
SUMMARY:Sunday Social at Blenheim Military Museum
DESCRIPTION:We will meet at the Blenheim Military Museum (27 George St.) at 3 pm.  \nAll the featured heroes are local!   \nThey are opening the museum just for us\, so please make plans to attend. As the museum does not receive any government funding\, donations would be appreciated.
URL:https://eccridgetown.ca/event/sunday-social-at-blenheim-military-museum/
END:VEVENT
BEGIN:VEVENT
DTSTART;TZID=America/Toronto:20241006T103000
DTEND;TZID=America/Toronto:20241006T120000
DTSTAMP:20260423T051649
CREATED:20231006T152930Z
LAST-MODIFIED:20241202T204118Z
UID:10000346-1728210600-1728216000@eccridgetown.ca
SUMMARY:Sunday Morning Worship
DESCRIPTION:
URL:https://eccridgetown.ca/event/sunday-morning-service-2-3/2024-10-06/
END:VEVENT
BEGIN:VEVENT
DTSTART;TZID=America/Toronto:20241006T103000
DTEND;TZID=America/Toronto:20241006T120000
DTSTAMP:20260423T051649
CREATED:20230918T185756Z
LAST-MODIFIED:20230918T185756Z
UID:10001125-1728210600-1728216000@eccridgetown.ca
SUMMARY:Food Bank Collection
DESCRIPTION:First Sunday of every month!
URL:https://eccridgetown.ca/event/food-bank-collection/2024-10-06/
END:VEVENT
BEGIN:VEVENT
DTSTART;TZID=America/Toronto:20241006T094500
DTEND;TZID=America/Toronto:20241006T101500
DTSTAMP:20260423T051649
CREATED:20231006T233639Z
LAST-MODIFIED:20260125T143033Z
UID:10001487-1728207900-1728209700@eccridgetown.ca
SUMMARY:Pre-service Coffee
DESCRIPTION:Join us Sunday morning before Service at 9:45 – 10:15am
URL:https://eccridgetown.ca/event/pre-service-coffee-fellowship/2024-10-06/
END:VEVENT
BEGIN:VEVENT
DTSTART;TZID=America/Toronto:20241006T090000
DTEND;TZID=America/Toronto:20241006T103000
DTSTAMP:20260423T051649
CREATED:20240430T215324Z
LAST-MODIFIED:20260125T142754Z
UID:10001799-1728205200-1728210600@eccridgetown.ca
SUMMARY:ECC Worship Singers Practice
DESCRIPTION:Anyone ages 10 or older who would like to sing or play a musical instrument come and join us!
URL:https://eccridgetown.ca/event/ecc-worship-singers-practice/2024-10-06/
END:VEVENT
BEGIN:VEVENT
DTSTART;TZID=America/Toronto:20241004T190000
DTEND;TZID=America/Toronto:20241004T210000
DTSTAMP:20260423T051649
CREATED:20240907T160717Z
LAST-MODIFIED:20241022T142938Z
UID:10002331-1728068400-1728075600@eccridgetown.ca
SUMMARY:Lion Heart Youth Group
DESCRIPTION:Every Friday\, Lion Heart Youth gathers for an engaging\, exciting\, and uplifting experience. Our program is open to students in grade 7-12. \nEach week\, our evenings are filled with exciting activities\, insightful discussions\, and meaningful connections.  \nEach night includes games\, devotions\, worship\, fun\, and fellowship. \nCheck out our home page for more details!
URL:https://eccridgetown.ca/event/lion-heart-youth-group/2024-10-04/
END:VEVENT
BEGIN:VEVENT
DTSTART;TZID=America/Toronto:20241001T190000
DTEND;TZID=America/Toronto:20241001T203000
DTSTAMP:20260423T051650
CREATED:20240831T020344Z
LAST-MODIFIED:20241202T193418Z
UID:10001726-1727809200-1727814600@eccridgetown.ca
SUMMARY:Bible Study
DESCRIPTION:Join Pastor John in the sanctuary for Bible Study every Tuesday evening from 7-8:30pm.
URL:https://eccridgetown.ca/event/bible-study-4-2/2024-10-01/
END:VEVENT
BEGIN:VEVENT
DTSTART;TZID=America/Toronto:20240929T150000
DTEND;TZID=America/Toronto:20240929T170000
DTSTAMP:20260423T051650
CREATED:20240806T160312Z
LAST-MODIFIED:20240927T192206Z
UID:10002203-1727622000-1727629200@eccridgetown.ca
SUMMARY:SUNDAY SOCIAL
DESCRIPTION:Go for a stroll on the beach and toast marshmallows at the Mitton’s home.
URL:https://eccridgetown.ca/event/sunday-social-2/
END:VEVENT
BEGIN:VEVENT
DTSTART;TZID=America/Toronto:20240929T103000
DTEND;TZID=America/Toronto:20240929T120000
DTSTAMP:20260423T051650
CREATED:20231006T152930Z
LAST-MODIFIED:20241202T204118Z
UID:10000345-1727605800-1727611200@eccridgetown.ca
SUMMARY:Sunday Morning Worship
DESCRIPTION:
URL:https://eccridgetown.ca/event/sunday-morning-service-2-3/2024-09-29/
END:VEVENT
BEGIN:VEVENT
DTSTART;TZID=America/Toronto:20240929T094500
DTEND;TZID=America/Toronto:20240929T101500
DTSTAMP:20260423T051650
CREATED:20231006T233639Z
LAST-MODIFIED:20260125T143033Z
UID:10001486-1727603100-1727604900@eccridgetown.ca
SUMMARY:Pre-service Coffee
DESCRIPTION:Join us Sunday morning before Service at 9:45 – 10:15am
URL:https://eccridgetown.ca/event/pre-service-coffee-fellowship/2024-09-29/
END:VEVENT
BEGIN:VEVENT
DTSTART;TZID=America/Toronto:20240929T090000
DTEND;TZID=America/Toronto:20240929T103000
DTSTAMP:20260423T051650
CREATED:20240430T215324Z
LAST-MODIFIED:20260125T142754Z
UID:10001798-1727600400-1727605800@eccridgetown.ca
SUMMARY:ECC Worship Singers Practice
DESCRIPTION:Anyone ages 10 or older who would like to sing or play a musical instrument come and join us!
URL:https://eccridgetown.ca/event/ecc-worship-singers-practice/2024-09-29/
END:VEVENT
BEGIN:VEVENT
DTSTART;TZID=America/Toronto:20240927T160000
DTEND;TZID=America/Toronto:20240928T203000
DTSTAMP:20260423T051650
CREATED:20240907T161706Z
LAST-MODIFIED:20240907T161706Z
UID:10002370-1727452800-1727555400@eccridgetown.ca
SUMMARY:Youth "STAND conference" at Kenesserie Camp.
DESCRIPTION:On September 27-28\, Lion Heart Youth will be going to the STAND conference at Kenesserie Camp. The weekend will be filled with preaching from the Word\, fellowship\, good food\, and lots of fun.  \nHere are some of the details you will want to know:\nLocation: Kenesserie Campground – 18669 Kenesserie Rd\, Ridgetown\, ON\nCheck-in: Friday\, Sept 27\, from 4-5pm\nConference Ends: Saturday\, Sept 28 at 8:30pm\nCost: $60/teen.  Includes meals\, lodging\, a conference shirt\, a notebook\, and more.\nGrades 7-12+  \nThis is an awesome opportunity for all of our youth students\, and we want to see as many of our students go as possible! \nYou can use the link below to register: https://share.fluro.io/form/669e9297c5c683003605fa67
URL:https://eccridgetown.ca/event/youth-stand-conference-at-kenesserie-camp/
END:VEVENT
BEGIN:VEVENT
DTSTART;TZID=America/Toronto:20240925T133000
DTEND;TZID=America/Toronto:20240925T150000
DTSTAMP:20260423T051650
CREATED:20240613T202350Z
LAST-MODIFIED:20240925T210756Z
UID:10001137-1727271000-1727276400@eccridgetown.ca
SUMMARY:Ladies Group
DESCRIPTION:All ladies of any age are welcome to join us for a great time of fellowship. Our meetings are (usually) held the last Wednesday of the month\, from 1:30 till 3pm. \nThe ladies group hosts special events on behalf of the congregation\, and also for those out in the community. We provide lunches for funerals\, wedding receptions\, and any other special events that are requested. We also make donations to both local and international missions. In order to make these donations\, we host fundraising events such as bake sales.
URL:https://eccridgetown.ca/event/ladies-meeting-3-3/2024-09-25/
END:VEVENT
BEGIN:VEVENT
DTSTART;TZID=America/Toronto:20240922T120000
DTEND;TZID=America/Toronto:20240922T140000
DTSTAMP:20260423T051650
CREATED:20240831T012838Z
LAST-MODIFIED:20240831T012838Z
UID:10002205-1727006400-1727013600@eccridgetown.ca
SUMMARY:PLAN TO PROTECT TRAINING
DESCRIPTION:*All staff\, church council and volunteers need to complete the Plan To Protect Training.* \nThe course will be taking place on September 22\, 2024 following the morning service.  \nWe will be providing a pizza lunch for all those in attendance.(There will be a donation basket for those who would like to help with the cost of the food. \nPlease check the list in the foyer to see if you need to attend\, and check off your name if you are able to attend on this day\, so we will have enough food. If you have children who will be staying with you\, please identify number of people who will be eating.  \n*Those unable to attend on this date will still need to make alternate arrangements to complete the training.*
URL:https://eccridgetown.ca/event/plan-to-protect-training/
END:VEVENT
BEGIN:VEVENT
DTSTART;TZID=America/Toronto:20240922T103000
DTEND;TZID=America/Toronto:20240922T120000
DTSTAMP:20260423T051650
CREATED:20231006T152930Z
LAST-MODIFIED:20241202T204118Z
UID:10000344-1727001000-1727006400@eccridgetown.ca
SUMMARY:Sunday Morning Worship
DESCRIPTION:
URL:https://eccridgetown.ca/event/sunday-morning-service-2-3/2024-09-22/
END:VEVENT
BEGIN:VEVENT
DTSTART;TZID=America/Toronto:20240922T094500
DTEND;TZID=America/Toronto:20240922T101500
DTSTAMP:20260423T051650
CREATED:20231006T233639Z
LAST-MODIFIED:20260125T143033Z
UID:10001485-1726998300-1727000100@eccridgetown.ca
SUMMARY:Pre-service Coffee
DESCRIPTION:Join us Sunday morning before Service at 9:45 – 10:15am
URL:https://eccridgetown.ca/event/pre-service-coffee-fellowship/2024-09-22/
END:VEVENT
BEGIN:VEVENT
DTSTART;TZID=America/Toronto:20240922T090000
DTEND;TZID=America/Toronto:20240922T103000
DTSTAMP:20260423T051650
CREATED:20240430T215324Z
LAST-MODIFIED:20260125T142754Z
UID:10001797-1726995600-1727001000@eccridgetown.ca
SUMMARY:ECC Worship Singers Practice
DESCRIPTION:Anyone ages 10 or older who would like to sing or play a musical instrument come and join us!
URL:https://eccridgetown.ca/event/ecc-worship-singers-practice/2024-09-22/
END:VEVENT
BEGIN:VEVENT
DTSTART;TZID=America/Toronto:20240920T190000
DTEND;TZID=America/Toronto:20240920T210000
DTSTAMP:20260423T051650
CREATED:20240907T160717Z
LAST-MODIFIED:20241022T142938Z
UID:10002329-1726858800-1726866000@eccridgetown.ca
SUMMARY:Lion Heart Youth Group
DESCRIPTION:Every Friday\, Lion Heart Youth gathers for an engaging\, exciting\, and uplifting experience. Our program is open to students in grade 7-12. \nEach week\, our evenings are filled with exciting activities\, insightful discussions\, and meaningful connections.  \nEach night includes games\, devotions\, worship\, fun\, and fellowship. \nCheck out our home page for more details!
URL:https://eccridgetown.ca/event/lion-heart-youth-group/2024-09-20/
END:VEVENT
BEGIN:VEVENT
DTSTART;TZID=America/Toronto:20240915T150000
DTEND;TZID=America/Toronto:20240915T170000
DTSTAMP:20260423T051650
CREATED:20240806T160117Z
LAST-MODIFIED:20240831T013311Z
UID:10002202-1726412400-1726419600@eccridgetown.ca
SUMMARY:SUNDAY SOCIAL
DESCRIPTION:Outdoor games at the church.\nPlease bring your favourite game to church for 2 hours of fun.\nIt could be something physical (soccer\, Kub\, etc.) or a game under the  carport (chess/checkers/cards).
URL:https://eccridgetown.ca/event/sunday-social/
END:VEVENT
BEGIN:VEVENT
DTSTART;TZID=America/Toronto:20240915T103000
DTEND;TZID=America/Toronto:20240915T120000
DTSTAMP:20260423T051650
CREATED:20231006T152930Z
LAST-MODIFIED:20241202T204118Z
UID:10000343-1726396200-1726401600@eccridgetown.ca
SUMMARY:Sunday Morning Worship
DESCRIPTION:
URL:https://eccridgetown.ca/event/sunday-morning-service-2-3/2024-09-15/
END:VEVENT
BEGIN:VEVENT
DTSTART;TZID=America/Toronto:20240915T094500
DTEND;TZID=America/Toronto:20240915T101500
DTSTAMP:20260423T051650
CREATED:20231006T233639Z
LAST-MODIFIED:20260125T143033Z
UID:10001484-1726393500-1726395300@eccridgetown.ca
SUMMARY:Pre-service Coffee
DESCRIPTION:Join us Sunday morning before Service at 9:45 – 10:15am
URL:https://eccridgetown.ca/event/pre-service-coffee-fellowship/2024-09-15/
END:VEVENT
BEGIN:VEVENT
DTSTART;TZID=America/Toronto:20240915T090000
DTEND;TZID=America/Toronto:20240915T103000
DTSTAMP:20260423T051650
CREATED:20240430T215324Z
LAST-MODIFIED:20260125T142754Z
UID:10001796-1726390800-1726396200@eccridgetown.ca
SUMMARY:ECC Worship Singers Practice
DESCRIPTION:Anyone ages 10 or older who would like to sing or play a musical instrument come and join us!
URL:https://eccridgetown.ca/event/ecc-worship-singers-practice/2024-09-15/
END:VEVENT
BEGIN:VEVENT
DTSTART;TZID=America/Toronto:20240913T190000
DTEND;TZID=America/Toronto:20240913T210000
DTSTAMP:20260423T051650
CREATED:20240907T160717Z
LAST-MODIFIED:20241022T142938Z
UID:10002328-1726254000-1726261200@eccridgetown.ca
SUMMARY:Lion Heart Youth Group
DESCRIPTION:Every Friday\, Lion Heart Youth gathers for an engaging\, exciting\, and uplifting experience. Our program is open to students in grade 7-12. \nEach week\, our evenings are filled with exciting activities\, insightful discussions\, and meaningful connections.  \nEach night includes games\, devotions\, worship\, fun\, and fellowship. \nCheck out our home page for more details!
URL:https://eccridgetown.ca/event/lion-heart-youth-group/2024-09-13/
END:VEVENT
END:VCALENDAR