BEGIN:VCALENDAR
VERSION:2.0
PRODID:-//Emmanuel Congregational Church - ECPv6.2.3//NONSGML v1.0//EN
CALSCALE:GREGORIAN
METHOD:PUBLISH
X-WR-CALNAME:Emmanuel Congregational Church
X-ORIGINAL-URL:https://eccridgetown.ca
X-WR-CALDESC:Events for Emmanuel Congregational Church
REFRESH-INTERVAL;VALUE=DURATION:PT1H
X-Robots-Tag:noindex
X-PUBLISHED-TTL:PT1H
BEGIN:VTIMEZONE
TZID:America/Toronto
BEGIN:DAYLIGHT
TZOFFSETFROM:-0500
TZOFFSETTO:-0400
TZNAME:EDT
DTSTART:20240310T070000
END:DAYLIGHT
BEGIN:STANDARD
TZOFFSETFROM:-0400
TZOFFSETTO:-0500
TZNAME:EST
DTSTART:20241103T060000
END:STANDARD
END:VTIMEZONE
BEGIN:VEVENT
DTSTART;TZID=America/Toronto:20241129T190000
DTEND;TZID=America/Toronto:20241129T210000
DTSTAMP:20260422T234748
CREATED:20241106T171626Z
LAST-MODIFIED:20241106T171626Z
UID:10002463-1732906800-1732914000@eccridgetown.ca
SUMMARY:NO Youth-Laser Tag on 26th instead!
DESCRIPTION:Lion Heart Youth will be joining Gregory Drive Alliance Youth on Nov.26 instead of meeting this Friday.
URL:https://eccridgetown.ca/event/no-youth-laser-tag-on-26th-instead/
END:VEVENT
BEGIN:VEVENT
DTSTART;TZID=America/Toronto:20241129T140000
DTEND;TZID=America/Toronto:20241129T160000
DTSTAMP:20260422T234748
CREATED:20241101T191602Z
LAST-MODIFIED:20241101T191748Z
UID:10002459-1732888800-1732896000@eccridgetown.ca
SUMMARY:Baked Goods Donations drop off
DESCRIPTION:Donations of Baked Goods for the Saturday November 30 Christmas Bake Sale can be brought to the church between 2-4pm.\nIf this is not a suitable time\, items can be donated before the sale from 8-8:45am.
URL:https://eccridgetown.ca/event/baked-goods-donations-drop-off/2024-11-29/
END:VEVENT
BEGIN:VEVENT
DTSTART;TZID=America/Toronto:20241127T133000
DTEND;TZID=America/Toronto:20241127T150000
DTSTAMP:20260422T234748
CREATED:20240613T202350Z
LAST-MODIFIED:20240925T210756Z
UID:10002080-1732714200-1732719600@eccridgetown.ca
SUMMARY:Ladies Group
DESCRIPTION:All ladies of any age are welcome to join us for a great time of fellowship. Our meetings are (usually) held the last Wednesday of the month\, from 1:30 till 3pm. \nThe ladies group hosts special events on behalf of the congregation\, and also for those out in the community. We provide lunches for funerals\, wedding receptions\, and any other special events that are requested. We also make donations to both local and international missions. In order to make these donations\, we host fundraising events such as bake sales.
URL:https://eccridgetown.ca/event/ladies-meeting-3-3/2024-11-27/
END:VEVENT
BEGIN:VEVENT
DTSTART;TZID=America/Toronto:20241126T190000
DTEND;TZID=America/Toronto:20241126T203000
DTSTAMP:20260422T234748
CREATED:20240831T020344Z
LAST-MODIFIED:20241202T193418Z
UID:10002282-1732647600-1732653000@eccridgetown.ca
SUMMARY:Bible Study
DESCRIPTION:Join Pastor John in the sanctuary for Bible Study every Tuesday evening from 7-8:30pm.
URL:https://eccridgetown.ca/event/bible-study-4-2/2024-11-26/
END:VEVENT
BEGIN:VEVENT
DTSTART;TZID=America/Toronto:20241126T180000
DTEND;TZID=America/Toronto:20241126T210000
DTSTAMP:20260422T234748
CREATED:20241106T171836Z
LAST-MODIFIED:20241106T171854Z
UID:10002464-1732644000-1732654800@eccridgetown.ca
SUMMARY:Lion Heart Youth-Laser Tag
DESCRIPTION:Laser Tag!!\n•	We are invited to join Gregory Drive for a night of laser tag\n•	November 26 @ Gregory Drive Alliance\, 6-9pm\n•	Pick up and drop off at GDA\n•	RSVP to Jess/ Curtis by November 18 to have cost covered by LHY ($15/ Youth)\no	After RSVP to us\, please fill out the form below… This is NEEDED by GDA to organize the event\no	https://form.jotform.com/243003998727061\no	LHY Will not be paying for the additional costs above and beyond the $15\, so plan accordingly\n•	Poster has been added as well
URL:https://eccridgetown.ca/event/lion-heart-youth-laser-tag/
END:VEVENT
BEGIN:VEVENT
DTSTART;TZID=America/Toronto:20241124T170000
DTEND;TZID=America/Toronto:20241124T190000
DTSTAMP:20260422T234748
CREATED:20241102T025208Z
LAST-MODIFIED:20241102T025208Z
UID:10002462-1732467600-1732474800@eccridgetown.ca
SUMMARY:Christmas Potluck Dinner
DESCRIPTION:
URL:https://eccridgetown.ca/event/christmas-potluck-dinner/
END:VEVENT
BEGIN:VEVENT
DTSTART;TZID=America/Toronto:20241124T103000
DTEND;TZID=America/Toronto:20241124T120000
DTSTAMP:20260422T234748
CREATED:20231006T152930Z
LAST-MODIFIED:20241202T204118Z
UID:10000353-1732444200-1732449600@eccridgetown.ca
SUMMARY:Sunday Morning Worship
DESCRIPTION:
URL:https://eccridgetown.ca/event/sunday-morning-service-2-3/2024-11-24/
END:VEVENT
BEGIN:VEVENT
DTSTART;TZID=America/Toronto:20241124T094500
DTEND;TZID=America/Toronto:20241124T101500
DTSTAMP:20260422T234748
CREATED:20231006T233639Z
LAST-MODIFIED:20260125T143033Z
UID:10001494-1732441500-1732443300@eccridgetown.ca
SUMMARY:Pre-service Coffee
DESCRIPTION:Join us Sunday morning before Service at 9:45 – 10:15am
URL:https://eccridgetown.ca/event/pre-service-coffee-fellowship/2024-11-24/
END:VEVENT
BEGIN:VEVENT
DTSTART;TZID=America/Toronto:20241124T090000
DTEND;TZID=America/Toronto:20241124T103000
DTSTAMP:20260422T234748
CREATED:20240430T215324Z
LAST-MODIFIED:20260125T142754Z
UID:10001806-1732438800-1732444200@eccridgetown.ca
SUMMARY:ECC Worship Singers Practice
DESCRIPTION:Anyone ages 10 or older who would like to sing or play a musical instrument come and join us!
URL:https://eccridgetown.ca/event/ecc-worship-singers-practice/2024-11-24/
END:VEVENT
BEGIN:VEVENT
DTSTART;TZID=America/Toronto:20241119T190000
DTEND;TZID=America/Toronto:20241119T203000
DTSTAMP:20260422T234748
CREATED:20240831T020344Z
LAST-MODIFIED:20241202T193418Z
UID:10002281-1732042800-1732048200@eccridgetown.ca
SUMMARY:Bible Study
DESCRIPTION:Join Pastor John in the sanctuary for Bible Study every Tuesday evening from 7-8:30pm.
URL:https://eccridgetown.ca/event/bible-study-4-2/2024-11-19/
END:VEVENT
BEGIN:VEVENT
DTSTART;TZID=America/Toronto:20241117T150000
DTEND;TZID=America/Toronto:20241117T170000
DTSTAMP:20260422T234748
CREATED:20241112T164452Z
LAST-MODIFIED:20241112T164540Z
UID:10002465-1731855600-1731862800@eccridgetown.ca
SUMMARY:Sunday Social - Music Jam Session
DESCRIPTION:Join us from 3-5 pm in the ECC sanctuary for a music jam session.   \nBring your instruments and your voices to play contemporary music together.
URL:https://eccridgetown.ca/event/sunday-social-music-jam-session/
END:VEVENT
BEGIN:VEVENT
DTSTART;TZID=America/Toronto:20241117T103000
DTEND;TZID=America/Toronto:20241117T120000
DTSTAMP:20260422T234748
CREATED:20231006T152930Z
LAST-MODIFIED:20241202T204118Z
UID:10000352-1731839400-1731844800@eccridgetown.ca
SUMMARY:Sunday Morning Worship
DESCRIPTION:
URL:https://eccridgetown.ca/event/sunday-morning-service-2-3/2024-11-17/
END:VEVENT
BEGIN:VEVENT
DTSTART;TZID=America/Toronto:20241117T103000
DTEND;TZID=America/Toronto:20241117T113000
DTSTAMP:20260422T234748
CREATED:20241101T185904Z
LAST-MODIFIED:20241101T191046Z
UID:10002458-1731839400-1731843000@eccridgetown.ca
SUMMARY:Operation Christmas Child Boxes
DESCRIPTION:Donations to help fill the Operation Christmas Child Boxes will be accepted until Nov. 10.\nDuring the service on Nov. 17 the boxes will be packed by our children and volunteers.
URL:https://eccridgetown.ca/event/operation-christmas-child-boxes/2024-11-17/
ATTACH;FMTTYPE=image/jpeg:https://eccridgetown.ca/wp-content/uploads/2024/11/2024-11-pack-a-shoebox-ad.jpg
END:VEVENT
BEGIN:VEVENT
DTSTART;TZID=America/Toronto:20241117T094500
DTEND;TZID=America/Toronto:20241117T101500
DTSTAMP:20260422T234748
CREATED:20231006T233639Z
LAST-MODIFIED:20260125T143033Z
UID:10001493-1731836700-1731838500@eccridgetown.ca
SUMMARY:Pre-service Coffee
DESCRIPTION:Join us Sunday morning before Service at 9:45 – 10:15am
URL:https://eccridgetown.ca/event/pre-service-coffee-fellowship/2024-11-17/
END:VEVENT
BEGIN:VEVENT
DTSTART;TZID=America/Toronto:20241117T090000
DTEND;TZID=America/Toronto:20241117T103000
DTSTAMP:20260422T234748
CREATED:20240430T215324Z
LAST-MODIFIED:20260125T142754Z
UID:10001805-1731834000-1731839400@eccridgetown.ca
SUMMARY:ECC Worship Singers Practice
DESCRIPTION:Anyone ages 10 or older who would like to sing or play a musical instrument come and join us!
URL:https://eccridgetown.ca/event/ecc-worship-singers-practice/2024-11-17/
END:VEVENT
BEGIN:VEVENT
DTSTART;TZID=America/Toronto:20241112T190000
DTEND;TZID=America/Toronto:20241112T203000
DTSTAMP:20260422T234748
CREATED:20240831T020344Z
LAST-MODIFIED:20241202T193418Z
UID:10002280-1731438000-1731443400@eccridgetown.ca
SUMMARY:Bible Study
DESCRIPTION:Join Pastor John in the sanctuary for Bible Study every Tuesday evening from 7-8:30pm.
URL:https://eccridgetown.ca/event/bible-study-4-2/2024-11-12/
END:VEVENT
BEGIN:VEVENT
DTSTART;TZID=America/Toronto:20241110T103000
DTEND;TZID=America/Toronto:20241110T120000
DTSTAMP:20260422T234748
CREATED:20231024T234208Z
LAST-MODIFIED:20241101T192534Z
UID:10002436-1731234600-1731240000@eccridgetown.ca
SUMMARY:Remembrance Day Service & Lunch
DESCRIPTION:Remembrance Day Service Honouring our Veterans.\nLunch welcoming our Legion and I.O.D.E. guests to follow.
URL:https://eccridgetown.ca/event/sunday-morning-service-2-3-2/2024-11-10/
ATTACH;FMTTYPE=image/png:https://eccridgetown.ca/wp-content/uploads/2023/10/2023-11-11-Remembrance-Day-d.png
END:VEVENT
BEGIN:VEVENT
DTSTART;TZID=America/Toronto:20241110T103000
DTEND;TZID=America/Toronto:20241110T113000
DTSTAMP:20260422T234748
CREATED:20241101T185904Z
LAST-MODIFIED:20241101T191046Z
UID:10002457-1731234600-1731238200@eccridgetown.ca
SUMMARY:Operation Christmas Child Boxes
DESCRIPTION:Donations to help fill the Operation Christmas Child Boxes will be accepted until Nov. 10.\nDuring the service on Nov. 17 the boxes will be packed by our children and volunteers.
URL:https://eccridgetown.ca/event/operation-christmas-child-boxes/2024-11-10/
ATTACH;FMTTYPE=image/jpeg:https://eccridgetown.ca/wp-content/uploads/2024/11/2024-11-pack-a-shoebox-ad.jpg
END:VEVENT
BEGIN:VEVENT
DTSTART;TZID=America/Toronto:20241110T094500
DTEND;TZID=America/Toronto:20241110T101500
DTSTAMP:20260422T234748
CREATED:20231006T233639Z
LAST-MODIFIED:20260125T143033Z
UID:10001492-1731231900-1731233700@eccridgetown.ca
SUMMARY:Pre-service Coffee
DESCRIPTION:Join us Sunday morning before Service at 9:45 – 10:15am
URL:https://eccridgetown.ca/event/pre-service-coffee-fellowship/2024-11-10/
END:VEVENT
BEGIN:VEVENT
DTSTART;TZID=America/Toronto:20241110T090000
DTEND;TZID=America/Toronto:20241110T103000
DTSTAMP:20260422T234748
CREATED:20240430T215324Z
LAST-MODIFIED:20260125T142754Z
UID:10001804-1731229200-1731234600@eccridgetown.ca
SUMMARY:ECC Worship Singers Practice
DESCRIPTION:Anyone ages 10 or older who would like to sing or play a musical instrument come and join us!
URL:https://eccridgetown.ca/event/ecc-worship-singers-practice/2024-11-10/
END:VEVENT
BEGIN:VEVENT
DTSTART;TZID=America/Toronto:20241105T190000
DTEND;TZID=America/Toronto:20241105T203000
DTSTAMP:20260422T234748
CREATED:20240831T020344Z
LAST-MODIFIED:20241202T193418Z
UID:10002279-1730833200-1730838600@eccridgetown.ca
SUMMARY:Bible Study
DESCRIPTION:Join Pastor John in the sanctuary for Bible Study every Tuesday evening from 7-8:30pm.
URL:https://eccridgetown.ca/event/bible-study-4-2/2024-11-05/
END:VEVENT
BEGIN:VEVENT
DTSTART;TZID=America/Toronto:20241103T103000
DTEND;TZID=America/Toronto:20241103T120000
DTSTAMP:20260422T234748
CREATED:20231006T152930Z
LAST-MODIFIED:20241202T204118Z
UID:10000350-1730629800-1730635200@eccridgetown.ca
SUMMARY:Sunday Morning Worship
DESCRIPTION:
URL:https://eccridgetown.ca/event/sunday-morning-service-2-3/2024-11-03/
END:VEVENT
BEGIN:VEVENT
DTSTART;TZID=America/Toronto:20241103T103000
DTEND;TZID=America/Toronto:20241103T120000
DTSTAMP:20260422T234748
CREATED:20230918T185756Z
LAST-MODIFIED:20230918T185756Z
UID:10001126-1730629800-1730635200@eccridgetown.ca
SUMMARY:Food Bank Collection
DESCRIPTION:First Sunday of every month!
URL:https://eccridgetown.ca/event/food-bank-collection/2024-11-03/
END:VEVENT
BEGIN:VEVENT
DTSTART;TZID=America/Toronto:20241103T094500
DTEND;TZID=America/Toronto:20241103T101500
DTSTAMP:20260422T234748
CREATED:20231006T233639Z
LAST-MODIFIED:20260125T143033Z
UID:10001491-1730627100-1730628900@eccridgetown.ca
SUMMARY:Pre-service Coffee
DESCRIPTION:Join us Sunday morning before Service at 9:45 – 10:15am
URL:https://eccridgetown.ca/event/pre-service-coffee-fellowship/2024-11-03/
END:VEVENT
BEGIN:VEVENT
DTSTART;TZID=America/Toronto:20241103T090000
DTEND;TZID=America/Toronto:20241103T103000
DTSTAMP:20260422T234748
CREATED:20240430T215324Z
LAST-MODIFIED:20260125T142754Z
UID:10001803-1730624400-1730629800@eccridgetown.ca
SUMMARY:ECC Worship Singers Practice
DESCRIPTION:Anyone ages 10 or older who would like to sing or play a musical instrument come and join us!
URL:https://eccridgetown.ca/event/ecc-worship-singers-practice/2024-11-03/
END:VEVENT
BEGIN:VEVENT
DTSTART;TZID=America/Toronto:20241030T133000
DTEND;TZID=America/Toronto:20241030T150000
DTSTAMP:20260422T234748
CREATED:20240925T210914Z
LAST-MODIFIED:20240925T211044Z
UID:10002374-1730295000-1730300400@eccridgetown.ca
SUMMARY:Ladies Group
DESCRIPTION:All ladies of any age are welcome to join us for a great time of fellowship. Our meetings are (usually) held the last Wednesday of the month\, from 1:30 till 3pm. \nThe ladies group hosts special events on behalf of the congregation\, and also for those out in the community. We provide lunches for funerals\, wedding receptions\, and any other special events that are requested. We also make donations to both local and international missions. In order to make these donations\, we host fundraising events such as bake sales.
URL:https://eccridgetown.ca/event/ladies-group/
END:VEVENT
BEGIN:VEVENT
DTSTART;TZID=America/Toronto:20241029T190000
DTEND;TZID=America/Toronto:20241029T203000
DTSTAMP:20260422T234748
CREATED:20240831T020344Z
LAST-MODIFIED:20241202T193418Z
UID:10002278-1730228400-1730233800@eccridgetown.ca
SUMMARY:Bible Study
DESCRIPTION:Join Pastor John in the sanctuary for Bible Study every Tuesday evening from 7-8:30pm.
URL:https://eccridgetown.ca/event/bible-study-4-2/2024-10-29/
END:VEVENT
BEGIN:VEVENT
DTSTART;TZID=America/Toronto:20241027T103000
DTEND;TZID=America/Toronto:20241027T120000
DTSTAMP:20260422T234748
CREATED:20231006T152930Z
LAST-MODIFIED:20241202T204118Z
UID:10000349-1730025000-1730030400@eccridgetown.ca
SUMMARY:Sunday Morning Worship
DESCRIPTION:
URL:https://eccridgetown.ca/event/sunday-morning-service-2-3/2024-10-27/
END:VEVENT
BEGIN:VEVENT
DTSTART;TZID=America/Toronto:20241027T094500
DTEND;TZID=America/Toronto:20241027T101500
DTSTAMP:20260422T234748
CREATED:20231006T233639Z
LAST-MODIFIED:20260125T143033Z
UID:10001490-1730022300-1730024100@eccridgetown.ca
SUMMARY:Pre-service Coffee
DESCRIPTION:Join us Sunday morning before Service at 9:45 – 10:15am
URL:https://eccridgetown.ca/event/pre-service-coffee-fellowship/2024-10-27/
END:VEVENT
BEGIN:VEVENT
DTSTART;TZID=America/Toronto:20241027T090000
DTEND;TZID=America/Toronto:20241027T103000
DTSTAMP:20260422T234748
CREATED:20240430T215324Z
LAST-MODIFIED:20260125T142754Z
UID:10001802-1730019600-1730025000@eccridgetown.ca
SUMMARY:ECC Worship Singers Practice
DESCRIPTION:Anyone ages 10 or older who would like to sing or play a musical instrument come and join us!
URL:https://eccridgetown.ca/event/ecc-worship-singers-practice/2024-10-27/
END:VEVENT
END:VCALENDAR