BEGIN:VCALENDAR
VERSION:2.0
PRODID:-//Emmanuel Congregational Church - ECPv6.2.3//NONSGML v1.0//EN
CALSCALE:GREGORIAN
METHOD:PUBLISH
X-WR-CALNAME:Emmanuel Congregational Church
X-ORIGINAL-URL:https://eccridgetown.ca
X-WR-CALDESC:Events for Emmanuel Congregational Church
REFRESH-INTERVAL;VALUE=DURATION:PT1H
X-Robots-Tag:noindex
X-PUBLISHED-TTL:PT1H
BEGIN:VTIMEZONE
TZID:America/Toronto
BEGIN:DAYLIGHT
TZOFFSETFROM:-0500
TZOFFSETTO:-0400
TZNAME:EDT
DTSTART:20240310T070000
END:DAYLIGHT
BEGIN:STANDARD
TZOFFSETFROM:-0400
TZOFFSETTO:-0500
TZNAME:EST
DTSTART:20241103T060000
END:STANDARD
BEGIN:DAYLIGHT
TZOFFSETFROM:-0500
TZOFFSETTO:-0400
TZNAME:EDT
DTSTART:20250309T070000
END:DAYLIGHT
BEGIN:STANDARD
TZOFFSETFROM:-0400
TZOFFSETTO:-0500
TZNAME:EST
DTSTART:20251102T060000
END:STANDARD
END:VTIMEZONE
BEGIN:VEVENT
DTSTART;TZID=America/Toronto:20250125T190000
DTEND;TZID=America/Toronto:20250125T210000
DTSTAMP:20260422T151714
CREATED:20250201T225039Z
LAST-MODIFIED:20250201T225039Z
UID:10002679-1737831600-1737838800@eccridgetown.ca
SUMMARY:Lion Heart Youth
DESCRIPTION:
URL:https://eccridgetown.ca/event/lion-heart-youth-5/2025-01-25/
ATTACH;FMTTYPE=image/jpeg:https://eccridgetown.ca/wp-content/uploads/2025/01/2025-01-Lion-Heart-JanSchedule.jpg
END:VEVENT
BEGIN:VEVENT
DTSTART;TZID=America/Toronto:20250124T190000
DTEND;TZID=America/Toronto:20250124T210000
DTSTAMP:20260422T151714
CREATED:20250201T225039Z
LAST-MODIFIED:20250201T225039Z
UID:10002678-1737745200-1737752400@eccridgetown.ca
SUMMARY:Lion Heart Youth
DESCRIPTION:
URL:https://eccridgetown.ca/event/lion-heart-youth-5/2025-01-24/
ATTACH;FMTTYPE=image/jpeg:https://eccridgetown.ca/wp-content/uploads/2025/01/2025-01-Lion-Heart-JanSchedule.jpg
END:VEVENT
BEGIN:VEVENT
DTSTART;TZID=America/Toronto:20250121T190000
DTEND;TZID=America/Toronto:20250121T203000
DTSTAMP:20260422T151714
CREATED:20240831T020344Z
LAST-MODIFIED:20241202T193418Z
UID:10002207-1737486000-1737491400@eccridgetown.ca
SUMMARY:Bible Study
DESCRIPTION:Join Pastor John in the sanctuary for Bible Study every Tuesday evening from 7-8:30pm.
URL:https://eccridgetown.ca/event/bible-study-4-2/2025-01-21/
END:VEVENT
BEGIN:VEVENT
DTSTART;TZID=America/Toronto:20250119T120000
DTEND;TZID=America/Toronto:20250119T140000
DTSTAMP:20260422T151714
CREATED:20250104T225709Z
LAST-MODIFIED:20250106T212925Z
UID:10002611-1737288000-1737295200@eccridgetown.ca
SUMMARY:Anniversary Sunday Lunch
DESCRIPTION:Please plan to stay following our service to celebrate the 36th Anniversary of our church with a lunch provided by the Ladies Group.
URL:https://eccridgetown.ca/event/anniversary-sunday-lunch-2/
END:VEVENT
BEGIN:VEVENT
DTSTART;TZID=America/Toronto:20250119T103000
DTEND;TZID=America/Toronto:20250119T120000
DTSTAMP:20260422T151714
CREATED:20231006T152930Z
LAST-MODIFIED:20241202T204118Z
UID:10000361-1737282600-1737288000@eccridgetown.ca
SUMMARY:Sunday Morning Worship
DESCRIPTION:
URL:https://eccridgetown.ca/event/sunday-morning-service-2-3/2025-01-19/
END:VEVENT
BEGIN:VEVENT
DTSTART;TZID=America/Toronto:20250119T094500
DTEND;TZID=America/Toronto:20250119T101500
DTSTAMP:20260422T151714
CREATED:20231006T233639Z
LAST-MODIFIED:20260125T143033Z
UID:10001502-1737279900-1737281700@eccridgetown.ca
SUMMARY:Pre-service Coffee
DESCRIPTION:Join us Sunday morning before Service at 9:45 – 10:15am
URL:https://eccridgetown.ca/event/pre-service-coffee-fellowship/2025-01-19/
END:VEVENT
BEGIN:VEVENT
DTSTART;TZID=America/Toronto:20250119T090000
DTEND;TZID=America/Toronto:20250119T103000
DTSTAMP:20260422T151714
CREATED:20240430T215324Z
LAST-MODIFIED:20260125T142754Z
UID:10001814-1737277200-1737282600@eccridgetown.ca
SUMMARY:ECC Worship Singers Practice
DESCRIPTION:Anyone ages 10 or older who would like to sing or play a musical instrument come and join us!
URL:https://eccridgetown.ca/event/ecc-worship-singers-practice/2025-01-19/
END:VEVENT
BEGIN:VEVENT
DTSTART;TZID=America/Toronto:20250118T190000
DTEND;TZID=America/Toronto:20250118T210000
DTSTAMP:20260422T151714
CREATED:20250201T225039Z
LAST-MODIFIED:20250201T225039Z
UID:10002677-1737226800-1737234000@eccridgetown.ca
SUMMARY:Lion Heart Youth
DESCRIPTION:
URL:https://eccridgetown.ca/event/lion-heart-youth-5/2025-01-18/
ATTACH;FMTTYPE=image/jpeg:https://eccridgetown.ca/wp-content/uploads/2025/01/2025-01-Lion-Heart-JanSchedule.jpg
END:VEVENT
BEGIN:VEVENT
DTSTART;TZID=America/Toronto:20250117T190000
DTEND;TZID=America/Toronto:20250117T210000
DTSTAMP:20260422T151714
CREATED:20250201T225039Z
LAST-MODIFIED:20250201T225039Z
UID:10002676-1737140400-1737147600@eccridgetown.ca
SUMMARY:Lion Heart Youth
DESCRIPTION:
URL:https://eccridgetown.ca/event/lion-heart-youth-5/2025-01-17/
ATTACH;FMTTYPE=image/jpeg:https://eccridgetown.ca/wp-content/uploads/2025/01/2025-01-Lion-Heart-JanSchedule.jpg
END:VEVENT
BEGIN:VEVENT
DTSTART;TZID=America/Toronto:20250114T190000
DTEND;TZID=America/Toronto:20250114T203000
DTSTAMP:20260422T151714
CREATED:20240831T020344Z
LAST-MODIFIED:20241202T193418Z
UID:10002206-1736881200-1736886600@eccridgetown.ca
SUMMARY:Bible Study
DESCRIPTION:Join Pastor John in the sanctuary for Bible Study every Tuesday evening from 7-8:30pm.
URL:https://eccridgetown.ca/event/bible-study-4-2/2025-01-14/
END:VEVENT
BEGIN:VEVENT
DTSTART;TZID=America/Toronto:20250112T150000
DTEND;TZID=America/Toronto:20250112T180000
DTSTAMP:20260422T151714
CREATED:20250115T215518Z
LAST-MODIFIED:20250204T214639Z
UID:10002614-1736694000-1736704800@eccridgetown.ca
SUMMARY:Sunday Socials
DESCRIPTION:Sunday Socials for the months of January and February will be at the MacIntosh home.   \nWe will meet at 3 pm and begin at 3:15\, ending at 4:45.   \nA potluck supper will then be from 5-6 (if not interested in supper\, you can leave at 4:45).  \nThe topics that you have chosen are:\nIslam (January 12)\nMormons and Jehovah’s Witnesses (January 26)\nBuddhism (February 2)\nHinduism (February 23)
URL:https://eccridgetown.ca/event/sunday-socials/2025-01-12/
END:VEVENT
BEGIN:VEVENT
DTSTART;TZID=America/Toronto:20250112T103000
DTEND;TZID=America/Toronto:20250112T120000
DTSTAMP:20260422T151714
CREATED:20231006T152930Z
LAST-MODIFIED:20241202T204118Z
UID:10000360-1736677800-1736683200@eccridgetown.ca
SUMMARY:Sunday Morning Worship
DESCRIPTION:
URL:https://eccridgetown.ca/event/sunday-morning-service-2-3/2025-01-12/
END:VEVENT
BEGIN:VEVENT
DTSTART;TZID=America/Toronto:20250112T094500
DTEND;TZID=America/Toronto:20250112T101500
DTSTAMP:20260422T151714
CREATED:20231006T233639Z
LAST-MODIFIED:20260125T143033Z
UID:10001501-1736675100-1736676900@eccridgetown.ca
SUMMARY:Pre-service Coffee
DESCRIPTION:Join us Sunday morning before Service at 9:45 – 10:15am
URL:https://eccridgetown.ca/event/pre-service-coffee-fellowship/2025-01-12/
END:VEVENT
BEGIN:VEVENT
DTSTART;TZID=America/Toronto:20250112T090000
DTEND;TZID=America/Toronto:20250112T103000
DTSTAMP:20260422T151714
CREATED:20240430T215324Z
LAST-MODIFIED:20260125T142754Z
UID:10001813-1736672400-1736677800@eccridgetown.ca
SUMMARY:ECC Worship Singers Practice
DESCRIPTION:Anyone ages 10 or older who would like to sing or play a musical instrument come and join us!
URL:https://eccridgetown.ca/event/ecc-worship-singers-practice/2025-01-12/
END:VEVENT
BEGIN:VEVENT
DTSTART;TZID=America/Toronto:20250107T190000
DTEND;TZID=America/Toronto:20250107T203000
DTSTAMP:20260422T151714
CREATED:20240831T020344Z
LAST-MODIFIED:20241202T193418Z
UID:10002547-1736276400-1736281800@eccridgetown.ca
SUMMARY:Bible Study
DESCRIPTION:Join Pastor John in the sanctuary for Bible Study every Tuesday evening from 7-8:30pm.
URL:https://eccridgetown.ca/event/bible-study-4-2/2025-01-07/
END:VEVENT
BEGIN:VEVENT
DTSTART;TZID=America/Toronto:20250105T103000
DTEND;TZID=America/Toronto:20250105T120000
DTSTAMP:20260422T151714
CREATED:20231006T152930Z
LAST-MODIFIED:20241202T204118Z
UID:10000359-1736073000-1736078400@eccridgetown.ca
SUMMARY:Sunday Morning Worship
DESCRIPTION:
URL:https://eccridgetown.ca/event/sunday-morning-service-2-3/2025-01-05/
END:VEVENT
BEGIN:VEVENT
DTSTART;TZID=America/Toronto:20250105T103000
DTEND;TZID=America/Toronto:20250105T120000
DTSTAMP:20260422T151714
CREATED:20230918T185756Z
LAST-MODIFIED:20230918T185756Z
UID:10001128-1736073000-1736078400@eccridgetown.ca
SUMMARY:Food Bank Collection
DESCRIPTION:First Sunday of every month!
URL:https://eccridgetown.ca/event/food-bank-collection/2025-01-05/
END:VEVENT
BEGIN:VEVENT
DTSTART;TZID=America/Toronto:20250105T094500
DTEND;TZID=America/Toronto:20250105T101500
DTSTAMP:20260422T151714
CREATED:20231006T233639Z
LAST-MODIFIED:20260125T143033Z
UID:10001500-1736070300-1736072100@eccridgetown.ca
SUMMARY:Pre-service Coffee
DESCRIPTION:Join us Sunday morning before Service at 9:45 – 10:15am
URL:https://eccridgetown.ca/event/pre-service-coffee-fellowship/2025-01-05/
END:VEVENT
BEGIN:VEVENT
DTSTART;TZID=America/Toronto:20250105T090000
DTEND;TZID=America/Toronto:20250105T103000
DTSTAMP:20260422T151714
CREATED:20240430T215324Z
LAST-MODIFIED:20260125T142754Z
UID:10001812-1736067600-1736073000@eccridgetown.ca
SUMMARY:ECC Worship Singers Practice
DESCRIPTION:Anyone ages 10 or older who would like to sing or play a musical instrument come and join us!
URL:https://eccridgetown.ca/event/ecc-worship-singers-practice/2025-01-05/
END:VEVENT
BEGIN:VEVENT
DTSTART;TZID=America/Toronto:20241231T190000
DTEND;TZID=America/Toronto:20241231T203000
DTSTAMP:20260422T151714
CREATED:20241202T193952Z
LAST-MODIFIED:20241202T195022Z
UID:10002551-1735671600-1735677000@eccridgetown.ca
SUMMARY:NO Bible Study
DESCRIPTION:Our weekly Tuesday Evening Bible Study will not be held Dec. 10 – 31\, but will resume Jan. 7 with a study entitled “The Season of Solomon”.  \nJoin Pastor John weekly in the sanctuary from 7-8:30pm.
URL:https://eccridgetown.ca/event/no-bible-study-2/2024-12-31/
END:VEVENT
BEGIN:VEVENT
DTSTART;TZID=America/Toronto:20241229T103000
DTEND;TZID=America/Toronto:20241229T120000
DTSTAMP:20260422T151714
CREATED:20241202T204239Z
LAST-MODIFIED:20241202T204348Z
UID:10002610-1735468200-1735473600@eccridgetown.ca
SUMMARY:Sunday Morning Worship
DESCRIPTION:Pastor Tim Lukings will be our guest pastor.
URL:https://eccridgetown.ca/event/sunday-morning-service/
END:VEVENT
BEGIN:VEVENT
DTSTART;TZID=America/Toronto:20241229T094500
DTEND;TZID=America/Toronto:20241229T101500
DTSTAMP:20260422T151714
CREATED:20231006T233639Z
LAST-MODIFIED:20260125T143033Z
UID:10001499-1735465500-1735467300@eccridgetown.ca
SUMMARY:Pre-service Coffee
DESCRIPTION:Join us Sunday morning before Service at 9:45 – 10:15am
URL:https://eccridgetown.ca/event/pre-service-coffee-fellowship/2024-12-29/
END:VEVENT
BEGIN:VEVENT
DTSTART;TZID=America/Toronto:20241229T090000
DTEND;TZID=America/Toronto:20241229T103000
DTSTAMP:20260422T151714
CREATED:20240430T215324Z
LAST-MODIFIED:20260125T142754Z
UID:10001811-1735462800-1735468200@eccridgetown.ca
SUMMARY:ECC Worship Singers Practice
DESCRIPTION:Anyone ages 10 or older who would like to sing or play a musical instrument come and join us!
URL:https://eccridgetown.ca/event/ecc-worship-singers-practice/2024-12-29/
END:VEVENT
BEGIN:VEVENT
DTSTART;TZID=America/Toronto:20241224T190000
DTEND;TZID=America/Toronto:20241224T203000
DTSTAMP:20260422T151714
CREATED:20241202T193952Z
LAST-MODIFIED:20241202T195022Z
UID:10002550-1735066800-1735072200@eccridgetown.ca
SUMMARY:NO Bible Study
DESCRIPTION:Our weekly Tuesday Evening Bible Study will not be held Dec. 10 – 31\, but will resume Jan. 7 with a study entitled “The Season of Solomon”.  \nJoin Pastor John weekly in the sanctuary from 7-8:30pm.
URL:https://eccridgetown.ca/event/no-bible-study-2/2024-12-24/
END:VEVENT
BEGIN:VEVENT
DTSTART;TZID=America/Toronto:20241224T163000
DTEND;TZID=America/Toronto:20241224T173000
DTSTAMP:20260422T151714
CREATED:20241202T195452Z
LAST-MODIFIED:20241202T203913Z
UID:10002604-1735057800-1735061400@eccridgetown.ca
SUMMARY:Christmas Eve Service
DESCRIPTION:Join us for our Family Christmas Eve Service!
URL:https://eccridgetown.ca/event/christmas-eve-service-2/
ATTACH;FMTTYPE=image/jpeg:https://eccridgetown.ca/wp-content/uploads/2024/12/candlesCross-istockphoto-1357110710-612x612-1.jpg
END:VEVENT
BEGIN:VEVENT
DTSTART;TZID=America/Toronto:20241222T103000
DTEND;TZID=America/Toronto:20241222T120000
DTSTAMP:20260422T151714
CREATED:20231006T152930Z
LAST-MODIFIED:20241202T204118Z
UID:10000357-1734863400-1734868800@eccridgetown.ca
SUMMARY:Sunday Morning Worship
DESCRIPTION:
URL:https://eccridgetown.ca/event/sunday-morning-service-2-3/2024-12-22/
END:VEVENT
BEGIN:VEVENT
DTSTART;TZID=America/Toronto:20241222T094500
DTEND;TZID=America/Toronto:20241222T101500
DTSTAMP:20260422T151714
CREATED:20231006T233639Z
LAST-MODIFIED:20260125T143033Z
UID:10001498-1734860700-1734862500@eccridgetown.ca
SUMMARY:Pre-service Coffee
DESCRIPTION:Join us Sunday morning before Service at 9:45 – 10:15am
URL:https://eccridgetown.ca/event/pre-service-coffee-fellowship/2024-12-22/
END:VEVENT
BEGIN:VEVENT
DTSTART;TZID=America/Toronto:20241222T090000
DTEND;TZID=America/Toronto:20241222T103000
DTSTAMP:20260422T151714
CREATED:20240430T215324Z
LAST-MODIFIED:20260125T142754Z
UID:10001810-1734858000-1734863400@eccridgetown.ca
SUMMARY:ECC Worship Singers Practice
DESCRIPTION:Anyone ages 10 or older who would like to sing or play a musical instrument come and join us!
URL:https://eccridgetown.ca/event/ecc-worship-singers-practice/2024-12-22/
END:VEVENT
BEGIN:VEVENT
DTSTART;TZID=America/Toronto:20241217T190000
DTEND;TZID=America/Toronto:20241217T203000
DTSTAMP:20260422T151714
CREATED:20241202T193952Z
LAST-MODIFIED:20241202T195022Z
UID:10002549-1734462000-1734467400@eccridgetown.ca
SUMMARY:NO Bible Study
DESCRIPTION:Our weekly Tuesday Evening Bible Study will not be held Dec. 10 – 31\, but will resume Jan. 7 with a study entitled “The Season of Solomon”.  \nJoin Pastor John weekly in the sanctuary from 7-8:30pm.
URL:https://eccridgetown.ca/event/no-bible-study-2/2024-12-17/
END:VEVENT
BEGIN:VEVENT
DTSTART;TZID=America/Toronto:20241217T103000
DTEND;TZID=America/Toronto:20241217T113000
DTSTAMP:20260422T151714
CREATED:20240216T214528Z
LAST-MODIFIED:20240412T195625Z
UID:10001771-1734431400-1734435000@eccridgetown.ca
SUMMARY:Worship Service at The Village
DESCRIPTION:Emmanuel will be hosting a worship service at Village on the Ridge Retirement Residence at 10:30am.\nWe would love you to join the residents for this special time if you are able\, but please respect the well being of the residents by staying home if you are not well.\nThese dates are always subject to change.
URL:https://eccridgetown.ca/event/worship-service-at-the-village/2024-12-17/
END:VEVENT
END:VCALENDAR