BEGIN:VCALENDAR
VERSION:2.0
PRODID:-//Emmanuel Congregational Church - ECPv6.2.3//NONSGML v1.0//EN
CALSCALE:GREGORIAN
METHOD:PUBLISH
X-WR-CALNAME:Emmanuel Congregational Church
X-ORIGINAL-URL:https://eccridgetown.ca
X-WR-CALDESC:Events for Emmanuel Congregational Church
REFRESH-INTERVAL;VALUE=DURATION:PT1H
X-Robots-Tag:noindex
X-PUBLISHED-TTL:PT1H
BEGIN:VTIMEZONE
TZID:America/Toronto
BEGIN:DAYLIGHT
TZOFFSETFROM:-0500
TZOFFSETTO:-0400
TZNAME:EDT
DTSTART:20250309T070000
END:DAYLIGHT
BEGIN:STANDARD
TZOFFSETFROM:-0400
TZOFFSETTO:-0500
TZNAME:EST
DTSTART:20251102T060000
END:STANDARD
END:VTIMEZONE
BEGIN:VEVENT
DTSTART;TZID=America/Toronto:20250309T090000
DTEND;TZID=America/Toronto:20250309T103000
DTSTAMP:20260422T100955
CREATED:20240430T215324Z
LAST-MODIFIED:20260125T142754Z
UID:10001821-1741510800-1741516200@eccridgetown.ca
SUMMARY:ECC Worship Singers Practice
DESCRIPTION:Anyone ages 10 or older who would like to sing or play a musical instrument come and join us!
URL:https://eccridgetown.ca/event/ecc-worship-singers-practice/2025-03-09/
END:VEVENT
BEGIN:VEVENT
DTSTART;TZID=America/Toronto:20250307T190000
DTEND;TZID=America/Toronto:20250307T210000
DTSTAMP:20260422T100955
CREATED:20250304T200618Z
LAST-MODIFIED:20250304T201313Z
UID:10002700-1741374000-1741381200@eccridgetown.ca
SUMMARY:Lion Heart Youth
DESCRIPTION:Every Friday\, Lion Heart Youth gathers for an engaging\, exciting\, and uplifting experience. Our program is open to students in grade 7-12. \nEach week\, our evenings are filled with exciting activities\, insightful discussions\, and meaningful connections.  \nEach night includes games\, devotions\, worship\, fun\, and fellowship. \nCheck out our home page for more details!
URL:https://eccridgetown.ca/event/lion-heart-youth-6/2025-03-07/
ATTACH;FMTTYPE=image/jpeg:https://eccridgetown.ca/wp-content/uploads/2025/03/2025-03-04-March-Lion-Heart-Youth.jpg
END:VEVENT
BEGIN:VEVENT
DTSTART;TZID=America/Toronto:20250304T190000
DTEND;TZID=America/Toronto:20250304T203000
DTSTAMP:20260422T100955
CREATED:20240831T020344Z
LAST-MODIFIED:20241202T193418Z
UID:10002213-1741114800-1741120200@eccridgetown.ca
SUMMARY:Bible Study
DESCRIPTION:Join Pastor John in the sanctuary for Bible Study every Tuesday evening from 7-8:30pm.
URL:https://eccridgetown.ca/event/bible-study-4-2/2025-03-04/
END:VEVENT
BEGIN:VEVENT
DTSTART;TZID=America/Toronto:20250302T103000
DTEND;TZID=America/Toronto:20250302T120000
DTSTAMP:20260422T100955
CREATED:20231006T152930Z
LAST-MODIFIED:20241202T204118Z
UID:10000367-1740911400-1740916800@eccridgetown.ca
SUMMARY:Sunday Morning Worship
DESCRIPTION:
URL:https://eccridgetown.ca/event/sunday-morning-service-2-3/2025-03-02/
END:VEVENT
BEGIN:VEVENT
DTSTART;TZID=America/Toronto:20250302T094500
DTEND;TZID=America/Toronto:20250302T101500
DTSTAMP:20260422T100955
CREATED:20231006T233639Z
LAST-MODIFIED:20260125T143033Z
UID:10001508-1740908700-1740910500@eccridgetown.ca
SUMMARY:Pre-service Coffee
DESCRIPTION:Join us Sunday morning before Service at 9:45 – 10:15am
URL:https://eccridgetown.ca/event/pre-service-coffee-fellowship/2025-03-02/
END:VEVENT
BEGIN:VEVENT
DTSTART;TZID=America/Toronto:20250302T090000
DTEND;TZID=America/Toronto:20250302T103000
DTSTAMP:20260422T100955
CREATED:20240430T215324Z
LAST-MODIFIED:20260125T142754Z
UID:10001820-1740906000-1740911400@eccridgetown.ca
SUMMARY:ECC Worship Singers Practice
DESCRIPTION:Anyone ages 10 or older who would like to sing or play a musical instrument come and join us!
URL:https://eccridgetown.ca/event/ecc-worship-singers-practice/2025-03-02/
END:VEVENT
BEGIN:VEVENT
DTSTART;TZID=America/Toronto:20250301T140000
DTEND;TZID=America/Toronto:20250301T160000
DTSTAMP:20260422T100955
CREATED:20250224T165119Z
LAST-MODIFIED:20250224T165119Z
UID:10002684-1740837600-1740844800@eccridgetown.ca
SUMMARY:Gather 25 Worship Event
DESCRIPTION:Everyone is invited to the church on Saturday\, March 1 from 2-4 pm to watch the Gather 25 Worship Event together.
URL:https://eccridgetown.ca/event/gather-25-worship-event/
END:VEVENT
BEGIN:VEVENT
DTSTART;TZID=America/Toronto:20250228T190000
DTEND;TZID=America/Toronto:20250228T210000
DTSTAMP:20260422T100955
CREATED:20250201T223712Z
LAST-MODIFIED:20250201T224335Z
UID:10002675-1740769200-1740776400@eccridgetown.ca
SUMMARY:Lion Heart Youth Group
DESCRIPTION:Every Friday\, Lion Heart Youth gathers for an engaging\, exciting\, and uplifting experience. Our program is open to students in grade 7-12. \nEach week\, our evenings are filled with exciting activities\, insightful discussions\, and meaningful connections.  \nEach night includes games\, devotions\, worship\, fun\, and fellowship. \nCheck out our home page for more details!
URL:https://eccridgetown.ca/event/february-youth/2025-02-28/
ATTACH;FMTTYPE=image/png:https://eccridgetown.ca/wp-content/uploads/2025/02/2025-02-01-Lion-Heart-FebSchedule.png
END:VEVENT
BEGIN:VEVENT
DTSTART;TZID=America/Toronto:20250226T133000
DTEND;TZID=America/Toronto:20250226T150000
DTSTAMP:20260422T100955
CREATED:20250224T164439Z
LAST-MODIFIED:20250224T164439Z
UID:10002683-1740576600-1740582000@eccridgetown.ca
SUMMARY:Ladies Group CANCELLED!
DESCRIPTION:
URL:https://eccridgetown.ca/event/ladies-group-cancelled/
END:VEVENT
BEGIN:VEVENT
DTSTART;TZID=America/Toronto:20250225T190000
DTEND;TZID=America/Toronto:20250225T203000
DTSTAMP:20260422T100955
CREATED:20240831T020344Z
LAST-MODIFIED:20241202T193418Z
UID:10002212-1740510000-1740515400@eccridgetown.ca
SUMMARY:Bible Study
DESCRIPTION:Join Pastor John in the sanctuary for Bible Study every Tuesday evening from 7-8:30pm.
URL:https://eccridgetown.ca/event/bible-study-4-2/2025-02-25/
END:VEVENT
BEGIN:VEVENT
DTSTART;TZID=America/Toronto:20250223T150000
DTEND;TZID=America/Toronto:20250223T180000
DTSTAMP:20260422T100955
CREATED:20250115T215518Z
LAST-MODIFIED:20250204T214639Z
UID:10002617-1740322800-1740333600@eccridgetown.ca
SUMMARY:Sunday Socials
DESCRIPTION:Sunday Socials for the months of January and February will be at the MacIntosh home.   \nWe will meet at 3 pm and begin at 3:15\, ending at 4:45.   \nA potluck supper will then be from 5-6 (if not interested in supper\, you can leave at 4:45).  \nThe topics that you have chosen are:\nIslam (January 12)\nMormons and Jehovah’s Witnesses (January 26)\nBuddhism (February 2)\nHinduism (February 23)
URL:https://eccridgetown.ca/event/sunday-socials/2025-02-23/
END:VEVENT
BEGIN:VEVENT
DTSTART;TZID=America/Toronto:20250223T103000
DTEND;TZID=America/Toronto:20250223T120000
DTSTAMP:20260422T100955
CREATED:20231006T152930Z
LAST-MODIFIED:20241202T204118Z
UID:10000366-1740306600-1740312000@eccridgetown.ca
SUMMARY:Sunday Morning Worship
DESCRIPTION:
URL:https://eccridgetown.ca/event/sunday-morning-service-2-3/2025-02-23/
END:VEVENT
BEGIN:VEVENT
DTSTART;TZID=America/Toronto:20250223T094500
DTEND;TZID=America/Toronto:20250223T101500
DTSTAMP:20260422T100955
CREATED:20231006T233639Z
LAST-MODIFIED:20260125T143033Z
UID:10001507-1740303900-1740305700@eccridgetown.ca
SUMMARY:Pre-service Coffee
DESCRIPTION:Join us Sunday morning before Service at 9:45 – 10:15am
URL:https://eccridgetown.ca/event/pre-service-coffee-fellowship/2025-02-23/
END:VEVENT
BEGIN:VEVENT
DTSTART;TZID=America/Toronto:20250223T090000
DTEND;TZID=America/Toronto:20250223T103000
DTSTAMP:20260422T100955
CREATED:20240430T215324Z
LAST-MODIFIED:20260125T142754Z
UID:10001819-1740301200-1740306600@eccridgetown.ca
SUMMARY:ECC Worship Singers Practice
DESCRIPTION:Anyone ages 10 or older who would like to sing or play a musical instrument come and join us!
URL:https://eccridgetown.ca/event/ecc-worship-singers-practice/2025-02-23/
END:VEVENT
BEGIN:VEVENT
DTSTART;TZID=America/Toronto:20250221T190000
DTEND;TZID=America/Toronto:20250221T210000
DTSTAMP:20260422T100955
CREATED:20250201T223712Z
LAST-MODIFIED:20250201T224335Z
UID:10002674-1740164400-1740171600@eccridgetown.ca
SUMMARY:Lion Heart Youth Group
DESCRIPTION:Every Friday\, Lion Heart Youth gathers for an engaging\, exciting\, and uplifting experience. Our program is open to students in grade 7-12. \nEach week\, our evenings are filled with exciting activities\, insightful discussions\, and meaningful connections.  \nEach night includes games\, devotions\, worship\, fun\, and fellowship. \nCheck out our home page for more details!
URL:https://eccridgetown.ca/event/february-youth/2025-02-21/
ATTACH;FMTTYPE=image/png:https://eccridgetown.ca/wp-content/uploads/2025/02/2025-02-01-Lion-Heart-FebSchedule.png
END:VEVENT
BEGIN:VEVENT
DTSTART;TZID=America/Toronto:20250218T190000
DTEND;TZID=America/Toronto:20250218T203000
DTSTAMP:20260422T100955
CREATED:20240831T020344Z
LAST-MODIFIED:20241202T193418Z
UID:10002211-1739905200-1739910600@eccridgetown.ca
SUMMARY:Bible Study
DESCRIPTION:Join Pastor John in the sanctuary for Bible Study every Tuesday evening from 7-8:30pm.
URL:https://eccridgetown.ca/event/bible-study-4-2/2025-02-18/
END:VEVENT
BEGIN:VEVENT
DTSTART;TZID=America/Toronto:20250216T103000
DTEND;TZID=America/Toronto:20250216T120000
DTSTAMP:20260422T100955
CREATED:20231006T152930Z
LAST-MODIFIED:20241202T204118Z
UID:10000365-1739701800-1739707200@eccridgetown.ca
SUMMARY:Sunday Morning Worship
DESCRIPTION:
URL:https://eccridgetown.ca/event/sunday-morning-service-2-3/2025-02-16/
END:VEVENT
BEGIN:VEVENT
DTSTART;TZID=America/Toronto:20250216T094500
DTEND;TZID=America/Toronto:20250216T101500
DTSTAMP:20260422T100955
CREATED:20231006T233639Z
LAST-MODIFIED:20260125T143033Z
UID:10001506-1739699100-1739700900@eccridgetown.ca
SUMMARY:Pre-service Coffee
DESCRIPTION:Join us Sunday morning before Service at 9:45 – 10:15am
URL:https://eccridgetown.ca/event/pre-service-coffee-fellowship/2025-02-16/
END:VEVENT
BEGIN:VEVENT
DTSTART;TZID=America/Toronto:20250216T090000
DTEND;TZID=America/Toronto:20250216T103000
DTSTAMP:20260422T100955
CREATED:20240430T215324Z
LAST-MODIFIED:20260125T142754Z
UID:10001818-1739696400-1739701800@eccridgetown.ca
SUMMARY:ECC Worship Singers Practice
DESCRIPTION:Anyone ages 10 or older who would like to sing or play a musical instrument come and join us!
URL:https://eccridgetown.ca/event/ecc-worship-singers-practice/2025-02-16/
END:VEVENT
BEGIN:VEVENT
DTSTART;TZID=America/Toronto:20250211T190000
DTEND;TZID=America/Toronto:20250211T203000
DTSTAMP:20260422T100955
CREATED:20240831T020344Z
LAST-MODIFIED:20241202T193418Z
UID:10002210-1739300400-1739305800@eccridgetown.ca
SUMMARY:Bible Study
DESCRIPTION:Join Pastor John in the sanctuary for Bible Study every Tuesday evening from 7-8:30pm.
URL:https://eccridgetown.ca/event/bible-study-4-2/2025-02-11/
END:VEVENT
BEGIN:VEVENT
DTSTART;TZID=America/Toronto:20250209T103000
DTEND;TZID=America/Toronto:20250209T120000
DTSTAMP:20260422T100955
CREATED:20231006T152930Z
LAST-MODIFIED:20241202T204118Z
UID:10000364-1739097000-1739102400@eccridgetown.ca
SUMMARY:Sunday Morning Worship
DESCRIPTION:
URL:https://eccridgetown.ca/event/sunday-morning-service-2-3/2025-02-09/
END:VEVENT
BEGIN:VEVENT
DTSTART;TZID=America/Toronto:20250209T094500
DTEND;TZID=America/Toronto:20250209T101500
DTSTAMP:20260422T100955
CREATED:20231006T233639Z
LAST-MODIFIED:20260125T143033Z
UID:10001505-1739094300-1739096100@eccridgetown.ca
SUMMARY:Pre-service Coffee
DESCRIPTION:Join us Sunday morning before Service at 9:45 – 10:15am
URL:https://eccridgetown.ca/event/pre-service-coffee-fellowship/2025-02-09/
END:VEVENT
BEGIN:VEVENT
DTSTART;TZID=America/Toronto:20250209T090000
DTEND;TZID=America/Toronto:20250209T103000
DTSTAMP:20260422T100955
CREATED:20240430T215324Z
LAST-MODIFIED:20260125T142754Z
UID:10001817-1739091600-1739097000@eccridgetown.ca
SUMMARY:ECC Worship Singers Practice
DESCRIPTION:Anyone ages 10 or older who would like to sing or play a musical instrument come and join us!
URL:https://eccridgetown.ca/event/ecc-worship-singers-practice/2025-02-09/
END:VEVENT
BEGIN:VEVENT
DTSTART;TZID=America/Toronto:20250207T190000
DTEND;TZID=America/Toronto:20250207T210000
DTSTAMP:20260422T100955
CREATED:20250201T223712Z
LAST-MODIFIED:20250201T224335Z
UID:10002672-1738954800-1738962000@eccridgetown.ca
SUMMARY:Lion Heart Youth Group
DESCRIPTION:Every Friday\, Lion Heart Youth gathers for an engaging\, exciting\, and uplifting experience. Our program is open to students in grade 7-12. \nEach week\, our evenings are filled with exciting activities\, insightful discussions\, and meaningful connections.  \nEach night includes games\, devotions\, worship\, fun\, and fellowship. \nCheck out our home page for more details!
URL:https://eccridgetown.ca/event/february-youth/2025-02-07/
ATTACH;FMTTYPE=image/png:https://eccridgetown.ca/wp-content/uploads/2025/02/2025-02-01-Lion-Heart-FebSchedule.png
END:VEVENT
BEGIN:VEVENT
DTSTART;TZID=America/Toronto:20250204T190000
DTEND;TZID=America/Toronto:20250204T203000
DTSTAMP:20260422T100955
CREATED:20240831T020344Z
LAST-MODIFIED:20241202T193418Z
UID:10002209-1738695600-1738701000@eccridgetown.ca
SUMMARY:Bible Study
DESCRIPTION:Join Pastor John in the sanctuary for Bible Study every Tuesday evening from 7-8:30pm.
URL:https://eccridgetown.ca/event/bible-study-4-2/2025-02-04/
END:VEVENT
BEGIN:VEVENT
DTSTART;TZID=America/Toronto:20250202T103000
DTEND;TZID=America/Toronto:20250202T120000
DTSTAMP:20260422T100955
CREATED:20231006T152930Z
LAST-MODIFIED:20241202T204118Z
UID:10000363-1738492200-1738497600@eccridgetown.ca
SUMMARY:Sunday Morning Worship
DESCRIPTION:
URL:https://eccridgetown.ca/event/sunday-morning-service-2-3/2025-02-02/
END:VEVENT
BEGIN:VEVENT
DTSTART;TZID=America/Toronto:20250202T094500
DTEND;TZID=America/Toronto:20250202T101500
DTSTAMP:20260422T100955
CREATED:20231006T233639Z
LAST-MODIFIED:20260125T143033Z
UID:10001504-1738489500-1738491300@eccridgetown.ca
SUMMARY:Pre-service Coffee
DESCRIPTION:Join us Sunday morning before Service at 9:45 – 10:15am
URL:https://eccridgetown.ca/event/pre-service-coffee-fellowship/2025-02-02/
END:VEVENT
BEGIN:VEVENT
DTSTART;TZID=America/Toronto:20250202T090000
DTEND;TZID=America/Toronto:20250202T103000
DTSTAMP:20260422T100955
CREATED:20240430T215324Z
LAST-MODIFIED:20260125T142754Z
UID:10001816-1738486800-1738492200@eccridgetown.ca
SUMMARY:ECC Worship Singers Practice
DESCRIPTION:Anyone ages 10 or older who would like to sing or play a musical instrument come and join us!
URL:https://eccridgetown.ca/event/ecc-worship-singers-practice/2025-02-02/
END:VEVENT
BEGIN:VEVENT
DTSTART;TZID=America/Toronto:20250131T190000
DTEND;TZID=America/Toronto:20250131T210000
DTSTAMP:20260422T100955
CREATED:20250201T225039Z
LAST-MODIFIED:20250201T225039Z
UID:10002680-1738350000-1738357200@eccridgetown.ca
SUMMARY:Lion Heart Youth
DESCRIPTION:
URL:https://eccridgetown.ca/event/lion-heart-youth-5/2025-01-31/
ATTACH;FMTTYPE=image/jpeg:https://eccridgetown.ca/wp-content/uploads/2025/01/2025-01-Lion-Heart-JanSchedule.jpg
END:VEVENT
BEGIN:VEVENT
DTSTART;TZID=America/Toronto:20250129T133000
DTEND;TZID=America/Toronto:20250129T150000
DTSTAMP:20260422T100955
CREATED:20241128T222216Z
LAST-MODIFIED:20241128T222338Z
UID:10002546-1738157400-1738162800@eccridgetown.ca
SUMMARY:Ladies Group
DESCRIPTION:All ladies of any age are welcome to join us for a great time of fellowship. Our meetings are (usually) held the last Wednesday of the month\, from 1:30 till 3pm. \nThe ladies group hosts special events on behalf of the congregation\, and also for those out in the community. We provide lunches for funerals\, wedding receptions\, and any other special events that are requested. We also make donations to both local and international missions. In order to make these donations\, we host fundraising events such as bake sales.
URL:https://eccridgetown.ca/event/ladies-group-2/
END:VEVENT
END:VCALENDAR