BEGIN:VCALENDAR
VERSION:2.0
PRODID:-//Emmanuel Congregational Church - ECPv6.2.3//NONSGML v1.0//EN
CALSCALE:GREGORIAN
METHOD:PUBLISH
X-WR-CALNAME:Emmanuel Congregational Church
X-ORIGINAL-URL:https://eccridgetown.ca
X-WR-CALDESC:Events for Emmanuel Congregational Church
REFRESH-INTERVAL;VALUE=DURATION:PT1H
X-Robots-Tag:noindex
X-PUBLISHED-TTL:PT1H
BEGIN:VTIMEZONE
TZID:America/Toronto
BEGIN:DAYLIGHT
TZOFFSETFROM:-0500
TZOFFSETTO:-0400
TZNAME:EDT
DTSTART:20250309T070000
END:DAYLIGHT
BEGIN:STANDARD
TZOFFSETFROM:-0400
TZOFFSETTO:-0500
TZNAME:EST
DTSTART:20251102T060000
END:STANDARD
END:VTIMEZONE
BEGIN:VEVENT
DTSTART;TZID=America/Toronto:20250420T090000
DTEND;TZID=America/Toronto:20250420T103000
DTSTAMP:20260422T062607
CREATED:20240430T215324Z
LAST-MODIFIED:20260125T142754Z
UID:10001827-1745139600-1745145000@eccridgetown.ca
SUMMARY:ECC Worship Singers Practice
DESCRIPTION:Anyone ages 10 or older who would like to sing or play a musical instrument come and join us!
URL:https://eccridgetown.ca/event/ecc-worship-singers-practice/2025-04-20/
END:VEVENT
BEGIN:VEVENT
DTSTART;TZID=America/Toronto:20250420T090000
DTEND;TZID=America/Toronto:20250420T101500
DTSTAMP:20260422T062607
CREATED:20250404T163456Z
LAST-MODIFIED:20250404T163456Z
UID:10003032-1745139600-1745144100@eccridgetown.ca
SUMMARY:Easter Potluck Breakfast
DESCRIPTION:Bring your favourite breakfast dish or treats and enjoy at time of fellowship before our Easter Sunday Service.
URL:https://eccridgetown.ca/event/easter-potluck-breakfast/
END:VEVENT
BEGIN:VEVENT
DTSTART;TZID=America/Toronto:20250420T063000
DTEND;TZID=America/Toronto:20250420T070000
DTSTAMP:20260422T062607
CREATED:20250404T162803Z
LAST-MODIFIED:20250404T163142Z
UID:10003031-1745130600-1745132400@eccridgetown.ca
SUMMARY:Easter Sunrise Service
DESCRIPTION:6:30am – Sunrise Service – at Mitton’s beach \nA time of songs\, prayer and a short service\, with tea and coffee provided.
URL:https://eccridgetown.ca/event/easter-sunday-celebrations/
END:VEVENT
BEGIN:VEVENT
DTSTART;TZID=America/Toronto:20250418T093000
DTEND;TZID=America/Toronto:20250418T113000
DTSTAMP:20260422T062607
CREATED:20250404T162555Z
LAST-MODIFIED:20250404T164005Z
UID:10003030-1744968600-1744975800@eccridgetown.ca
SUMMARY:Good Friday Cross Walk & Service
DESCRIPTION:On Good Friday\, we will be combining our service with The Gathering Place. \n(9:30am) The Procession of the Cross will leave the Adult Activity Centre walking to Emmanuel.\nParticipants can take turns carrying the large wooden cross as they reflect on its meaning.\nEveryone will arrive at Emmanuel in time for the 10:30am Service. \n(10:30am) Good Friday Service at Emmanuel\, The Gathering Place is hosting.
URL:https://eccridgetown.ca/event/good-friday-cross-walk-service/
END:VEVENT
BEGIN:VEVENT
DTSTART;TZID=America/Toronto:20250417T180000
DTEND;TZID=America/Toronto:20250417T193000
DTSTAMP:20260422T062607
CREATED:20250404T162123Z
LAST-MODIFIED:20250404T162123Z
UID:10003029-1744912800-1744918200@eccridgetown.ca
SUMMARY:Maundy Thursday
DESCRIPTION:This event is a symbolic recreation and celebration of the Last Supper.  During this time together we will have a meal (a simple but full meal\, so don’t eat before) and Worship together. \nIn addition to singing\, the Pastor will wash the Elders’ feet\, and we will use the leftover food on our plates for Communion. \nPlease come to the church at 6 pm.   \nThe event will be held in the Fellowship Hall.
URL:https://eccridgetown.ca/event/maundy-thursday/
END:VEVENT
BEGIN:VEVENT
DTSTART;TZID=America/Toronto:20250415T190000
DTEND;TZID=America/Toronto:20250415T203000
DTSTAMP:20260422T062607
CREATED:20240831T020344Z
LAST-MODIFIED:20241202T193418Z
UID:10002219-1744743600-1744749000@eccridgetown.ca
SUMMARY:Bible Study
DESCRIPTION:Join Pastor John in the sanctuary for Bible Study every Tuesday evening from 7-8:30pm.
URL:https://eccridgetown.ca/event/bible-study-4-2/2025-04-15/
END:VEVENT
BEGIN:VEVENT
DTSTART;TZID=America/Toronto:20250413T103000
DTEND;TZID=America/Toronto:20250413T120000
DTSTAMP:20260422T062607
CREATED:20250313T034003Z
LAST-MODIFIED:20250313T034133Z
UID:10002762-1744540200-1744545600@eccridgetown.ca
SUMMARY:Sunday Morning Worship
DESCRIPTION:Everyone welcome!
URL:https://eccridgetown.ca/event/sunday-morning-service-2/2025-04-13/
END:VEVENT
BEGIN:VEVENT
DTSTART;TZID=America/Toronto:20250413T094500
DTEND;TZID=America/Toronto:20250413T101500
DTSTAMP:20260422T062607
CREATED:20231006T233639Z
LAST-MODIFIED:20260125T143033Z
UID:10001514-1744537500-1744539300@eccridgetown.ca
SUMMARY:Pre-service Coffee
DESCRIPTION:Join us Sunday morning before Service at 9:45 – 10:15am
URL:https://eccridgetown.ca/event/pre-service-coffee-fellowship/2025-04-13/
END:VEVENT
BEGIN:VEVENT
DTSTART;TZID=America/Toronto:20250413T090000
DTEND;TZID=America/Toronto:20250413T103000
DTSTAMP:20260422T062607
CREATED:20240430T215324Z
LAST-MODIFIED:20260125T142754Z
UID:10001826-1744534800-1744540200@eccridgetown.ca
SUMMARY:ECC Worship Singers Practice
DESCRIPTION:Anyone ages 10 or older who would like to sing or play a musical instrument come and join us!
URL:https://eccridgetown.ca/event/ecc-worship-singers-practice/2025-04-13/
END:VEVENT
BEGIN:VEVENT
DTSTART;TZID=America/Toronto:20250412T070000
DTEND;TZID=America/Toronto:20250412T100000
DTSTAMP:20260422T062607
CREATED:20250401T152947Z
LAST-MODIFIED:20250401T152947Z
UID:10003021-1744441200-1744452000@eccridgetown.ca
SUMMARY:Lion Heart Youth Fundraiser Breakfast
DESCRIPTION:
URL:https://eccridgetown.ca/event/lion-heart-youth-fundraiser-breakfast/
ATTACH;FMTTYPE=image/jpeg:https://eccridgetown.ca/wp-content/uploads/2025/04/2025-04-12-Youth-Fundraiser.jpg
END:VEVENT
BEGIN:VEVENT
DTSTART;TZID=America/Toronto:20250411T190000
DTEND;TZID=America/Toronto:20250411T210000
DTSTAMP:20260422T062607
CREATED:20250401T153324Z
LAST-MODIFIED:20250401T153527Z
UID:10003023-1744398000-1744405200@eccridgetown.ca
SUMMARY:Lion Heart Youth
DESCRIPTION:Every Friday\, Lion Heart Youth gathers for an engaging\, exciting\, and uplifting experience. Our program is open to students in grade 7-12. \nEach week\, our evenings are filled with exciting activities\, insightful discussions\, and meaningful connections.  \nEach night includes games\, devotions\, worship\, fun\, and fellowship. \nCheck out our home page for more details!
URL:https://eccridgetown.ca/event/lion-heart-youth-7/2025-04-11/
ATTACH;FMTTYPE=image/jpeg:https://eccridgetown.ca/wp-content/uploads/2025/04/2025-04-01-Apr.-Youth-Schedule.jpg
END:VEVENT
BEGIN:VEVENT
DTSTART;TZID=America/Toronto:20250408T190000
DTEND;TZID=America/Toronto:20250408T203000
DTSTAMP:20260422T062607
CREATED:20240831T020344Z
LAST-MODIFIED:20241202T193418Z
UID:10002218-1744138800-1744144200@eccridgetown.ca
SUMMARY:Bible Study
DESCRIPTION:Join Pastor John in the sanctuary for Bible Study every Tuesday evening from 7-8:30pm.
URL:https://eccridgetown.ca/event/bible-study-4-2/2025-04-08/
END:VEVENT
BEGIN:VEVENT
DTSTART;TZID=America/Toronto:20250406T150000
DTEND;TZID=America/Toronto:20250406T160000
DTSTAMP:20260422T062607
CREATED:20250324T210926Z
LAST-MODIFIED:20250324T210926Z
UID:10003020-1743951600-1743955200@eccridgetown.ca
SUMMARY:Sunday Social - Touring the Ridge House Museum
DESCRIPTION:This week the Sunday Social will be a tour of the Ridge House Museum\, 53 Erie St. S\,\nRidgetown.\nIt will be from 3-4pm on April 6\, 2025.\nAdmission is $5.
URL:https://eccridgetown.ca/event/sunday-social-touring-the-ridge-house-museum/
END:VEVENT
BEGIN:VEVENT
DTSTART;TZID=America/Toronto:20250406T103000
DTEND;TZID=America/Toronto:20250406T120000
DTSTAMP:20260422T062607
CREATED:20250313T034003Z
LAST-MODIFIED:20250313T034133Z
UID:10002761-1743935400-1743940800@eccridgetown.ca
SUMMARY:Sunday Morning Worship
DESCRIPTION:Everyone welcome!
URL:https://eccridgetown.ca/event/sunday-morning-service-2/2025-04-06/
END:VEVENT
BEGIN:VEVENT
DTSTART;TZID=America/Toronto:20250406T094500
DTEND;TZID=America/Toronto:20250406T101500
DTSTAMP:20260422T062607
CREATED:20231006T233639Z
LAST-MODIFIED:20260125T143033Z
UID:10001513-1743932700-1743934500@eccridgetown.ca
SUMMARY:Pre-service Coffee
DESCRIPTION:Join us Sunday morning before Service at 9:45 – 10:15am
URL:https://eccridgetown.ca/event/pre-service-coffee-fellowship/2025-04-06/
END:VEVENT
BEGIN:VEVENT
DTSTART;TZID=America/Toronto:20250406T090000
DTEND;TZID=America/Toronto:20250406T103000
DTSTAMP:20260422T062607
CREATED:20240430T215324Z
LAST-MODIFIED:20260125T142754Z
UID:10001825-1743930000-1743935400@eccridgetown.ca
SUMMARY:ECC Worship Singers Practice
DESCRIPTION:Anyone ages 10 or older who would like to sing or play a musical instrument come and join us!
URL:https://eccridgetown.ca/event/ecc-worship-singers-practice/2025-04-06/
END:VEVENT
BEGIN:VEVENT
DTSTART;TZID=America/Toronto:20250404T190000
DTEND;TZID=America/Toronto:20250404T210000
DTSTAMP:20260422T062607
CREATED:20250401T153324Z
LAST-MODIFIED:20250401T153527Z
UID:10003022-1743793200-1743800400@eccridgetown.ca
SUMMARY:Lion Heart Youth
DESCRIPTION:Every Friday\, Lion Heart Youth gathers for an engaging\, exciting\, and uplifting experience. Our program is open to students in grade 7-12. \nEach week\, our evenings are filled with exciting activities\, insightful discussions\, and meaningful connections.  \nEach night includes games\, devotions\, worship\, fun\, and fellowship. \nCheck out our home page for more details!
URL:https://eccridgetown.ca/event/lion-heart-youth-7/2025-04-04/
ATTACH;FMTTYPE=image/jpeg:https://eccridgetown.ca/wp-content/uploads/2025/04/2025-04-01-Apr.-Youth-Schedule.jpg
END:VEVENT
BEGIN:VEVENT
DTSTART;TZID=America/Toronto:20250401T190000
DTEND;TZID=America/Toronto:20250401T203000
DTSTAMP:20260422T062607
CREATED:20240831T020344Z
LAST-MODIFIED:20241202T193418Z
UID:10002217-1743534000-1743539400@eccridgetown.ca
SUMMARY:Bible Study
DESCRIPTION:Join Pastor John in the sanctuary for Bible Study every Tuesday evening from 7-8:30pm.
URL:https://eccridgetown.ca/event/bible-study-4-2/2025-04-01/
END:VEVENT
BEGIN:VEVENT
DTSTART;TZID=America/Toronto:20250330T114500
DTEND;TZID=America/Toronto:20250330T123000
DTSTAMP:20260422T062607
CREATED:20250313T032108Z
LAST-MODIFIED:20250313T032108Z
UID:10002756-1743335100-1743337800@eccridgetown.ca
SUMMARY:Congregational Meeting
DESCRIPTION:ECC’s March Congregational Meeting will be held after our service on Sunday March 30\, 2025.  \nEveryone is welcome!
URL:https://eccridgetown.ca/event/congregational-meeting-2/
END:VEVENT
BEGIN:VEVENT
DTSTART;TZID=America/Toronto:20250330T103000
DTEND;TZID=America/Toronto:20250330T120000
DTSTAMP:20260422T062607
CREATED:20250313T034003Z
LAST-MODIFIED:20250313T034133Z
UID:10002760-1743330600-1743336000@eccridgetown.ca
SUMMARY:Sunday Morning Worship
DESCRIPTION:Everyone welcome!
URL:https://eccridgetown.ca/event/sunday-morning-service-2/2025-03-30/
END:VEVENT
BEGIN:VEVENT
DTSTART;TZID=America/Toronto:20250330T094500
DTEND;TZID=America/Toronto:20250330T101500
DTSTAMP:20260422T062607
CREATED:20231006T233639Z
LAST-MODIFIED:20260125T143033Z
UID:10001512-1743327900-1743329700@eccridgetown.ca
SUMMARY:Pre-service Coffee
DESCRIPTION:Join us Sunday morning before Service at 9:45 – 10:15am
URL:https://eccridgetown.ca/event/pre-service-coffee-fellowship/2025-03-30/
END:VEVENT
BEGIN:VEVENT
DTSTART;TZID=America/Toronto:20250330T090000
DTEND;TZID=America/Toronto:20250330T103000
DTSTAMP:20260422T062607
CREATED:20240430T215324Z
LAST-MODIFIED:20260125T142754Z
UID:10001824-1743325200-1743330600@eccridgetown.ca
SUMMARY:ECC Worship Singers Practice
DESCRIPTION:Anyone ages 10 or older who would like to sing or play a musical instrument come and join us!
URL:https://eccridgetown.ca/event/ecc-worship-singers-practice/2025-03-30/
END:VEVENT
BEGIN:VEVENT
DTSTART;TZID=America/Toronto:20250328T190000
DTEND;TZID=America/Toronto:20250328T210000
DTSTAMP:20260422T062607
CREATED:20250315T220656Z
LAST-MODIFIED:20250315T220656Z
UID:10003019-1743188400-1743195600@eccridgetown.ca
SUMMARY:Lion Heart Youth Bowling
DESCRIPTION:
URL:https://eccridgetown.ca/event/lion-heart-youth-bowling/
ATTACH;FMTTYPE=image/jpeg:https://eccridgetown.ca/wp-content/uploads/2025/03/2025-03-28-YOUTH-Bowling.jpg
END:VEVENT
BEGIN:VEVENT
DTSTART;TZID=America/Toronto:20250328T190000
DTEND;TZID=America/Toronto:20250328T210000
DTSTAMP:20260422T062607
CREATED:20250304T200618Z
LAST-MODIFIED:20250304T201313Z
UID:10002703-1743188400-1743195600@eccridgetown.ca
SUMMARY:Lion Heart Youth
DESCRIPTION:Every Friday\, Lion Heart Youth gathers for an engaging\, exciting\, and uplifting experience. Our program is open to students in grade 7-12. \nEach week\, our evenings are filled with exciting activities\, insightful discussions\, and meaningful connections.  \nEach night includes games\, devotions\, worship\, fun\, and fellowship. \nCheck out our home page for more details!
URL:https://eccridgetown.ca/event/lion-heart-youth-6/2025-03-28/
ATTACH;FMTTYPE=image/jpeg:https://eccridgetown.ca/wp-content/uploads/2025/03/2025-03-04-March-Lion-Heart-Youth.jpg
END:VEVENT
BEGIN:VEVENT
DTSTART;TZID=America/Toronto:20250326T133000
DTEND;TZID=America/Toronto:20250326T150000
DTSTAMP:20260422T062607
CREATED:20241128T221641Z
LAST-MODIFIED:20250902T211949Z
UID:10002489-1742995800-1743001200@eccridgetown.ca
SUMMARY:Ladies Group
DESCRIPTION:All ladies of any age are welcome to join us for a great time of fellowship\, prayer\, devotion and planning is shared by all over a cup of coffee/tea.\nOur meetings are (usually) held the last Wednesday of the month\, from 1:30 till 3pm. (with the exception of July\, August and December)  \nThe ladies group hosts special events on behalf of the congregation\, and also for those out in the community. We provide lunches for funerals\, wedding receptions\, and any other special events that are requested. We also make donations to both local and international missions. In order to make these donations\, we host fundraising events such as bake sales.
URL:https://eccridgetown.ca/event/ladies-meeting-3-3-2/2025-03-26/
END:VEVENT
BEGIN:VEVENT
DTSTART;TZID=America/Toronto:20250325T190000
DTEND;TZID=America/Toronto:20250325T203000
DTSTAMP:20260422T062607
CREATED:20240831T020344Z
LAST-MODIFIED:20241202T193418Z
UID:10002216-1742929200-1742934600@eccridgetown.ca
SUMMARY:Bible Study
DESCRIPTION:Join Pastor John in the sanctuary for Bible Study every Tuesday evening from 7-8:30pm.
URL:https://eccridgetown.ca/event/bible-study-4-2/2025-03-25/
END:VEVENT
BEGIN:VEVENT
DTSTART;TZID=America/Toronto:20250323T103000
DTEND;TZID=America/Toronto:20250323T120000
DTSTAMP:20260422T062607
CREATED:20250313T034003Z
LAST-MODIFIED:20250313T034133Z
UID:10002759-1742725800-1742731200@eccridgetown.ca
SUMMARY:Sunday Morning Worship
DESCRIPTION:Everyone welcome!
URL:https://eccridgetown.ca/event/sunday-morning-service-2/2025-03-23/
END:VEVENT
BEGIN:VEVENT
DTSTART;TZID=America/Toronto:20250323T094500
DTEND;TZID=America/Toronto:20250323T101500
DTSTAMP:20260422T062607
CREATED:20231006T233639Z
LAST-MODIFIED:20260125T143033Z
UID:10001511-1742723100-1742724900@eccridgetown.ca
SUMMARY:Pre-service Coffee
DESCRIPTION:Join us Sunday morning before Service at 9:45 – 10:15am
URL:https://eccridgetown.ca/event/pre-service-coffee-fellowship/2025-03-23/
END:VEVENT
BEGIN:VEVENT
DTSTART;TZID=America/Toronto:20250323T090000
DTEND;TZID=America/Toronto:20250323T103000
DTSTAMP:20260422T062607
CREATED:20240430T215324Z
LAST-MODIFIED:20260125T142754Z
UID:10001823-1742720400-1742725800@eccridgetown.ca
SUMMARY:ECC Worship Singers Practice
DESCRIPTION:Anyone ages 10 or older who would like to sing or play a musical instrument come and join us!
URL:https://eccridgetown.ca/event/ecc-worship-singers-practice/2025-03-23/
END:VEVENT
BEGIN:VEVENT
DTSTART;TZID=America/Toronto:20250321T190000
DTEND;TZID=America/Toronto:20250321T210000
DTSTAMP:20260422T062607
CREATED:20250304T200618Z
LAST-MODIFIED:20250304T201313Z
UID:10002702-1742583600-1742590800@eccridgetown.ca
SUMMARY:Lion Heart Youth
DESCRIPTION:Every Friday\, Lion Heart Youth gathers for an engaging\, exciting\, and uplifting experience. Our program is open to students in grade 7-12. \nEach week\, our evenings are filled with exciting activities\, insightful discussions\, and meaningful connections.  \nEach night includes games\, devotions\, worship\, fun\, and fellowship. \nCheck out our home page for more details!
URL:https://eccridgetown.ca/event/lion-heart-youth-6/2025-03-21/
ATTACH;FMTTYPE=image/jpeg:https://eccridgetown.ca/wp-content/uploads/2025/03/2025-03-04-March-Lion-Heart-Youth.jpg
END:VEVENT
END:VCALENDAR