BEGIN:VCALENDAR
VERSION:2.0
PRODID:-//Emmanuel Congregational Church - ECPv6.2.3//NONSGML v1.0//EN
CALSCALE:GREGORIAN
METHOD:PUBLISH
X-WR-CALNAME:Emmanuel Congregational Church
X-ORIGINAL-URL:https://eccridgetown.ca
X-WR-CALDESC:Events for Emmanuel Congregational Church
REFRESH-INTERVAL;VALUE=DURATION:PT1H
X-Robots-Tag:noindex
X-PUBLISHED-TTL:PT1H
BEGIN:VTIMEZONE
TZID:America/Toronto
BEGIN:DAYLIGHT
TZOFFSETFROM:-0500
TZOFFSETTO:-0400
TZNAME:EDT
DTSTART:20260308T070000
END:DAYLIGHT
BEGIN:STANDARD
TZOFFSETFROM:-0400
TZOFFSETTO:-0500
TZNAME:EST
DTSTART:20261101T060000
END:STANDARD
BEGIN:DAYLIGHT
TZOFFSETFROM:-0500
TZOFFSETTO:-0400
TZNAME:EDT
DTSTART:20270314T070000
END:DAYLIGHT
BEGIN:STANDARD
TZOFFSETFROM:-0400
TZOFFSETTO:-0500
TZNAME:EST
DTSTART:20271107T060000
END:STANDARD
END:VTIMEZONE
BEGIN:VEVENT
DTSTART;TZID=America/Toronto:20261129T103000
DTEND;TZID=America/Toronto:20261129T120000
DTSTAMP:20260420T182350
CREATED:20251029T213214Z
LAST-MODIFIED:20260125T143221Z
UID:10002847-1795948200-1795953600@eccridgetown.ca
SUMMARY:Sunday Morning Worship
DESCRIPTION:Everyone welcome!
URL:https://eccridgetown.ca/event/sunday-morning-service-2-5-2/2026-11-29/
END:VEVENT
BEGIN:VEVENT
DTSTART;TZID=America/Toronto:20261206T090000
DTEND;TZID=America/Toronto:20261206T103000
DTSTAMP:20260420T182350
CREATED:20240430T215324Z
LAST-MODIFIED:20260125T142754Z
UID:10001912-1796547600-1796553000@eccridgetown.ca
SUMMARY:ECC Worship Singers Practice
DESCRIPTION:Anyone ages 10 or older who would like to sing or play a musical instrument come and join us!
URL:https://eccridgetown.ca/event/ecc-worship-singers-practice/2026-12-06/
END:VEVENT
BEGIN:VEVENT
DTSTART;TZID=America/Toronto:20261206T094500
DTEND;TZID=America/Toronto:20261206T101500
DTSTAMP:20260420T182350
CREATED:20231006T233639Z
LAST-MODIFIED:20260125T143033Z
UID:10001600-1796550300-1796552100@eccridgetown.ca
SUMMARY:Pre-service Coffee
DESCRIPTION:Join us Sunday morning before Service at 9:45 – 10:15am
URL:https://eccridgetown.ca/event/pre-service-coffee-fellowship/2026-12-06/
END:VEVENT
BEGIN:VEVENT
DTSTART;TZID=America/Toronto:20261206T103000
DTEND;TZID=America/Toronto:20261206T120000
DTSTAMP:20260420T182350
CREATED:20250522T160845Z
LAST-MODIFIED:20250902T215059Z
UID:10003203-1796553000-1796558400@eccridgetown.ca
SUMMARY:Food Bank Collection
DESCRIPTION:Please bring your donations the first Sunday of every month for our local Food Bank at the Salvation Army.  \nEven though the Thrift Store location has closed\, Food Bank services in Ridgetown will continue.
URL:https://eccridgetown.ca/event/food-bank-collection-2/2026-12-06/
END:VEVENT
BEGIN:VEVENT
DTSTART;TZID=America/Toronto:20261206T103000
DTEND;TZID=America/Toronto:20261206T120000
DTSTAMP:20260420T182350
CREATED:20251029T213214Z
LAST-MODIFIED:20260125T143221Z
UID:10002848-1796553000-1796558400@eccridgetown.ca
SUMMARY:Sunday Morning Worship
DESCRIPTION:Everyone welcome!
URL:https://eccridgetown.ca/event/sunday-morning-service-2-5-2/2026-12-06/
END:VEVENT
BEGIN:VEVENT
DTSTART;TZID=America/Toronto:20261213T090000
DTEND;TZID=America/Toronto:20261213T103000
DTSTAMP:20260420T182350
CREATED:20240430T215324Z
LAST-MODIFIED:20260125T142754Z
UID:10001913-1797152400-1797157800@eccridgetown.ca
SUMMARY:ECC Worship Singers Practice
DESCRIPTION:Anyone ages 10 or older who would like to sing or play a musical instrument come and join us!
URL:https://eccridgetown.ca/event/ecc-worship-singers-practice/2026-12-13/
END:VEVENT
BEGIN:VEVENT
DTSTART;TZID=America/Toronto:20261213T094500
DTEND;TZID=America/Toronto:20261213T101500
DTSTAMP:20260420T182350
CREATED:20231006T233639Z
LAST-MODIFIED:20260125T143033Z
UID:10001601-1797155100-1797156900@eccridgetown.ca
SUMMARY:Pre-service Coffee
DESCRIPTION:Join us Sunday morning before Service at 9:45 – 10:15am
URL:https://eccridgetown.ca/event/pre-service-coffee-fellowship/2026-12-13/
END:VEVENT
BEGIN:VEVENT
DTSTART;TZID=America/Toronto:20261213T103000
DTEND;TZID=America/Toronto:20261213T120000
DTSTAMP:20260420T182350
CREATED:20251029T213214Z
LAST-MODIFIED:20260125T143221Z
UID:10002849-1797157800-1797163200@eccridgetown.ca
SUMMARY:Sunday Morning Worship
DESCRIPTION:Everyone welcome!
URL:https://eccridgetown.ca/event/sunday-morning-service-2-5-2/2026-12-13/
END:VEVENT
BEGIN:VEVENT
DTSTART;TZID=America/Toronto:20261220T090000
DTEND;TZID=America/Toronto:20261220T103000
DTSTAMP:20260420T182350
CREATED:20240430T215324Z
LAST-MODIFIED:20260125T142754Z
UID:10001914-1797757200-1797762600@eccridgetown.ca
SUMMARY:ECC Worship Singers Practice
DESCRIPTION:Anyone ages 10 or older who would like to sing or play a musical instrument come and join us!
URL:https://eccridgetown.ca/event/ecc-worship-singers-practice/2026-12-20/
END:VEVENT
BEGIN:VEVENT
DTSTART;TZID=America/Toronto:20261220T094500
DTEND;TZID=America/Toronto:20261220T101500
DTSTAMP:20260420T182350
CREATED:20231006T233639Z
LAST-MODIFIED:20260125T143033Z
UID:10001602-1797759900-1797761700@eccridgetown.ca
SUMMARY:Pre-service Coffee
DESCRIPTION:Join us Sunday morning before Service at 9:45 – 10:15am
URL:https://eccridgetown.ca/event/pre-service-coffee-fellowship/2026-12-20/
END:VEVENT
BEGIN:VEVENT
DTSTART;TZID=America/Toronto:20261220T103000
DTEND;TZID=America/Toronto:20261220T120000
DTSTAMP:20260420T182350
CREATED:20251029T213214Z
LAST-MODIFIED:20260125T143221Z
UID:10002850-1797762600-1797768000@eccridgetown.ca
SUMMARY:Sunday Morning Worship
DESCRIPTION:Everyone welcome!
URL:https://eccridgetown.ca/event/sunday-morning-service-2-5-2/2026-12-20/
END:VEVENT
BEGIN:VEVENT
DTSTART;TZID=America/Toronto:20261223T133000
DTEND;TZID=America/Toronto:20261223T150000
DTSTAMP:20260420T182350
CREATED:20260226T220327Z
LAST-MODIFIED:20260226T220328Z
UID:10002510-1798032600-1798038000@eccridgetown.ca
SUMMARY:Ladies Group
DESCRIPTION:All ladies of any age are welcome to join us for a great time of fellowship\, prayer\, devotion and planning is shared by all over a cup of coffee/tea.\nOur meetings are (usually) held the last Wednesday of the month\, from 1:30 till 3pm. (with the exception of July\, August and December)  \nThe ladies group hosts special events on behalf of the congregation\, and also for those out in the community. We provide lunches for funerals\, wedding receptions\, and any other special events that are requested. We also make donations to both local and international missions. In order to make these donations\, we host fundraising events such as bake sales.
URL:https://eccridgetown.ca/event/ladies-meeting-3-3-2-3/2026-12-23/
END:VEVENT
BEGIN:VEVENT
DTSTART;TZID=America/Toronto:20261227T090000
DTEND;TZID=America/Toronto:20261227T103000
DTSTAMP:20260420T182350
CREATED:20240430T215324Z
LAST-MODIFIED:20260125T142754Z
UID:10001915-1798362000-1798367400@eccridgetown.ca
SUMMARY:ECC Worship Singers Practice
DESCRIPTION:Anyone ages 10 or older who would like to sing or play a musical instrument come and join us!
URL:https://eccridgetown.ca/event/ecc-worship-singers-practice/2026-12-27/
END:VEVENT
BEGIN:VEVENT
DTSTART;TZID=America/Toronto:20261227T094500
DTEND;TZID=America/Toronto:20261227T101500
DTSTAMP:20260420T182350
CREATED:20231006T233639Z
LAST-MODIFIED:20260125T143033Z
UID:10001603-1798364700-1798366500@eccridgetown.ca
SUMMARY:Pre-service Coffee
DESCRIPTION:Join us Sunday morning before Service at 9:45 – 10:15am
URL:https://eccridgetown.ca/event/pre-service-coffee-fellowship/2026-12-27/
END:VEVENT
BEGIN:VEVENT
DTSTART;TZID=America/Toronto:20261227T103000
DTEND;TZID=America/Toronto:20261227T120000
DTSTAMP:20260420T182350
CREATED:20251029T213214Z
LAST-MODIFIED:20260125T143221Z
UID:10002851-1798367400-1798372800@eccridgetown.ca
SUMMARY:Sunday Morning Worship
DESCRIPTION:Everyone welcome!
URL:https://eccridgetown.ca/event/sunday-morning-service-2-5-2/2026-12-27/
END:VEVENT
BEGIN:VEVENT
DTSTART;TZID=America/Toronto:20270103T090000
DTEND;TZID=America/Toronto:20270103T103000
DTSTAMP:20260420T182350
CREATED:20240430T215324Z
LAST-MODIFIED:20260125T142754Z
UID:10001916-1798966800-1798972200@eccridgetown.ca
SUMMARY:ECC Worship Singers Practice
DESCRIPTION:Anyone ages 10 or older who would like to sing or play a musical instrument come and join us!
URL:https://eccridgetown.ca/event/ecc-worship-singers-practice/2027-01-03/
END:VEVENT
BEGIN:VEVENT
DTSTART;TZID=America/Toronto:20270103T094500
DTEND;TZID=America/Toronto:20270103T101500
DTSTAMP:20260420T182350
CREATED:20231006T233639Z
LAST-MODIFIED:20260125T143033Z
UID:10001604-1798969500-1798971300@eccridgetown.ca
SUMMARY:Pre-service Coffee
DESCRIPTION:Join us Sunday morning before Service at 9:45 – 10:15am
URL:https://eccridgetown.ca/event/pre-service-coffee-fellowship/2027-01-03/
END:VEVENT
BEGIN:VEVENT
DTSTART;TZID=America/Toronto:20270103T103000
DTEND;TZID=America/Toronto:20270103T120000
DTSTAMP:20260420T182350
CREATED:20250522T160845Z
LAST-MODIFIED:20250902T215059Z
UID:10003204-1798972200-1798977600@eccridgetown.ca
SUMMARY:Food Bank Collection
DESCRIPTION:Please bring your donations the first Sunday of every month for our local Food Bank at the Salvation Army.  \nEven though the Thrift Store location has closed\, Food Bank services in Ridgetown will continue.
URL:https://eccridgetown.ca/event/food-bank-collection-2/2027-01-03/
END:VEVENT
BEGIN:VEVENT
DTSTART;TZID=America/Toronto:20270103T103000
DTEND;TZID=America/Toronto:20270103T120000
DTSTAMP:20260420T182350
CREATED:20251029T213214Z
LAST-MODIFIED:20260125T143221Z
UID:10002852-1798972200-1798977600@eccridgetown.ca
SUMMARY:Sunday Morning Worship
DESCRIPTION:Everyone welcome!
URL:https://eccridgetown.ca/event/sunday-morning-service-2-5-2/2027-01-03/
END:VEVENT
BEGIN:VEVENT
DTSTART;TZID=America/Toronto:20270110T090000
DTEND;TZID=America/Toronto:20270110T103000
DTSTAMP:20260420T182350
CREATED:20240430T215324Z
LAST-MODIFIED:20260125T142754Z
UID:10001917-1799571600-1799577000@eccridgetown.ca
SUMMARY:ECC Worship Singers Practice
DESCRIPTION:Anyone ages 10 or older who would like to sing or play a musical instrument come and join us!
URL:https://eccridgetown.ca/event/ecc-worship-singers-practice/2027-01-10/
END:VEVENT
BEGIN:VEVENT
DTSTART;TZID=America/Toronto:20270110T094500
DTEND;TZID=America/Toronto:20270110T101500
DTSTAMP:20260420T182350
CREATED:20231006T233639Z
LAST-MODIFIED:20260125T143033Z
UID:10001605-1799574300-1799576100@eccridgetown.ca
SUMMARY:Pre-service Coffee
DESCRIPTION:Join us Sunday morning before Service at 9:45 – 10:15am
URL:https://eccridgetown.ca/event/pre-service-coffee-fellowship/2027-01-10/
END:VEVENT
BEGIN:VEVENT
DTSTART;TZID=America/Toronto:20270110T103000
DTEND;TZID=America/Toronto:20270110T120000
DTSTAMP:20260420T182350
CREATED:20251029T213214Z
LAST-MODIFIED:20260125T143221Z
UID:10002853-1799577000-1799582400@eccridgetown.ca
SUMMARY:Sunday Morning Worship
DESCRIPTION:Everyone welcome!
URL:https://eccridgetown.ca/event/sunday-morning-service-2-5-2/2027-01-10/
END:VEVENT
BEGIN:VEVENT
DTSTART;TZID=America/Toronto:20270117T090000
DTEND;TZID=America/Toronto:20270117T103000
DTSTAMP:20260420T182350
CREATED:20240430T215324Z
LAST-MODIFIED:20260125T142754Z
UID:10001918-1800176400-1800181800@eccridgetown.ca
SUMMARY:ECC Worship Singers Practice
DESCRIPTION:Anyone ages 10 or older who would like to sing or play a musical instrument come and join us!
URL:https://eccridgetown.ca/event/ecc-worship-singers-practice/2027-01-17/
END:VEVENT
BEGIN:VEVENT
DTSTART;TZID=America/Toronto:20270117T094500
DTEND;TZID=America/Toronto:20270117T101500
DTSTAMP:20260420T182350
CREATED:20231006T233639Z
LAST-MODIFIED:20260125T143033Z
UID:10001606-1800179100-1800180900@eccridgetown.ca
SUMMARY:Pre-service Coffee
DESCRIPTION:Join us Sunday morning before Service at 9:45 – 10:15am
URL:https://eccridgetown.ca/event/pre-service-coffee-fellowship/2027-01-17/
END:VEVENT
BEGIN:VEVENT
DTSTART;TZID=America/Toronto:20270117T103000
DTEND;TZID=America/Toronto:20270117T120000
DTSTAMP:20260420T182350
CREATED:20251029T213214Z
LAST-MODIFIED:20260125T143221Z
UID:10002854-1800181800-1800187200@eccridgetown.ca
SUMMARY:Sunday Morning Worship
DESCRIPTION:Everyone welcome!
URL:https://eccridgetown.ca/event/sunday-morning-service-2-5-2/2027-01-17/
END:VEVENT
BEGIN:VEVENT
DTSTART;TZID=America/Toronto:20270124T090000
DTEND;TZID=America/Toronto:20270124T103000
DTSTAMP:20260420T182350
CREATED:20240430T215324Z
LAST-MODIFIED:20260125T142754Z
UID:10001919-1800781200-1800786600@eccridgetown.ca
SUMMARY:ECC Worship Singers Practice
DESCRIPTION:Anyone ages 10 or older who would like to sing or play a musical instrument come and join us!
URL:https://eccridgetown.ca/event/ecc-worship-singers-practice/2027-01-24/
END:VEVENT
BEGIN:VEVENT
DTSTART;TZID=America/Toronto:20270124T094500
DTEND;TZID=America/Toronto:20270124T101500
DTSTAMP:20260420T182350
CREATED:20231006T233639Z
LAST-MODIFIED:20260125T143033Z
UID:10001607-1800783900-1800785700@eccridgetown.ca
SUMMARY:Pre-service Coffee
DESCRIPTION:Join us Sunday morning before Service at 9:45 – 10:15am
URL:https://eccridgetown.ca/event/pre-service-coffee-fellowship/2027-01-24/
END:VEVENT
BEGIN:VEVENT
DTSTART;TZID=America/Toronto:20270124T103000
DTEND;TZID=America/Toronto:20270124T120000
DTSTAMP:20260420T182350
CREATED:20251029T213214Z
LAST-MODIFIED:20260125T143221Z
UID:10002855-1800786600-1800792000@eccridgetown.ca
SUMMARY:Sunday Morning Worship
DESCRIPTION:Everyone welcome!
URL:https://eccridgetown.ca/event/sunday-morning-service-2-5-2/2027-01-24/
END:VEVENT
BEGIN:VEVENT
DTSTART;TZID=America/Toronto:20270127T133000
DTEND;TZID=America/Toronto:20270127T150000
DTSTAMP:20260420T182350
CREATED:20260226T220327Z
LAST-MODIFIED:20260226T220328Z
UID:10002511-1801056600-1801062000@eccridgetown.ca
SUMMARY:Ladies Group
DESCRIPTION:All ladies of any age are welcome to join us for a great time of fellowship\, prayer\, devotion and planning is shared by all over a cup of coffee/tea.\nOur meetings are (usually) held the last Wednesday of the month\, from 1:30 till 3pm. (with the exception of July\, August and December)  \nThe ladies group hosts special events on behalf of the congregation\, and also for those out in the community. We provide lunches for funerals\, wedding receptions\, and any other special events that are requested. We also make donations to both local and international missions. In order to make these donations\, we host fundraising events such as bake sales.
URL:https://eccridgetown.ca/event/ladies-meeting-3-3-2-3/2027-01-27/
END:VEVENT
BEGIN:VEVENT
DTSTART;TZID=America/Toronto:20270131T090000
DTEND;TZID=America/Toronto:20270131T103000
DTSTAMP:20260420T182350
CREATED:20240430T215324Z
LAST-MODIFIED:20260125T142754Z
UID:10001920-1801386000-1801391400@eccridgetown.ca
SUMMARY:ECC Worship Singers Practice
DESCRIPTION:Anyone ages 10 or older who would like to sing or play a musical instrument come and join us!
URL:https://eccridgetown.ca/event/ecc-worship-singers-practice/2027-01-31/
END:VEVENT
END:VCALENDAR