BEGIN:VCALENDAR
VERSION:2.0
PRODID:-//Emmanuel Congregational Church - ECPv6.2.3//NONSGML v1.0//EN
CALSCALE:GREGORIAN
METHOD:PUBLISH
X-WR-CALNAME:Emmanuel Congregational Church
X-ORIGINAL-URL:https://eccridgetown.ca
X-WR-CALDESC:Events for Emmanuel Congregational Church
REFRESH-INTERVAL;VALUE=DURATION:PT1H
X-Robots-Tag:noindex
X-PUBLISHED-TTL:PT1H
BEGIN:VTIMEZONE
TZID:America/Toronto
BEGIN:DAYLIGHT
TZOFFSETFROM:-0500
TZOFFSETTO:-0400
TZNAME:EDT
DTSTART:20260308T070000
END:DAYLIGHT
BEGIN:STANDARD
TZOFFSETFROM:-0400
TZOFFSETTO:-0500
TZNAME:EST
DTSTART:20261101T060000
END:STANDARD
END:VTIMEZONE
BEGIN:VEVENT
DTSTART;TZID=America/Toronto:20260927T090000
DTEND;TZID=America/Toronto:20260927T103000
DTSTAMP:20260420T220527
CREATED:20240430T215324Z
LAST-MODIFIED:20260125T142754Z
UID:10001902-1790499600-1790505000@eccridgetown.ca
SUMMARY:ECC Worship Singers Practice
DESCRIPTION:Anyone ages 10 or older who would like to sing or play a musical instrument come and join us!
URL:https://eccridgetown.ca/event/ecc-worship-singers-practice/2026-09-27/
END:VEVENT
BEGIN:VEVENT
DTSTART;TZID=America/Toronto:20260923T133000
DTEND;TZID=America/Toronto:20260923T150000
DTSTAMP:20260420T220527
CREATED:20260226T220327Z
LAST-MODIFIED:20260226T220328Z
UID:10002507-1790170200-1790175600@eccridgetown.ca
SUMMARY:Ladies Group
DESCRIPTION:All ladies of any age are welcome to join us for a great time of fellowship\, prayer\, devotion and planning is shared by all over a cup of coffee/tea.\nOur meetings are (usually) held the last Wednesday of the month\, from 1:30 till 3pm. (with the exception of July\, August and December)  \nThe ladies group hosts special events on behalf of the congregation\, and also for those out in the community. We provide lunches for funerals\, wedding receptions\, and any other special events that are requested. We also make donations to both local and international missions. In order to make these donations\, we host fundraising events such as bake sales.
URL:https://eccridgetown.ca/event/ladies-meeting-3-3-2-3/2026-09-23/
END:VEVENT
BEGIN:VEVENT
DTSTART;TZID=America/Toronto:20260920T103000
DTEND;TZID=America/Toronto:20260920T120000
DTSTAMP:20260420T220527
CREATED:20251029T213214Z
LAST-MODIFIED:20260125T143221Z
UID:10002837-1789900200-1789905600@eccridgetown.ca
SUMMARY:Sunday Morning Worship
DESCRIPTION:Everyone welcome!
URL:https://eccridgetown.ca/event/sunday-morning-service-2-5-2/2026-09-20/
END:VEVENT
BEGIN:VEVENT
DTSTART;TZID=America/Toronto:20260920T094500
DTEND;TZID=America/Toronto:20260920T101500
DTSTAMP:20260420T220527
CREATED:20231006T233639Z
LAST-MODIFIED:20260125T143033Z
UID:10001589-1789897500-1789899300@eccridgetown.ca
SUMMARY:Pre-service Coffee
DESCRIPTION:Join us Sunday morning before Service at 9:45 – 10:15am
URL:https://eccridgetown.ca/event/pre-service-coffee-fellowship/2026-09-20/
END:VEVENT
BEGIN:VEVENT
DTSTART;TZID=America/Toronto:20260920T090000
DTEND;TZID=America/Toronto:20260920T103000
DTSTAMP:20260420T220527
CREATED:20240430T215324Z
LAST-MODIFIED:20260125T142754Z
UID:10001901-1789894800-1789900200@eccridgetown.ca
SUMMARY:ECC Worship Singers Practice
DESCRIPTION:Anyone ages 10 or older who would like to sing or play a musical instrument come and join us!
URL:https://eccridgetown.ca/event/ecc-worship-singers-practice/2026-09-20/
END:VEVENT
BEGIN:VEVENT
DTSTART;TZID=America/Toronto:20260913T103000
DTEND;TZID=America/Toronto:20260913T120000
DTSTAMP:20260420T220527
CREATED:20251029T213214Z
LAST-MODIFIED:20260125T143221Z
UID:10002836-1789295400-1789300800@eccridgetown.ca
SUMMARY:Sunday Morning Worship
DESCRIPTION:Everyone welcome!
URL:https://eccridgetown.ca/event/sunday-morning-service-2-5-2/2026-09-13/
END:VEVENT
BEGIN:VEVENT
DTSTART;TZID=America/Toronto:20260913T094500
DTEND;TZID=America/Toronto:20260913T101500
DTSTAMP:20260420T220527
CREATED:20231006T233639Z
LAST-MODIFIED:20260125T143033Z
UID:10001588-1789292700-1789294500@eccridgetown.ca
SUMMARY:Pre-service Coffee
DESCRIPTION:Join us Sunday morning before Service at 9:45 – 10:15am
URL:https://eccridgetown.ca/event/pre-service-coffee-fellowship/2026-09-13/
END:VEVENT
BEGIN:VEVENT
DTSTART;TZID=America/Toronto:20260913T090000
DTEND;TZID=America/Toronto:20260913T103000
DTSTAMP:20260420T220527
CREATED:20240430T215324Z
LAST-MODIFIED:20260125T142754Z
UID:10001900-1789290000-1789295400@eccridgetown.ca
SUMMARY:ECC Worship Singers Practice
DESCRIPTION:Anyone ages 10 or older who would like to sing or play a musical instrument come and join us!
URL:https://eccridgetown.ca/event/ecc-worship-singers-practice/2026-09-13/
END:VEVENT
BEGIN:VEVENT
DTSTART;TZID=America/Toronto:20260906T103000
DTEND;TZID=America/Toronto:20260906T120000
DTSTAMP:20260420T220527
CREATED:20251029T213214Z
LAST-MODIFIED:20260125T143221Z
UID:10002835-1788690600-1788696000@eccridgetown.ca
SUMMARY:Sunday Morning Worship
DESCRIPTION:Everyone welcome!
URL:https://eccridgetown.ca/event/sunday-morning-service-2-5-2/2026-09-06/
END:VEVENT
BEGIN:VEVENT
DTSTART;TZID=America/Toronto:20260906T103000
DTEND;TZID=America/Toronto:20260906T120000
DTSTAMP:20260420T220527
CREATED:20250522T160845Z
LAST-MODIFIED:20250902T215059Z
UID:10003200-1788690600-1788696000@eccridgetown.ca
SUMMARY:Food Bank Collection
DESCRIPTION:Please bring your donations the first Sunday of every month for our local Food Bank at the Salvation Army.  \nEven though the Thrift Store location has closed\, Food Bank services in Ridgetown will continue.
URL:https://eccridgetown.ca/event/food-bank-collection-2/2026-09-06/
END:VEVENT
BEGIN:VEVENT
DTSTART;TZID=America/Toronto:20260906T094500
DTEND;TZID=America/Toronto:20260906T101500
DTSTAMP:20260420T220527
CREATED:20231006T233639Z
LAST-MODIFIED:20260125T143033Z
UID:10001587-1788687900-1788689700@eccridgetown.ca
SUMMARY:Pre-service Coffee
DESCRIPTION:Join us Sunday morning before Service at 9:45 – 10:15am
URL:https://eccridgetown.ca/event/pre-service-coffee-fellowship/2026-09-06/
END:VEVENT
BEGIN:VEVENT
DTSTART;TZID=America/Toronto:20260906T090000
DTEND;TZID=America/Toronto:20260906T103000
DTSTAMP:20260420T220527
CREATED:20240430T215324Z
LAST-MODIFIED:20260125T142754Z
UID:10001899-1788685200-1788690600@eccridgetown.ca
SUMMARY:ECC Worship Singers Practice
DESCRIPTION:Anyone ages 10 or older who would like to sing or play a musical instrument come and join us!
URL:https://eccridgetown.ca/event/ecc-worship-singers-practice/2026-09-06/
END:VEVENT
BEGIN:VEVENT
DTSTART;TZID=America/Toronto:20260830T103000
DTEND;TZID=America/Toronto:20260830T120000
DTSTAMP:20260420T220527
CREATED:20251029T213214Z
LAST-MODIFIED:20260125T143221Z
UID:10002834-1788085800-1788091200@eccridgetown.ca
SUMMARY:Sunday Morning Worship
DESCRIPTION:Everyone welcome!
URL:https://eccridgetown.ca/event/sunday-morning-service-2-5-2/2026-08-30/
END:VEVENT
BEGIN:VEVENT
DTSTART;TZID=America/Toronto:20260830T094500
DTEND;TZID=America/Toronto:20260830T101500
DTSTAMP:20260420T220527
CREATED:20231006T233639Z
LAST-MODIFIED:20260125T143033Z
UID:10001586-1788083100-1788084900@eccridgetown.ca
SUMMARY:Pre-service Coffee
DESCRIPTION:Join us Sunday morning before Service at 9:45 – 10:15am
URL:https://eccridgetown.ca/event/pre-service-coffee-fellowship/2026-08-30/
END:VEVENT
BEGIN:VEVENT
DTSTART;TZID=America/Toronto:20260830T090000
DTEND;TZID=America/Toronto:20260830T103000
DTSTAMP:20260420T220527
CREATED:20240430T215324Z
LAST-MODIFIED:20260125T142754Z
UID:10001898-1788080400-1788085800@eccridgetown.ca
SUMMARY:ECC Worship Singers Practice
DESCRIPTION:Anyone ages 10 or older who would like to sing or play a musical instrument come and join us!
URL:https://eccridgetown.ca/event/ecc-worship-singers-practice/2026-08-30/
END:VEVENT
BEGIN:VEVENT
DTSTART;TZID=America/Toronto:20260826T133000
DTEND;TZID=America/Toronto:20260826T150000
DTSTAMP:20260420T220527
CREATED:20260226T220327Z
LAST-MODIFIED:20260226T220328Z
UID:10002506-1787751000-1787756400@eccridgetown.ca
SUMMARY:Ladies Group
DESCRIPTION:All ladies of any age are welcome to join us for a great time of fellowship\, prayer\, devotion and planning is shared by all over a cup of coffee/tea.\nOur meetings are (usually) held the last Wednesday of the month\, from 1:30 till 3pm. (with the exception of July\, August and December)  \nThe ladies group hosts special events on behalf of the congregation\, and also for those out in the community. We provide lunches for funerals\, wedding receptions\, and any other special events that are requested. We also make donations to both local and international missions. In order to make these donations\, we host fundraising events such as bake sales.
URL:https://eccridgetown.ca/event/ladies-meeting-3-3-2-3/2026-08-26/
END:VEVENT
BEGIN:VEVENT
DTSTART;TZID=America/Toronto:20260823T103000
DTEND;TZID=America/Toronto:20260823T120000
DTSTAMP:20260420T220527
CREATED:20251029T213214Z
LAST-MODIFIED:20260125T143221Z
UID:10002833-1787481000-1787486400@eccridgetown.ca
SUMMARY:Sunday Morning Worship
DESCRIPTION:Everyone welcome!
URL:https://eccridgetown.ca/event/sunday-morning-service-2-5-2/2026-08-23/
END:VEVENT
BEGIN:VEVENT
DTSTART;TZID=America/Toronto:20260823T094500
DTEND;TZID=America/Toronto:20260823T101500
DTSTAMP:20260420T220527
CREATED:20231006T233639Z
LAST-MODIFIED:20260125T143033Z
UID:10001585-1787478300-1787480100@eccridgetown.ca
SUMMARY:Pre-service Coffee
DESCRIPTION:Join us Sunday morning before Service at 9:45 – 10:15am
URL:https://eccridgetown.ca/event/pre-service-coffee-fellowship/2026-08-23/
END:VEVENT
BEGIN:VEVENT
DTSTART;TZID=America/Toronto:20260823T090000
DTEND;TZID=America/Toronto:20260823T103000
DTSTAMP:20260420T220527
CREATED:20240430T215324Z
LAST-MODIFIED:20260125T142754Z
UID:10001897-1787475600-1787481000@eccridgetown.ca
SUMMARY:ECC Worship Singers Practice
DESCRIPTION:Anyone ages 10 or older who would like to sing or play a musical instrument come and join us!
URL:https://eccridgetown.ca/event/ecc-worship-singers-practice/2026-08-23/
END:VEVENT
BEGIN:VEVENT
DTSTART;TZID=America/Toronto:20260816T103000
DTEND;TZID=America/Toronto:20260816T120000
DTSTAMP:20260420T220527
CREATED:20251029T213214Z
LAST-MODIFIED:20260125T143221Z
UID:10002832-1786876200-1786881600@eccridgetown.ca
SUMMARY:Sunday Morning Worship
DESCRIPTION:Everyone welcome!
URL:https://eccridgetown.ca/event/sunday-morning-service-2-5-2/2026-08-16/
END:VEVENT
BEGIN:VEVENT
DTSTART;TZID=America/Toronto:20260816T094500
DTEND;TZID=America/Toronto:20260816T101500
DTSTAMP:20260420T220527
CREATED:20231006T233639Z
LAST-MODIFIED:20260125T143033Z
UID:10001584-1786873500-1786875300@eccridgetown.ca
SUMMARY:Pre-service Coffee
DESCRIPTION:Join us Sunday morning before Service at 9:45 – 10:15am
URL:https://eccridgetown.ca/event/pre-service-coffee-fellowship/2026-08-16/
END:VEVENT
BEGIN:VEVENT
DTSTART;TZID=America/Toronto:20260816T090000
DTEND;TZID=America/Toronto:20260816T103000
DTSTAMP:20260420T220527
CREATED:20240430T215324Z
LAST-MODIFIED:20260125T142754Z
UID:10001896-1786870800-1786876200@eccridgetown.ca
SUMMARY:ECC Worship Singers Practice
DESCRIPTION:Anyone ages 10 or older who would like to sing or play a musical instrument come and join us!
URL:https://eccridgetown.ca/event/ecc-worship-singers-practice/2026-08-16/
END:VEVENT
BEGIN:VEVENT
DTSTART;TZID=America/Toronto:20260809T103000
DTEND;TZID=America/Toronto:20260809T120000
DTSTAMP:20260420T220527
CREATED:20251029T213214Z
LAST-MODIFIED:20260125T143221Z
UID:10002831-1786271400-1786276800@eccridgetown.ca
SUMMARY:Sunday Morning Worship
DESCRIPTION:Everyone welcome!
URL:https://eccridgetown.ca/event/sunday-morning-service-2-5-2/2026-08-09/
END:VEVENT
BEGIN:VEVENT
DTSTART;TZID=America/Toronto:20260809T094500
DTEND;TZID=America/Toronto:20260809T101500
DTSTAMP:20260420T220527
CREATED:20231006T233639Z
LAST-MODIFIED:20260125T143033Z
UID:10001583-1786268700-1786270500@eccridgetown.ca
SUMMARY:Pre-service Coffee
DESCRIPTION:Join us Sunday morning before Service at 9:45 – 10:15am
URL:https://eccridgetown.ca/event/pre-service-coffee-fellowship/2026-08-09/
END:VEVENT
BEGIN:VEVENT
DTSTART;TZID=America/Toronto:20260809T090000
DTEND;TZID=America/Toronto:20260809T103000
DTSTAMP:20260420T220527
CREATED:20240430T215324Z
LAST-MODIFIED:20260125T142754Z
UID:10001895-1786266000-1786271400@eccridgetown.ca
SUMMARY:ECC Worship Singers Practice
DESCRIPTION:Anyone ages 10 or older who would like to sing or play a musical instrument come and join us!
URL:https://eccridgetown.ca/event/ecc-worship-singers-practice/2026-08-09/
END:VEVENT
BEGIN:VEVENT
DTSTART;TZID=America/Toronto:20260802T103000
DTEND;TZID=America/Toronto:20260802T120000
DTSTAMP:20260420T220527
CREATED:20251029T213214Z
LAST-MODIFIED:20260125T143221Z
UID:10002830-1785666600-1785672000@eccridgetown.ca
SUMMARY:Sunday Morning Worship
DESCRIPTION:Everyone welcome!
URL:https://eccridgetown.ca/event/sunday-morning-service-2-5-2/2026-08-02/
END:VEVENT
BEGIN:VEVENT
DTSTART;TZID=America/Toronto:20260802T103000
DTEND;TZID=America/Toronto:20260802T120000
DTSTAMP:20260420T220527
CREATED:20250522T160845Z
LAST-MODIFIED:20250902T215059Z
UID:10003199-1785666600-1785672000@eccridgetown.ca
SUMMARY:Food Bank Collection
DESCRIPTION:Please bring your donations the first Sunday of every month for our local Food Bank at the Salvation Army.  \nEven though the Thrift Store location has closed\, Food Bank services in Ridgetown will continue.
URL:https://eccridgetown.ca/event/food-bank-collection-2/2026-08-02/
END:VEVENT
BEGIN:VEVENT
DTSTART;TZID=America/Toronto:20260802T094500
DTEND;TZID=America/Toronto:20260802T101500
DTSTAMP:20260420T220527
CREATED:20231006T233639Z
LAST-MODIFIED:20260125T143033Z
UID:10001582-1785663900-1785665700@eccridgetown.ca
SUMMARY:Pre-service Coffee
DESCRIPTION:Join us Sunday morning before Service at 9:45 – 10:15am
URL:https://eccridgetown.ca/event/pre-service-coffee-fellowship/2026-08-02/
END:VEVENT
BEGIN:VEVENT
DTSTART;TZID=America/Toronto:20260802T090000
DTEND;TZID=America/Toronto:20260802T103000
DTSTAMP:20260420T220527
CREATED:20240430T215324Z
LAST-MODIFIED:20260125T142754Z
UID:10001894-1785661200-1785666600@eccridgetown.ca
SUMMARY:ECC Worship Singers Practice
DESCRIPTION:Anyone ages 10 or older who would like to sing or play a musical instrument come and join us!
URL:https://eccridgetown.ca/event/ecc-worship-singers-practice/2026-08-02/
END:VEVENT
BEGIN:VEVENT
DTSTART;TZID=America/Toronto:20260726T103000
DTEND;TZID=America/Toronto:20260726T120000
DTSTAMP:20260420T220527
CREATED:20251029T213214Z
LAST-MODIFIED:20260125T143221Z
UID:10002829-1785061800-1785067200@eccridgetown.ca
SUMMARY:Sunday Morning Worship
DESCRIPTION:Everyone welcome!
URL:https://eccridgetown.ca/event/sunday-morning-service-2-5-2/2026-07-26/
END:VEVENT
END:VCALENDAR