BEGIN:VCALENDAR
VERSION:2.0
PRODID:-//Emmanuel Congregational Church - ECPv6.2.3//NONSGML v1.0//EN
CALSCALE:GREGORIAN
METHOD:PUBLISH
X-WR-CALNAME:Emmanuel Congregational Church
X-ORIGINAL-URL:https://eccridgetown.ca
X-WR-CALDESC:Events for Emmanuel Congregational Church
REFRESH-INTERVAL;VALUE=DURATION:PT1H
X-Robots-Tag:noindex
X-PUBLISHED-TTL:PT1H
BEGIN:VTIMEZONE
TZID:America/Toronto
BEGIN:DAYLIGHT
TZOFFSETFROM:-0500
TZOFFSETTO:-0400
TZNAME:EDT
DTSTART:20270314T070000
END:DAYLIGHT
BEGIN:STANDARD
TZOFFSETFROM:-0400
TZOFFSETTO:-0500
TZNAME:EST
DTSTART:20271107T060000
END:STANDARD
BEGIN:DAYLIGHT
TZOFFSETFROM:-0500
TZOFFSETTO:-0400
TZNAME:EDT
DTSTART:20280312T070000
END:DAYLIGHT
BEGIN:STANDARD
TZOFFSETFROM:-0400
TZOFFSETTO:-0500
TZNAME:EST
DTSTART:20281105T060000
END:STANDARD
END:VTIMEZONE
BEGIN:VEVENT
DTSTART;TZID=America/Toronto:20271107T094500
DTEND;TZID=America/Toronto:20271107T101500
DTSTAMP:20260421T204914
CREATED:20231006T233639Z
LAST-MODIFIED:20260125T143033Z
UID:10001648-1825580700-1825582500@eccridgetown.ca
SUMMARY:Pre-service Coffee
DESCRIPTION:Join us Sunday morning before Service at 9:45 – 10:15am
URL:https://eccridgetown.ca/event/pre-service-coffee-fellowship/2027-11-07/
END:VEVENT
BEGIN:VEVENT
DTSTART;TZID=America/Toronto:20271107T103000
DTEND;TZID=America/Toronto:20271107T120000
DTSTAMP:20260421T204914
CREATED:20250522T160845Z
LAST-MODIFIED:20250902T215059Z
UID:10003214-1825583400-1825588800@eccridgetown.ca
SUMMARY:Food Bank Collection
DESCRIPTION:Please bring your donations the first Sunday of every month for our local Food Bank at the Salvation Army.  \nEven though the Thrift Store location has closed\, Food Bank services in Ridgetown will continue.
URL:https://eccridgetown.ca/event/food-bank-collection-2/2027-11-07/
END:VEVENT
BEGIN:VEVENT
DTSTART;TZID=America/Toronto:20271107T103000
DTEND;TZID=America/Toronto:20271107T120000
DTSTAMP:20260421T204914
CREATED:20251029T213214Z
LAST-MODIFIED:20260125T143221Z
UID:10002896-1825583400-1825588800@eccridgetown.ca
SUMMARY:Sunday Morning Worship
DESCRIPTION:Everyone welcome!
URL:https://eccridgetown.ca/event/sunday-morning-service-2-5-2/2027-11-07/
END:VEVENT
BEGIN:VEVENT
DTSTART;TZID=America/Toronto:20271114T090000
DTEND;TZID=America/Toronto:20271114T103000
DTSTAMP:20260421T204914
CREATED:20240430T215324Z
LAST-MODIFIED:20260125T142754Z
UID:10001961-1826182800-1826188200@eccridgetown.ca
SUMMARY:ECC Worship Singers Practice
DESCRIPTION:Anyone ages 10 or older who would like to sing or play a musical instrument come and join us!
URL:https://eccridgetown.ca/event/ecc-worship-singers-practice/2027-11-14/
END:VEVENT
BEGIN:VEVENT
DTSTART;TZID=America/Toronto:20271114T094500
DTEND;TZID=America/Toronto:20271114T101500
DTSTAMP:20260421T204914
CREATED:20231006T233639Z
LAST-MODIFIED:20260125T143033Z
UID:10001649-1826185500-1826187300@eccridgetown.ca
SUMMARY:Pre-service Coffee
DESCRIPTION:Join us Sunday morning before Service at 9:45 – 10:15am
URL:https://eccridgetown.ca/event/pre-service-coffee-fellowship/2027-11-14/
END:VEVENT
BEGIN:VEVENT
DTSTART;TZID=America/Toronto:20271114T103000
DTEND;TZID=America/Toronto:20271114T120000
DTSTAMP:20260421T204914
CREATED:20251029T213214Z
LAST-MODIFIED:20260125T143221Z
UID:10002897-1826188200-1826193600@eccridgetown.ca
SUMMARY:Sunday Morning Worship
DESCRIPTION:Everyone welcome!
URL:https://eccridgetown.ca/event/sunday-morning-service-2-5-2/2027-11-14/
END:VEVENT
BEGIN:VEVENT
DTSTART;TZID=America/Toronto:20271121T090000
DTEND;TZID=America/Toronto:20271121T103000
DTSTAMP:20260421T204914
CREATED:20240430T215324Z
LAST-MODIFIED:20260125T142754Z
UID:10001962-1826787600-1826793000@eccridgetown.ca
SUMMARY:ECC Worship Singers Practice
DESCRIPTION:Anyone ages 10 or older who would like to sing or play a musical instrument come and join us!
URL:https://eccridgetown.ca/event/ecc-worship-singers-practice/2027-11-21/
END:VEVENT
BEGIN:VEVENT
DTSTART;TZID=America/Toronto:20271121T094500
DTEND;TZID=America/Toronto:20271121T101500
DTSTAMP:20260421T204914
CREATED:20231006T233639Z
LAST-MODIFIED:20260125T143033Z
UID:10001650-1826790300-1826792100@eccridgetown.ca
SUMMARY:Pre-service Coffee
DESCRIPTION:Join us Sunday morning before Service at 9:45 – 10:15am
URL:https://eccridgetown.ca/event/pre-service-coffee-fellowship/2027-11-21/
END:VEVENT
BEGIN:VEVENT
DTSTART;TZID=America/Toronto:20271121T103000
DTEND;TZID=America/Toronto:20271121T120000
DTSTAMP:20260421T204914
CREATED:20251029T213214Z
LAST-MODIFIED:20260125T143221Z
UID:10002898-1826793000-1826798400@eccridgetown.ca
SUMMARY:Sunday Morning Worship
DESCRIPTION:Everyone welcome!
URL:https://eccridgetown.ca/event/sunday-morning-service-2-5-2/2027-11-21/
END:VEVENT
BEGIN:VEVENT
DTSTART;TZID=America/Toronto:20271124T133000
DTEND;TZID=America/Toronto:20271124T150000
DTSTAMP:20260421T204914
CREATED:20260226T220327Z
LAST-MODIFIED:20260226T220328Z
UID:10002521-1827063000-1827068400@eccridgetown.ca
SUMMARY:Ladies Group
DESCRIPTION:All ladies of any age are welcome to join us for a great time of fellowship\, prayer\, devotion and planning is shared by all over a cup of coffee/tea.\nOur meetings are (usually) held the last Wednesday of the month\, from 1:30 till 3pm. (with the exception of July\, August and December)  \nThe ladies group hosts special events on behalf of the congregation\, and also for those out in the community. We provide lunches for funerals\, wedding receptions\, and any other special events that are requested. We also make donations to both local and international missions. In order to make these donations\, we host fundraising events such as bake sales.
URL:https://eccridgetown.ca/event/ladies-meeting-3-3-2-3/2027-11-24/
END:VEVENT
BEGIN:VEVENT
DTSTART;TZID=America/Toronto:20271128T090000
DTEND;TZID=America/Toronto:20271128T103000
DTSTAMP:20260421T204914
CREATED:20240430T215324Z
LAST-MODIFIED:20260125T142754Z
UID:10001963-1827392400-1827397800@eccridgetown.ca
SUMMARY:ECC Worship Singers Practice
DESCRIPTION:Anyone ages 10 or older who would like to sing or play a musical instrument come and join us!
URL:https://eccridgetown.ca/event/ecc-worship-singers-practice/2027-11-28/
END:VEVENT
BEGIN:VEVENT
DTSTART;TZID=America/Toronto:20271128T094500
DTEND;TZID=America/Toronto:20271128T101500
DTSTAMP:20260421T204914
CREATED:20231006T233639Z
LAST-MODIFIED:20260125T143033Z
UID:10001651-1827395100-1827396900@eccridgetown.ca
SUMMARY:Pre-service Coffee
DESCRIPTION:Join us Sunday morning before Service at 9:45 – 10:15am
URL:https://eccridgetown.ca/event/pre-service-coffee-fellowship/2027-11-28/
END:VEVENT
BEGIN:VEVENT
DTSTART;TZID=America/Toronto:20271128T103000
DTEND;TZID=America/Toronto:20271128T120000
DTSTAMP:20260421T204914
CREATED:20251029T213214Z
LAST-MODIFIED:20260125T143221Z
UID:10002899-1827397800-1827403200@eccridgetown.ca
SUMMARY:Sunday Morning Worship
DESCRIPTION:Everyone welcome!
URL:https://eccridgetown.ca/event/sunday-morning-service-2-5-2/2027-11-28/
END:VEVENT
BEGIN:VEVENT
DTSTART;TZID=America/Toronto:20271205T090000
DTEND;TZID=America/Toronto:20271205T103000
DTSTAMP:20260421T204914
CREATED:20240430T215324Z
LAST-MODIFIED:20260125T142754Z
UID:10001964-1827997200-1828002600@eccridgetown.ca
SUMMARY:ECC Worship Singers Practice
DESCRIPTION:Anyone ages 10 or older who would like to sing or play a musical instrument come and join us!
URL:https://eccridgetown.ca/event/ecc-worship-singers-practice/2027-12-05/
END:VEVENT
BEGIN:VEVENT
DTSTART;TZID=America/Toronto:20271205T094500
DTEND;TZID=America/Toronto:20271205T101500
DTSTAMP:20260421T204914
CREATED:20231006T233639Z
LAST-MODIFIED:20260125T143033Z
UID:10001652-1827999900-1828001700@eccridgetown.ca
SUMMARY:Pre-service Coffee
DESCRIPTION:Join us Sunday morning before Service at 9:45 – 10:15am
URL:https://eccridgetown.ca/event/pre-service-coffee-fellowship/2027-12-05/
END:VEVENT
BEGIN:VEVENT
DTSTART;TZID=America/Toronto:20271205T103000
DTEND;TZID=America/Toronto:20271205T120000
DTSTAMP:20260421T204914
CREATED:20250522T160845Z
LAST-MODIFIED:20250902T215059Z
UID:10003215-1828002600-1828008000@eccridgetown.ca
SUMMARY:Food Bank Collection
DESCRIPTION:Please bring your donations the first Sunday of every month for our local Food Bank at the Salvation Army.  \nEven though the Thrift Store location has closed\, Food Bank services in Ridgetown will continue.
URL:https://eccridgetown.ca/event/food-bank-collection-2/2027-12-05/
END:VEVENT
BEGIN:VEVENT
DTSTART;TZID=America/Toronto:20271205T103000
DTEND;TZID=America/Toronto:20271205T120000
DTSTAMP:20260421T204914
CREATED:20251029T213214Z
LAST-MODIFIED:20260125T143221Z
UID:10002900-1828002600-1828008000@eccridgetown.ca
SUMMARY:Sunday Morning Worship
DESCRIPTION:Everyone welcome!
URL:https://eccridgetown.ca/event/sunday-morning-service-2-5-2/2027-12-05/
END:VEVENT
BEGIN:VEVENT
DTSTART;TZID=America/Toronto:20271212T090000
DTEND;TZID=America/Toronto:20271212T103000
DTSTAMP:20260421T204914
CREATED:20240430T215324Z
LAST-MODIFIED:20260125T142754Z
UID:10001965-1828602000-1828607400@eccridgetown.ca
SUMMARY:ECC Worship Singers Practice
DESCRIPTION:Anyone ages 10 or older who would like to sing or play a musical instrument come and join us!
URL:https://eccridgetown.ca/event/ecc-worship-singers-practice/2027-12-12/
END:VEVENT
BEGIN:VEVENT
DTSTART;TZID=America/Toronto:20271212T094500
DTEND;TZID=America/Toronto:20271212T101500
DTSTAMP:20260421T204914
CREATED:20231006T233639Z
LAST-MODIFIED:20260125T143033Z
UID:10001653-1828604700-1828606500@eccridgetown.ca
SUMMARY:Pre-service Coffee
DESCRIPTION:Join us Sunday morning before Service at 9:45 – 10:15am
URL:https://eccridgetown.ca/event/pre-service-coffee-fellowship/2027-12-12/
END:VEVENT
BEGIN:VEVENT
DTSTART;TZID=America/Toronto:20271212T103000
DTEND;TZID=America/Toronto:20271212T120000
DTSTAMP:20260421T204914
CREATED:20251029T213214Z
LAST-MODIFIED:20260125T143221Z
UID:10002901-1828607400-1828612800@eccridgetown.ca
SUMMARY:Sunday Morning Worship
DESCRIPTION:Everyone welcome!
URL:https://eccridgetown.ca/event/sunday-morning-service-2-5-2/2027-12-12/
END:VEVENT
BEGIN:VEVENT
DTSTART;TZID=America/Toronto:20271219T090000
DTEND;TZID=America/Toronto:20271219T103000
DTSTAMP:20260421T204914
CREATED:20240430T215324Z
LAST-MODIFIED:20260125T142754Z
UID:10001966-1829206800-1829212200@eccridgetown.ca
SUMMARY:ECC Worship Singers Practice
DESCRIPTION:Anyone ages 10 or older who would like to sing or play a musical instrument come and join us!
URL:https://eccridgetown.ca/event/ecc-worship-singers-practice/2027-12-19/
END:VEVENT
BEGIN:VEVENT
DTSTART;TZID=America/Toronto:20271219T094500
DTEND;TZID=America/Toronto:20271219T101500
DTSTAMP:20260421T204914
CREATED:20231006T233639Z
LAST-MODIFIED:20260125T143033Z
UID:10001654-1829209500-1829211300@eccridgetown.ca
SUMMARY:Pre-service Coffee
DESCRIPTION:Join us Sunday morning before Service at 9:45 – 10:15am
URL:https://eccridgetown.ca/event/pre-service-coffee-fellowship/2027-12-19/
END:VEVENT
BEGIN:VEVENT
DTSTART;TZID=America/Toronto:20271219T103000
DTEND;TZID=America/Toronto:20271219T120000
DTSTAMP:20260421T204914
CREATED:20251029T213214Z
LAST-MODIFIED:20260125T143221Z
UID:10002902-1829212200-1829217600@eccridgetown.ca
SUMMARY:Sunday Morning Worship
DESCRIPTION:Everyone welcome!
URL:https://eccridgetown.ca/event/sunday-morning-service-2-5-2/2027-12-19/
END:VEVENT
BEGIN:VEVENT
DTSTART;TZID=America/Toronto:20271222T133000
DTEND;TZID=America/Toronto:20271222T150000
DTSTAMP:20260421T204914
CREATED:20260226T220327Z
LAST-MODIFIED:20260226T220328Z
UID:10002522-1829482200-1829487600@eccridgetown.ca
SUMMARY:Ladies Group
DESCRIPTION:All ladies of any age are welcome to join us for a great time of fellowship\, prayer\, devotion and planning is shared by all over a cup of coffee/tea.\nOur meetings are (usually) held the last Wednesday of the month\, from 1:30 till 3pm. (with the exception of July\, August and December)  \nThe ladies group hosts special events on behalf of the congregation\, and also for those out in the community. We provide lunches for funerals\, wedding receptions\, and any other special events that are requested. We also make donations to both local and international missions. In order to make these donations\, we host fundraising events such as bake sales.
URL:https://eccridgetown.ca/event/ladies-meeting-3-3-2-3/2027-12-22/
END:VEVENT
BEGIN:VEVENT
DTSTART;TZID=America/Toronto:20271226T090000
DTEND;TZID=America/Toronto:20271226T103000
DTSTAMP:20260421T204914
CREATED:20240430T215324Z
LAST-MODIFIED:20260125T142754Z
UID:10001967-1829811600-1829817000@eccridgetown.ca
SUMMARY:ECC Worship Singers Practice
DESCRIPTION:Anyone ages 10 or older who would like to sing or play a musical instrument come and join us!
URL:https://eccridgetown.ca/event/ecc-worship-singers-practice/2027-12-26/
END:VEVENT
BEGIN:VEVENT
DTSTART;TZID=America/Toronto:20271226T094500
DTEND;TZID=America/Toronto:20271226T101500
DTSTAMP:20260421T204914
CREATED:20231006T233639Z
LAST-MODIFIED:20260125T143033Z
UID:10001655-1829814300-1829816100@eccridgetown.ca
SUMMARY:Pre-service Coffee
DESCRIPTION:Join us Sunday morning before Service at 9:45 – 10:15am
URL:https://eccridgetown.ca/event/pre-service-coffee-fellowship/2027-12-26/
END:VEVENT
BEGIN:VEVENT
DTSTART;TZID=America/Toronto:20271226T103000
DTEND;TZID=America/Toronto:20271226T120000
DTSTAMP:20260421T204914
CREATED:20251029T213214Z
LAST-MODIFIED:20260125T143221Z
UID:10002903-1829817000-1829822400@eccridgetown.ca
SUMMARY:Sunday Morning Worship
DESCRIPTION:Everyone welcome!
URL:https://eccridgetown.ca/event/sunday-morning-service-2-5-2/2027-12-26/
END:VEVENT
BEGIN:VEVENT
DTSTART;TZID=America/Toronto:20280102T090000
DTEND;TZID=America/Toronto:20280102T103000
DTSTAMP:20260421T204914
CREATED:20240430T215324Z
LAST-MODIFIED:20260125T142754Z
UID:10001968-1830416400-1830421800@eccridgetown.ca
SUMMARY:ECC Worship Singers Practice
DESCRIPTION:Anyone ages 10 or older who would like to sing or play a musical instrument come and join us!
URL:https://eccridgetown.ca/event/ecc-worship-singers-practice/2028-01-02/
END:VEVENT
BEGIN:VEVENT
DTSTART;TZID=America/Toronto:20280102T094500
DTEND;TZID=America/Toronto:20280102T101500
DTSTAMP:20260421T204914
CREATED:20231006T233639Z
LAST-MODIFIED:20260125T143033Z
UID:10001656-1830419100-1830420900@eccridgetown.ca
SUMMARY:Pre-service Coffee
DESCRIPTION:Join us Sunday morning before Service at 9:45 – 10:15am
URL:https://eccridgetown.ca/event/pre-service-coffee-fellowship/2028-01-02/
END:VEVENT
BEGIN:VEVENT
DTSTART;TZID=America/Toronto:20280102T103000
DTEND;TZID=America/Toronto:20280102T120000
DTSTAMP:20260421T204914
CREATED:20250522T160845Z
LAST-MODIFIED:20250902T215059Z
UID:10003216-1830421800-1830427200@eccridgetown.ca
SUMMARY:Food Bank Collection
DESCRIPTION:Please bring your donations the first Sunday of every month for our local Food Bank at the Salvation Army.  \nEven though the Thrift Store location has closed\, Food Bank services in Ridgetown will continue.
URL:https://eccridgetown.ca/event/food-bank-collection-2/2028-01-02/
END:VEVENT
END:VCALENDAR