BEGIN:VCALENDAR
VERSION:2.0
PRODID:-//Emmanuel Congregational Church - ECPv6.2.3//NONSGML v1.0//EN
CALSCALE:GREGORIAN
METHOD:PUBLISH
X-WR-CALNAME:Emmanuel Congregational Church
X-ORIGINAL-URL:https://eccridgetown.ca
X-WR-CALDESC:Events for Emmanuel Congregational Church
REFRESH-INTERVAL;VALUE=DURATION:PT1H
X-Robots-Tag:noindex
X-PUBLISHED-TTL:PT1H
BEGIN:VTIMEZONE
TZID:America/Toronto
BEGIN:DAYLIGHT
TZOFFSETFROM:-0500
TZOFFSETTO:-0400
TZNAME:EDT
DTSTART:20250309T070000
END:DAYLIGHT
BEGIN:STANDARD
TZOFFSETFROM:-0400
TZOFFSETTO:-0500
TZNAME:EST
DTSTART:20251102T060000
END:STANDARD
END:VTIMEZONE
BEGIN:VEVENT
DTSTART;TZID=America/Toronto:20250803T103000
DTEND;TZID=America/Toronto:20250803T113000
DTSTAMP:20260421T190850
CREATED:20250731T024326Z
LAST-MODIFIED:20250731T024922Z
UID:10003276-1754217000-1754220600@eccridgetown.ca
SUMMARY:Sunday Morning Service with Bill Terris
DESCRIPTION:Please join us in welcoming Bill Terris as our guest speaker this morning!
URL:https://eccridgetown.ca/event/sunday-morning-service-3/
END:VEVENT
BEGIN:VEVENT
DTSTART;TZID=America/Toronto:20250803T094500
DTEND;TZID=America/Toronto:20250803T101500
DTSTAMP:20260421T190850
CREATED:20231006T233639Z
LAST-MODIFIED:20260125T143033Z
UID:10001530-1754214300-1754216100@eccridgetown.ca
SUMMARY:Pre-service Coffee
DESCRIPTION:Join us Sunday morning before Service at 9:45 – 10:15am
URL:https://eccridgetown.ca/event/pre-service-coffee-fellowship/2025-08-03/
END:VEVENT
BEGIN:VEVENT
DTSTART;TZID=America/Toronto:20250803T090000
DTEND;TZID=America/Toronto:20250803T103000
DTSTAMP:20260421T190850
CREATED:20240430T215324Z
LAST-MODIFIED:20260125T142754Z
UID:10001842-1754211600-1754217000@eccridgetown.ca
SUMMARY:ECC Worship Singers Practice
DESCRIPTION:Anyone ages 10 or older who would like to sing or play a musical instrument come and join us!
URL:https://eccridgetown.ca/event/ecc-worship-singers-practice/2025-08-03/
END:VEVENT
BEGIN:VEVENT
DTSTART;TZID=America/Toronto:20250802T090000
DTEND;TZID=America/Toronto:20250802T100000
DTSTAMP:20260421T190850
CREATED:20250801T024748Z
LAST-MODIFIED:20260226T213439Z
UID:10003279-1754125200-1754128800@eccridgetown.ca
SUMMARY:Prayer Warriors Group
DESCRIPTION:The NEW Prayer Warriors Group meets at the church every Saturday morning.  \nEveryone is welcome!
URL:https://eccridgetown.ca/event/prayer-warriors-group/
END:VEVENT
BEGIN:VEVENT
DTSTART;TZID=America/Toronto:20250801T190000
DTEND;TZID=America/Toronto:20250801T210000
DTSTAMP:20260421T190850
CREATED:20250702T203822Z
LAST-MODIFIED:20250702T204052Z
UID:10003265-1754074800-1754082000@eccridgetown.ca
SUMMARY:NO Youth
DESCRIPTION:
URL:https://eccridgetown.ca/event/no-youth-2/2025-08-01/
ATTACH;FMTTYPE=image/jpeg:https://eccridgetown.ca/wp-content/uploads/2025/07/2025-07-02-YOUTH-summer-schedule.jpg
END:VEVENT
BEGIN:VEVENT
DTSTART;TZID=America/Toronto:20250729T190000
DTEND;TZID=America/Toronto:20250729T200000
DTSTAMP:20260421T190850
CREATED:20250522T152446Z
LAST-MODIFIED:20250904T211654Z
UID:10003175-1753815600-1753819200@eccridgetown.ca
SUMMARY:NO Bible Study
DESCRIPTION:There will be no Tuesday evening Bible Studies now through September.
URL:https://eccridgetown.ca/event/no-bible-study-4/2025-07-29/
END:VEVENT
BEGIN:VEVENT
DTSTART;TZID=America/Toronto:20250727T103000
DTEND;TZID=America/Toronto:20250727T120000
DTSTAMP:20260421T190850
CREATED:20250527T153920Z
LAST-MODIFIED:20250902T214428Z
UID:10002777-1753612200-1753617600@eccridgetown.ca
SUMMARY:Sunday Morning Worship
DESCRIPTION:Everyone welcome!
URL:https://eccridgetown.ca/event/sunday-morning-service-2-5/2025-07-27/
END:VEVENT
BEGIN:VEVENT
DTSTART;TZID=America/Toronto:20250727T094500
DTEND;TZID=America/Toronto:20250727T101500
DTSTAMP:20260421T190850
CREATED:20231006T233639Z
LAST-MODIFIED:20260125T143033Z
UID:10001529-1753609500-1753611300@eccridgetown.ca
SUMMARY:Pre-service Coffee
DESCRIPTION:Join us Sunday morning before Service at 9:45 – 10:15am
URL:https://eccridgetown.ca/event/pre-service-coffee-fellowship/2025-07-27/
END:VEVENT
BEGIN:VEVENT
DTSTART;TZID=America/Toronto:20250727T090000
DTEND;TZID=America/Toronto:20250727T103000
DTSTAMP:20260421T190850
CREATED:20240430T215324Z
LAST-MODIFIED:20260125T142754Z
UID:10001841-1753606800-1753612200@eccridgetown.ca
SUMMARY:ECC Worship Singers Practice
DESCRIPTION:Anyone ages 10 or older who would like to sing or play a musical instrument come and join us!
URL:https://eccridgetown.ca/event/ecc-worship-singers-practice/2025-07-27/
END:VEVENT
BEGIN:VEVENT
DTSTART;TZID=America/Toronto:20250725T190000
DTEND;TZID=America/Toronto:20250725T210000
DTSTAMP:20260421T190850
CREATED:20250702T203538Z
LAST-MODIFIED:20250702T203657Z
UID:10003261-1753470000-1753477200@eccridgetown.ca
SUMMARY:Lion Heart Youth
DESCRIPTION:Every Friday\, Lion Heart Youth gathers for an engaging\, exciting\, and uplifting experience. Our program is open to students in grade 7-12. \nEach week\, our evenings are filled with exciting activities\, insightful discussions\, and meaningful connections. \nEach night includes games\, devotions\, worship\, fun\, and fellowship. \nCheck out our home page for more details!
URL:https://eccridgetown.ca/event/lion-heart-youth-10/2025-07-25/
ATTACH;FMTTYPE=image/jpeg:https://eccridgetown.ca/wp-content/uploads/2025/07/2025-07-02-YOUTH-summer-schedule.jpg
END:VEVENT
BEGIN:VEVENT
DTSTART;TZID=America/Toronto:20250722T190000
DTEND;TZID=America/Toronto:20250722T200000
DTSTAMP:20260421T190850
CREATED:20250522T152446Z
LAST-MODIFIED:20250904T211654Z
UID:10003174-1753210800-1753214400@eccridgetown.ca
SUMMARY:NO Bible Study
DESCRIPTION:There will be no Tuesday evening Bible Studies now through September.
URL:https://eccridgetown.ca/event/no-bible-study-4/2025-07-22/
END:VEVENT
BEGIN:VEVENT
DTSTART;TZID=America/Toronto:20250720T103000
DTEND;TZID=America/Toronto:20250720T120000
DTSTAMP:20260421T190850
CREATED:20250527T153920Z
LAST-MODIFIED:20250902T214428Z
UID:10002776-1753007400-1753012800@eccridgetown.ca
SUMMARY:Sunday Morning Worship
DESCRIPTION:Everyone welcome!
URL:https://eccridgetown.ca/event/sunday-morning-service-2-5/2025-07-20/
END:VEVENT
BEGIN:VEVENT
DTSTART;TZID=America/Toronto:20250720T094500
DTEND;TZID=America/Toronto:20250720T101500
DTSTAMP:20260421T190850
CREATED:20231006T233639Z
LAST-MODIFIED:20260125T143033Z
UID:10001528-1753004700-1753006500@eccridgetown.ca
SUMMARY:Pre-service Coffee
DESCRIPTION:Join us Sunday morning before Service at 9:45 – 10:15am
URL:https://eccridgetown.ca/event/pre-service-coffee-fellowship/2025-07-20/
END:VEVENT
BEGIN:VEVENT
DTSTART;TZID=America/Toronto:20250720T090000
DTEND;TZID=America/Toronto:20250720T103000
DTSTAMP:20260421T190850
CREATED:20240430T215324Z
LAST-MODIFIED:20260125T142754Z
UID:10001840-1753002000-1753007400@eccridgetown.ca
SUMMARY:ECC Worship Singers Practice
DESCRIPTION:Anyone ages 10 or older who would like to sing or play a musical instrument come and join us!
URL:https://eccridgetown.ca/event/ecc-worship-singers-practice/2025-07-20/
END:VEVENT
BEGIN:VEVENT
DTSTART;TZID=America/Toronto:20250718T190000
DTEND;TZID=America/Toronto:20250718T210000
DTSTAMP:20260421T190850
CREATED:20250702T203538Z
LAST-MODIFIED:20250702T203657Z
UID:10003260-1752865200-1752872400@eccridgetown.ca
SUMMARY:Lion Heart Youth
DESCRIPTION:Every Friday\, Lion Heart Youth gathers for an engaging\, exciting\, and uplifting experience. Our program is open to students in grade 7-12. \nEach week\, our evenings are filled with exciting activities\, insightful discussions\, and meaningful connections. \nEach night includes games\, devotions\, worship\, fun\, and fellowship. \nCheck out our home page for more details!
URL:https://eccridgetown.ca/event/lion-heart-youth-10/2025-07-18/
ATTACH;FMTTYPE=image/jpeg:https://eccridgetown.ca/wp-content/uploads/2025/07/2025-07-02-YOUTH-summer-schedule.jpg
END:VEVENT
BEGIN:VEVENT
DTSTART;TZID=America/Toronto:20250715T190000
DTEND;TZID=America/Toronto:20250715T200000
DTSTAMP:20260421T190850
CREATED:20250522T152446Z
LAST-MODIFIED:20250904T211654Z
UID:10003173-1752606000-1752609600@eccridgetown.ca
SUMMARY:NO Bible Study
DESCRIPTION:There will be no Tuesday evening Bible Studies now through September.
URL:https://eccridgetown.ca/event/no-bible-study-4/2025-07-15/
END:VEVENT
BEGIN:VEVENT
DTSTART;TZID=America/Toronto:20250713T103000
DTEND;TZID=America/Toronto:20250713T120000
DTSTAMP:20260421T190850
CREATED:20250527T153920Z
LAST-MODIFIED:20250902T214428Z
UID:10003541-1752402600-1752408000@eccridgetown.ca
SUMMARY:Sunday Morning Worship
DESCRIPTION:Everyone welcome!
URL:https://eccridgetown.ca/event/sunday-morning-service-2-5/2025-07-13/
END:VEVENT
BEGIN:VEVENT
DTSTART;TZID=America/Toronto:20250713T094500
DTEND;TZID=America/Toronto:20250713T101500
DTSTAMP:20260421T190850
CREATED:20231006T233639Z
LAST-MODIFIED:20260125T143033Z
UID:10001527-1752399900-1752401700@eccridgetown.ca
SUMMARY:Pre-service Coffee
DESCRIPTION:Join us Sunday morning before Service at 9:45 – 10:15am
URL:https://eccridgetown.ca/event/pre-service-coffee-fellowship/2025-07-13/
END:VEVENT
BEGIN:VEVENT
DTSTART;TZID=America/Toronto:20250713T090000
DTEND;TZID=America/Toronto:20250713T103000
DTSTAMP:20260421T190850
CREATED:20240430T215324Z
LAST-MODIFIED:20260125T142754Z
UID:10001839-1752397200-1752402600@eccridgetown.ca
SUMMARY:ECC Worship Singers Practice
DESCRIPTION:Anyone ages 10 or older who would like to sing or play a musical instrument come and join us!
URL:https://eccridgetown.ca/event/ecc-worship-singers-practice/2025-07-13/
END:VEVENT
BEGIN:VEVENT
DTSTART;TZID=America/Toronto:20250711T190000
DTEND;TZID=America/Toronto:20250711T210000
DTSTAMP:20260421T190850
CREATED:20250702T203538Z
LAST-MODIFIED:20250702T203657Z
UID:10003259-1752260400-1752267600@eccridgetown.ca
SUMMARY:Lion Heart Youth
DESCRIPTION:Every Friday\, Lion Heart Youth gathers for an engaging\, exciting\, and uplifting experience. Our program is open to students in grade 7-12. \nEach week\, our evenings are filled with exciting activities\, insightful discussions\, and meaningful connections. \nEach night includes games\, devotions\, worship\, fun\, and fellowship. \nCheck out our home page for more details!
URL:https://eccridgetown.ca/event/lion-heart-youth-10/2025-07-11/
ATTACH;FMTTYPE=image/jpeg:https://eccridgetown.ca/wp-content/uploads/2025/07/2025-07-02-YOUTH-summer-schedule.jpg
END:VEVENT
BEGIN:VEVENT
DTSTART;TZID=America/Toronto:20250708T190000
DTEND;TZID=America/Toronto:20250708T200000
DTSTAMP:20260421T190850
CREATED:20250522T152446Z
LAST-MODIFIED:20250904T211654Z
UID:10003172-1752001200-1752004800@eccridgetown.ca
SUMMARY:NO Bible Study
DESCRIPTION:There will be no Tuesday evening Bible Studies now through September.
URL:https://eccridgetown.ca/event/no-bible-study-4/2025-07-08/
END:VEVENT
BEGIN:VEVENT
DTSTART;TZID=America/Toronto:20250706T103000
DTEND;TZID=America/Toronto:20250706T120000
DTSTAMP:20260421T190850
CREATED:20250527T153920Z
LAST-MODIFIED:20250902T214428Z
UID:10002774-1751797800-1751803200@eccridgetown.ca
SUMMARY:Sunday Morning Worship
DESCRIPTION:Everyone welcome!
URL:https://eccridgetown.ca/event/sunday-morning-service-2-5/2025-07-06/
END:VEVENT
BEGIN:VEVENT
DTSTART;TZID=America/Toronto:20250706T103000
DTEND;TZID=America/Toronto:20250706T120000
DTSTAMP:20260421T190850
CREATED:20250522T160845Z
LAST-MODIFIED:20250902T215059Z
UID:10003186-1751797800-1751803200@eccridgetown.ca
SUMMARY:Food Bank Collection
DESCRIPTION:Please bring your donations the first Sunday of every month for our local Food Bank at the Salvation Army.  \nEven though the Thrift Store location has closed\, Food Bank services in Ridgetown will continue.
URL:https://eccridgetown.ca/event/food-bank-collection-2/2025-07-06/
END:VEVENT
BEGIN:VEVENT
DTSTART;TZID=America/Toronto:20250706T094500
DTEND;TZID=America/Toronto:20250706T101500
DTSTAMP:20260421T190850
CREATED:20231006T233639Z
LAST-MODIFIED:20260125T143033Z
UID:10001526-1751795100-1751796900@eccridgetown.ca
SUMMARY:Pre-service Coffee
DESCRIPTION:Join us Sunday morning before Service at 9:45 – 10:15am
URL:https://eccridgetown.ca/event/pre-service-coffee-fellowship/2025-07-06/
END:VEVENT
BEGIN:VEVENT
DTSTART;TZID=America/Toronto:20250706T090000
DTEND;TZID=America/Toronto:20250706T103000
DTSTAMP:20260421T190850
CREATED:20240430T215324Z
LAST-MODIFIED:20260125T142754Z
UID:10001838-1751792400-1751797800@eccridgetown.ca
SUMMARY:ECC Worship Singers Practice
DESCRIPTION:Anyone ages 10 or older who would like to sing or play a musical instrument come and join us!
URL:https://eccridgetown.ca/event/ecc-worship-singers-practice/2025-07-06/
END:VEVENT
BEGIN:VEVENT
DTSTART;TZID=America/Toronto:20250704T190000
DTEND;TZID=America/Toronto:20250704T210000
DTSTAMP:20260421T190850
CREATED:20250702T203538Z
LAST-MODIFIED:20250702T203657Z
UID:10003258-1751655600-1751662800@eccridgetown.ca
SUMMARY:Lion Heart Youth
DESCRIPTION:Every Friday\, Lion Heart Youth gathers for an engaging\, exciting\, and uplifting experience. Our program is open to students in grade 7-12. \nEach week\, our evenings are filled with exciting activities\, insightful discussions\, and meaningful connections. \nEach night includes games\, devotions\, worship\, fun\, and fellowship. \nCheck out our home page for more details!
URL:https://eccridgetown.ca/event/lion-heart-youth-10/2025-07-04/
ATTACH;FMTTYPE=image/jpeg:https://eccridgetown.ca/wp-content/uploads/2025/07/2025-07-02-YOUTH-summer-schedule.jpg
END:VEVENT
BEGIN:VEVENT
DTSTART;TZID=America/Toronto:20250701T190000
DTEND;TZID=America/Toronto:20250701T200000
DTSTAMP:20260421T190850
CREATED:20250522T152446Z
LAST-MODIFIED:20250904T211654Z
UID:10003171-1751396400-1751400000@eccridgetown.ca
SUMMARY:NO Bible Study
DESCRIPTION:There will be no Tuesday evening Bible Studies now through September.
URL:https://eccridgetown.ca/event/no-bible-study-4/2025-07-01/
END:VEVENT
BEGIN:VEVENT
DTSTART;TZID=America/Toronto:20250629T103000
DTEND;TZID=America/Toronto:20250629T113000
DTSTAMP:20260421T190850
CREATED:20250502T030129Z
LAST-MODIFIED:20250527T153643Z
UID:10003155-1751193000-1751196600@eccridgetown.ca
SUMMARY:Family Service
DESCRIPTION:Pastor Joel will be leading the service. \nThere will be no separate Sunday School.
URL:https://eccridgetown.ca/event/family-service/
END:VEVENT
BEGIN:VEVENT
DTSTART;TZID=America/Toronto:20250629T094500
DTEND;TZID=America/Toronto:20250629T101500
DTSTAMP:20260421T190850
CREATED:20231006T233639Z
LAST-MODIFIED:20260125T143033Z
UID:10001525-1751190300-1751192100@eccridgetown.ca
SUMMARY:Pre-service Coffee
DESCRIPTION:Join us Sunday morning before Service at 9:45 – 10:15am
URL:https://eccridgetown.ca/event/pre-service-coffee-fellowship/2025-06-29/
END:VEVENT
BEGIN:VEVENT
DTSTART;TZID=America/Toronto:20250629T090000
DTEND;TZID=America/Toronto:20250629T103000
DTSTAMP:20260421T190850
CREATED:20240430T215324Z
LAST-MODIFIED:20260125T142754Z
UID:10001837-1751187600-1751193000@eccridgetown.ca
SUMMARY:ECC Worship Singers Practice
DESCRIPTION:Anyone ages 10 or older who would like to sing or play a musical instrument come and join us!
URL:https://eccridgetown.ca/event/ecc-worship-singers-practice/2025-06-29/
END:VEVENT
END:VCALENDAR