BEGIN:VCALENDAR
VERSION:2.0
PRODID:-//Emmanuel Congregational Church - ECPv6.2.3//NONSGML v1.0//EN
CALSCALE:GREGORIAN
METHOD:PUBLISH
X-ORIGINAL-URL:https://eccridgetown.ca
X-WR-CALDESC:Events for Emmanuel Congregational Church
REFRESH-INTERVAL;VALUE=DURATION:PT1H
X-Robots-Tag:noindex
X-PUBLISHED-TTL:PT1H
BEGIN:VTIMEZONE
TZID:America/Toronto
BEGIN:DAYLIGHT
TZOFFSETFROM:-0500
TZOFFSETTO:-0400
TZNAME:EDT
DTSTART:20260308T070000
END:DAYLIGHT
BEGIN:STANDARD
TZOFFSETFROM:-0400
TZOFFSETTO:-0500
TZNAME:EST
DTSTART:20261101T060000
END:STANDARD
END:VTIMEZONE
BEGIN:VEVENT
DTSTART;TZID=America/Toronto:20260410T190000
DTEND;TZID=America/Toronto:20260410T210000
DTSTAMP:20260420T030101
CREATED:20260117T172700Z
LAST-MODIFIED:20260117T172933Z
UID:10003953-1775847600-1775854800@eccridgetown.ca
SUMMARY:Lion Heart Youth
DESCRIPTION:Every Friday\, Lion Heart Youth gathers for an engaging\, exciting\, and uplifting experience. Our program is open to students in grade 7-12. \nEach week\, our evenings are filled with exciting activities\, insightful discussions\, and meaningful connections. \nEach night includes games\, devotions\, worship\, fun\, and fellowship. \nCheck out our home page for more details!
URL:https://eccridgetown.ca/event/lion-heart-youth-13/2026-04-10/
ATTACH;FMTTYPE=image/jpeg:https://eccridgetown.ca/wp-content/uploads/2026/01/2026-LHY-Jan-June-schedule.jpg
END:VEVENT
BEGIN:VEVENT
DTSTART;TZID=America/Toronto:20260412T090000
DTEND;TZID=America/Toronto:20260412T103000
DTSTAMP:20260420T030101
CREATED:20240430T215324Z
LAST-MODIFIED:20260125T142754Z
UID:10001878-1775984400-1775989800@eccridgetown.ca
SUMMARY:ECC Worship Singers Practice
DESCRIPTION:Anyone ages 10 or older who would like to sing or play a musical instrument come and join us!
URL:https://eccridgetown.ca/event/ecc-worship-singers-practice/2026-04-12/
END:VEVENT
BEGIN:VEVENT
DTSTART;TZID=America/Toronto:20260412T094500
DTEND;TZID=America/Toronto:20260412T101500
DTSTAMP:20260420T030101
CREATED:20231006T233639Z
LAST-MODIFIED:20260125T143033Z
UID:10001566-1775987100-1775988900@eccridgetown.ca
SUMMARY:Pre-service Coffee
DESCRIPTION:Join us Sunday morning before Service at 9:45 – 10:15am
URL:https://eccridgetown.ca/event/pre-service-coffee-fellowship/2026-04-12/
END:VEVENT
BEGIN:VEVENT
DTSTART;TZID=America/Toronto:20260412T103000
DTEND;TZID=America/Toronto:20260412T120000
DTSTAMP:20260420T030101
CREATED:20251029T213214Z
LAST-MODIFIED:20260125T143221Z
UID:10002814-1775989800-1775995200@eccridgetown.ca
SUMMARY:Sunday Morning Worship
DESCRIPTION:Everyone welcome!
URL:https://eccridgetown.ca/event/sunday-morning-service-2-5-2/2026-04-12/
END:VEVENT
BEGIN:VEVENT
DTSTART;TZID=America/Toronto:20260414T190000
DTEND;TZID=America/Toronto:20260414T200000
DTSTAMP:20260420T030101
CREATED:20251130T225919Z
LAST-MODIFIED:20260112T171354Z
UID:10003893-1776193200-1776196800@eccridgetown.ca
SUMMARY:Bible Study
DESCRIPTION:Meet weekly in the sanctuary for a Bible Study led by Pastor John.
URL:https://eccridgetown.ca/event/bible-study-5/2026-04-14/
END:VEVENT
BEGIN:VEVENT
DTSTART;TZID=America/Toronto:20260414T190000
DTEND;TZID=America/Toronto:20260414T210000
DTSTAMP:20260420T030101
CREATED:20251001T032244Z
LAST-MODIFIED:20251217T200135Z
UID:10003816-1776193200-1776200400@eccridgetown.ca
SUMMARY:Teen Bible Quizzing Night
DESCRIPTION:Something New for Teens in Our Community! 🌟\nStarting this September\, Lion Heart Youth (grades 7–12 at The Gathering Place & Emmanuel Congregational Church) is launching a brand-new program called Bible Quizzing — and it’s open to ALL teens in the community\, whether they’ve ever been to church or not.\nThis is an awesome opportunity for students to join a team\, have fun\, and build memorization and teamwork skills in a friendly\, positive environment.\nSo\, what is it?\n👉 A fun\, game-style competition with buzzers\, teams\, and lots of fun\n👉 A chance to build confidence\, sharpen memory skills\, and make great friends\n👉 A safe space where teens are encouraged\, supported\, and challenged \n• Weekly Quizzing Nights: Beginning Tuesday\, September 16\, 7–9 PM (running September–May)\nThis year\, we’ll be exploring 1 & 2 Corinthians together — but no prior knowledge is needed! We’ll learn in a way that’s fun and engaging. And to top it off… at the end of the year we’ll take a weekend trip to Muskoka Woods! 🎉\nIf you’re looking for something new for your teen — a place that’s safe\, encouraging\, and a little competitive 😉 — come check it out!\nBring your student (and their friends!) to our Intro Night on September 9 at ECC to see what it’s all about.
URL:https://eccridgetown.ca/event/teen-bible-quizzing-night/2026-04-14/
END:VEVENT
BEGIN:VEVENT
DTSTART;TZID=America/Toronto:20260417T190000
DTEND;TZID=America/Toronto:20260417T210000
DTSTAMP:20260420T030101
CREATED:20260117T172700Z
LAST-MODIFIED:20260117T172933Z
UID:10003954-1776452400-1776459600@eccridgetown.ca
SUMMARY:Lion Heart Youth
DESCRIPTION:Every Friday\, Lion Heart Youth gathers for an engaging\, exciting\, and uplifting experience. Our program is open to students in grade 7-12. \nEach week\, our evenings are filled with exciting activities\, insightful discussions\, and meaningful connections. \nEach night includes games\, devotions\, worship\, fun\, and fellowship. \nCheck out our home page for more details!
URL:https://eccridgetown.ca/event/lion-heart-youth-13/2026-04-17/
ATTACH;FMTTYPE=image/jpeg:https://eccridgetown.ca/wp-content/uploads/2026/01/2026-LHY-Jan-June-schedule.jpg
END:VEVENT
BEGIN:VEVENT
DTSTART;TZID=America/Toronto:20260419T090000
DTEND;TZID=America/Toronto:20260419T103000
DTSTAMP:20260420T030101
CREATED:20240430T215324Z
LAST-MODIFIED:20260125T142754Z
UID:10001879-1776589200-1776594600@eccridgetown.ca
SUMMARY:ECC Worship Singers Practice
DESCRIPTION:Anyone ages 10 or older who would like to sing or play a musical instrument come and join us!
URL:https://eccridgetown.ca/event/ecc-worship-singers-practice/2026-04-19/
END:VEVENT
BEGIN:VEVENT
DTSTART;TZID=America/Toronto:20260419T094500
DTEND;TZID=America/Toronto:20260419T101500
DTSTAMP:20260420T030101
CREATED:20231006T233639Z
LAST-MODIFIED:20260125T143033Z
UID:10001567-1776591900-1776593700@eccridgetown.ca
SUMMARY:Pre-service Coffee
DESCRIPTION:Join us Sunday morning before Service at 9:45 – 10:15am
URL:https://eccridgetown.ca/event/pre-service-coffee-fellowship/2026-04-19/
END:VEVENT
BEGIN:VEVENT
DTSTART;TZID=America/Toronto:20260419T103000
DTEND;TZID=America/Toronto:20260419T120000
DTSTAMP:20260420T030101
CREATED:20251029T213214Z
LAST-MODIFIED:20260125T143221Z
UID:10002815-1776594600-1776600000@eccridgetown.ca
SUMMARY:Sunday Morning Worship
DESCRIPTION:Everyone welcome!
URL:https://eccridgetown.ca/event/sunday-morning-service-2-5-2/2026-04-19/
END:VEVENT
BEGIN:VEVENT
DTSTART;TZID=America/Toronto:20260421T190000
DTEND;TZID=America/Toronto:20260421T200000
DTSTAMP:20260420T030101
CREATED:20251130T225919Z
LAST-MODIFIED:20260112T171354Z
UID:10003894-1776798000-1776801600@eccridgetown.ca
SUMMARY:Bible Study
DESCRIPTION:Meet weekly in the sanctuary for a Bible Study led by Pastor John.
URL:https://eccridgetown.ca/event/bible-study-5/2026-04-21/
END:VEVENT
BEGIN:VEVENT
DTSTART;TZID=America/Toronto:20260421T190000
DTEND;TZID=America/Toronto:20260421T210000
DTSTAMP:20260420T030101
CREATED:20251001T032244Z
LAST-MODIFIED:20251217T200135Z
UID:10003817-1776798000-1776805200@eccridgetown.ca
SUMMARY:Teen Bible Quizzing Night
DESCRIPTION:Something New for Teens in Our Community! 🌟\nStarting this September\, Lion Heart Youth (grades 7–12 at The Gathering Place & Emmanuel Congregational Church) is launching a brand-new program called Bible Quizzing — and it’s open to ALL teens in the community\, whether they’ve ever been to church or not.\nThis is an awesome opportunity for students to join a team\, have fun\, and build memorization and teamwork skills in a friendly\, positive environment.\nSo\, what is it?\n👉 A fun\, game-style competition with buzzers\, teams\, and lots of fun\n👉 A chance to build confidence\, sharpen memory skills\, and make great friends\n👉 A safe space where teens are encouraged\, supported\, and challenged \n• Weekly Quizzing Nights: Beginning Tuesday\, September 16\, 7–9 PM (running September–May)\nThis year\, we’ll be exploring 1 & 2 Corinthians together — but no prior knowledge is needed! We’ll learn in a way that’s fun and engaging. And to top it off… at the end of the year we’ll take a weekend trip to Muskoka Woods! 🎉\nIf you’re looking for something new for your teen — a place that’s safe\, encouraging\, and a little competitive 😉 — come check it out!\nBring your student (and their friends!) to our Intro Night on September 9 at ECC to see what it’s all about.
URL:https://eccridgetown.ca/event/teen-bible-quizzing-night/2026-04-21/
END:VEVENT
BEGIN:VEVENT
DTSTART;TZID=America/Toronto:20260424T190000
DTEND;TZID=America/Toronto:20260424T210000
DTSTAMP:20260420T030101
CREATED:20260117T172700Z
LAST-MODIFIED:20260117T172933Z
UID:10003955-1777057200-1777064400@eccridgetown.ca
SUMMARY:Lion Heart Youth
DESCRIPTION:Every Friday\, Lion Heart Youth gathers for an engaging\, exciting\, and uplifting experience. Our program is open to students in grade 7-12. \nEach week\, our evenings are filled with exciting activities\, insightful discussions\, and meaningful connections. \nEach night includes games\, devotions\, worship\, fun\, and fellowship. \nCheck out our home page for more details!
URL:https://eccridgetown.ca/event/lion-heart-youth-13/2026-04-24/
ATTACH;FMTTYPE=image/jpeg:https://eccridgetown.ca/wp-content/uploads/2026/01/2026-LHY-Jan-June-schedule.jpg
END:VEVENT
BEGIN:VEVENT
DTSTART;TZID=America/Toronto:20260426T090000
DTEND;TZID=America/Toronto:20260426T103000
DTSTAMP:20260420T030101
CREATED:20240430T215324Z
LAST-MODIFIED:20260125T142754Z
UID:10001880-1777194000-1777199400@eccridgetown.ca
SUMMARY:ECC Worship Singers Practice
DESCRIPTION:Anyone ages 10 or older who would like to sing or play a musical instrument come and join us!
URL:https://eccridgetown.ca/event/ecc-worship-singers-practice/2026-04-26/
END:VEVENT
BEGIN:VEVENT
DTSTART;TZID=America/Toronto:20260426T094500
DTEND;TZID=America/Toronto:20260426T101500
DTSTAMP:20260420T030101
CREATED:20231006T233639Z
LAST-MODIFIED:20260125T143033Z
UID:10001568-1777196700-1777198500@eccridgetown.ca
SUMMARY:Pre-service Coffee
DESCRIPTION:Join us Sunday morning before Service at 9:45 – 10:15am
URL:https://eccridgetown.ca/event/pre-service-coffee-fellowship/2026-04-26/
END:VEVENT
BEGIN:VEVENT
DTSTART;TZID=America/Toronto:20260426T103000
DTEND;TZID=America/Toronto:20260426T120000
DTSTAMP:20260420T030101
CREATED:20251029T213214Z
LAST-MODIFIED:20260125T143221Z
UID:10002816-1777199400-1777204800@eccridgetown.ca
SUMMARY:Sunday Morning Worship
DESCRIPTION:Everyone welcome!
URL:https://eccridgetown.ca/event/sunday-morning-service-2-5-2/2026-04-26/
END:VEVENT
BEGIN:VEVENT
DTSTART;TZID=America/Toronto:20260428T190000
DTEND;TZID=America/Toronto:20260428T200000
DTSTAMP:20260420T030101
CREATED:20251130T225919Z
LAST-MODIFIED:20260112T171354Z
UID:10003895-1777402800-1777406400@eccridgetown.ca
SUMMARY:Bible Study
DESCRIPTION:Meet weekly in the sanctuary for a Bible Study led by Pastor John.
URL:https://eccridgetown.ca/event/bible-study-5/2026-04-28/
END:VEVENT
BEGIN:VEVENT
DTSTART;TZID=America/Toronto:20260428T190000
DTEND;TZID=America/Toronto:20260428T210000
DTSTAMP:20260420T030101
CREATED:20251001T032244Z
LAST-MODIFIED:20251217T200135Z
UID:10003818-1777402800-1777410000@eccridgetown.ca
SUMMARY:Teen Bible Quizzing Night
DESCRIPTION:Something New for Teens in Our Community! 🌟\nStarting this September\, Lion Heart Youth (grades 7–12 at The Gathering Place & Emmanuel Congregational Church) is launching a brand-new program called Bible Quizzing — and it’s open to ALL teens in the community\, whether they’ve ever been to church or not.\nThis is an awesome opportunity for students to join a team\, have fun\, and build memorization and teamwork skills in a friendly\, positive environment.\nSo\, what is it?\n👉 A fun\, game-style competition with buzzers\, teams\, and lots of fun\n👉 A chance to build confidence\, sharpen memory skills\, and make great friends\n👉 A safe space where teens are encouraged\, supported\, and challenged \n• Weekly Quizzing Nights: Beginning Tuesday\, September 16\, 7–9 PM (running September–May)\nThis year\, we’ll be exploring 1 & 2 Corinthians together — but no prior knowledge is needed! We’ll learn in a way that’s fun and engaging. And to top it off… at the end of the year we’ll take a weekend trip to Muskoka Woods! 🎉\nIf you’re looking for something new for your teen — a place that’s safe\, encouraging\, and a little competitive 😉 — come check it out!\nBring your student (and their friends!) to our Intro Night on September 9 at ECC to see what it’s all about.
URL:https://eccridgetown.ca/event/teen-bible-quizzing-night/2026-04-28/
END:VEVENT
BEGIN:VEVENT
DTSTART;TZID=America/Toronto:20260429T133000
DTEND;TZID=America/Toronto:20260429T150000
DTSTAMP:20260420T030101
CREATED:20260226T220617Z
LAST-MODIFIED:20260226T220724Z
UID:10004023-1777469400-1777474800@eccridgetown.ca
SUMMARY:Ladies Group
DESCRIPTION:All ladies of any age are welcome to join us for a great time of fellowship\, prayer\, devotion and planning is shared by all over a cup of coffee/tea.\nOur meetings are (usually) held the last Wednesday of the month\, from 1:30 till 3pm. (with the exception of July\, August and December) \nThe ladies group hosts special events on behalf of the congregation\, and also for those out in the community. We provide lunches for funerals\, wedding receptions\, and any other special events that are requested. We also make donations to both local and international missions. In order to make these donations\, we host fundraising events such as bake sales.
URL:https://eccridgetown.ca/event/ladies-group-5/
END:VEVENT
BEGIN:VEVENT
DTSTART;TZID=America/Toronto:20260501T190000
DTEND;TZID=America/Toronto:20260501T210000
DTSTAMP:20260420T030101
CREATED:20260117T172700Z
LAST-MODIFIED:20260117T172933Z
UID:10003956-1777662000-1777669200@eccridgetown.ca
SUMMARY:Lion Heart Youth
DESCRIPTION:Every Friday\, Lion Heart Youth gathers for an engaging\, exciting\, and uplifting experience. Our program is open to students in grade 7-12. \nEach week\, our evenings are filled with exciting activities\, insightful discussions\, and meaningful connections. \nEach night includes games\, devotions\, worship\, fun\, and fellowship. \nCheck out our home page for more details!
URL:https://eccridgetown.ca/event/lion-heart-youth-13/2026-05-01/
ATTACH;FMTTYPE=image/jpeg:https://eccridgetown.ca/wp-content/uploads/2026/01/2026-LHY-Jan-June-schedule.jpg
END:VEVENT
BEGIN:VEVENT
DTSTART;TZID=America/Toronto:20260503T090000
DTEND;TZID=America/Toronto:20260503T103000
DTSTAMP:20260420T030101
CREATED:20240430T215324Z
LAST-MODIFIED:20260125T142754Z
UID:10001881-1777798800-1777804200@eccridgetown.ca
SUMMARY:ECC Worship Singers Practice
DESCRIPTION:Anyone ages 10 or older who would like to sing or play a musical instrument come and join us!
URL:https://eccridgetown.ca/event/ecc-worship-singers-practice/2026-05-03/
END:VEVENT
BEGIN:VEVENT
DTSTART;TZID=America/Toronto:20260503T094500
DTEND;TZID=America/Toronto:20260503T101500
DTSTAMP:20260420T030101
CREATED:20231006T233639Z
LAST-MODIFIED:20260125T143033Z
UID:10001569-1777801500-1777803300@eccridgetown.ca
SUMMARY:Pre-service Coffee
DESCRIPTION:Join us Sunday morning before Service at 9:45 – 10:15am
URL:https://eccridgetown.ca/event/pre-service-coffee-fellowship/2026-05-03/
END:VEVENT
BEGIN:VEVENT
DTSTART;TZID=America/Toronto:20260503T103000
DTEND;TZID=America/Toronto:20260503T120000
DTSTAMP:20260420T030101
CREATED:20250522T160845Z
LAST-MODIFIED:20250902T215059Z
UID:10003196-1777804200-1777809600@eccridgetown.ca
SUMMARY:Food Bank Collection
DESCRIPTION:Please bring your donations the first Sunday of every month for our local Food Bank at the Salvation Army.  \nEven though the Thrift Store location has closed\, Food Bank services in Ridgetown will continue.
URL:https://eccridgetown.ca/event/food-bank-collection-2/2026-05-03/
END:VEVENT
BEGIN:VEVENT
DTSTART;TZID=America/Toronto:20260503T103000
DTEND;TZID=America/Toronto:20260503T120000
DTSTAMP:20260420T030101
CREATED:20251029T213214Z
LAST-MODIFIED:20260125T143221Z
UID:10002817-1777804200-1777809600@eccridgetown.ca
SUMMARY:Sunday Morning Worship
DESCRIPTION:Everyone welcome!
URL:https://eccridgetown.ca/event/sunday-morning-service-2-5-2/2026-05-03/
END:VEVENT
BEGIN:VEVENT
DTSTART;TZID=America/Toronto:20260505T190000
DTEND;TZID=America/Toronto:20260505T210000
DTSTAMP:20260420T030101
CREATED:20251001T032244Z
LAST-MODIFIED:20251217T200135Z
UID:10003819-1778007600-1778014800@eccridgetown.ca
SUMMARY:Teen Bible Quizzing Night
DESCRIPTION:Something New for Teens in Our Community! 🌟\nStarting this September\, Lion Heart Youth (grades 7–12 at The Gathering Place & Emmanuel Congregational Church) is launching a brand-new program called Bible Quizzing — and it’s open to ALL teens in the community\, whether they’ve ever been to church or not.\nThis is an awesome opportunity for students to join a team\, have fun\, and build memorization and teamwork skills in a friendly\, positive environment.\nSo\, what is it?\n👉 A fun\, game-style competition with buzzers\, teams\, and lots of fun\n👉 A chance to build confidence\, sharpen memory skills\, and make great friends\n👉 A safe space where teens are encouraged\, supported\, and challenged \n• Weekly Quizzing Nights: Beginning Tuesday\, September 16\, 7–9 PM (running September–May)\nThis year\, we’ll be exploring 1 & 2 Corinthians together — but no prior knowledge is needed! We’ll learn in a way that’s fun and engaging. And to top it off… at the end of the year we’ll take a weekend trip to Muskoka Woods! 🎉\nIf you’re looking for something new for your teen — a place that’s safe\, encouraging\, and a little competitive 😉 — come check it out!\nBring your student (and their friends!) to our Intro Night on September 9 at ECC to see what it’s all about.
URL:https://eccridgetown.ca/event/teen-bible-quizzing-night/2026-05-05/
END:VEVENT
BEGIN:VEVENT
DTSTART;TZID=America/Toronto:20260510T090000
DTEND;TZID=America/Toronto:20260510T103000
DTSTAMP:20260420T030101
CREATED:20240430T215324Z
LAST-MODIFIED:20260125T142754Z
UID:10001882-1778403600-1778409000@eccridgetown.ca
SUMMARY:ECC Worship Singers Practice
DESCRIPTION:Anyone ages 10 or older who would like to sing or play a musical instrument come and join us!
URL:https://eccridgetown.ca/event/ecc-worship-singers-practice/2026-05-10/
END:VEVENT
BEGIN:VEVENT
DTSTART;TZID=America/Toronto:20260510T094500
DTEND;TZID=America/Toronto:20260510T101500
DTSTAMP:20260420T030101
CREATED:20231006T233639Z
LAST-MODIFIED:20260125T143033Z
UID:10001570-1778406300-1778408100@eccridgetown.ca
SUMMARY:Pre-service Coffee
DESCRIPTION:Join us Sunday morning before Service at 9:45 – 10:15am
URL:https://eccridgetown.ca/event/pre-service-coffee-fellowship/2026-05-10/
END:VEVENT
BEGIN:VEVENT
DTSTART;TZID=America/Toronto:20260510T103000
DTEND;TZID=America/Toronto:20260510T120000
DTSTAMP:20260420T030101
CREATED:20251029T213214Z
LAST-MODIFIED:20260125T143221Z
UID:10002818-1778409000-1778414400@eccridgetown.ca
SUMMARY:Sunday Morning Worship
DESCRIPTION:Everyone welcome!
URL:https://eccridgetown.ca/event/sunday-morning-service-2-5-2/2026-05-10/
END:VEVENT
BEGIN:VEVENT
DTSTART;TZID=America/Toronto:20260512T190000
DTEND;TZID=America/Toronto:20260512T210000
DTSTAMP:20260420T030101
CREATED:20251001T032244Z
LAST-MODIFIED:20251217T200135Z
UID:10003820-1778612400-1778619600@eccridgetown.ca
SUMMARY:Teen Bible Quizzing Night
DESCRIPTION:Something New for Teens in Our Community! 🌟\nStarting this September\, Lion Heart Youth (grades 7–12 at The Gathering Place & Emmanuel Congregational Church) is launching a brand-new program called Bible Quizzing — and it’s open to ALL teens in the community\, whether they’ve ever been to church or not.\nThis is an awesome opportunity for students to join a team\, have fun\, and build memorization and teamwork skills in a friendly\, positive environment.\nSo\, what is it?\n👉 A fun\, game-style competition with buzzers\, teams\, and lots of fun\n👉 A chance to build confidence\, sharpen memory skills\, and make great friends\n👉 A safe space where teens are encouraged\, supported\, and challenged \n• Weekly Quizzing Nights: Beginning Tuesday\, September 16\, 7–9 PM (running September–May)\nThis year\, we’ll be exploring 1 & 2 Corinthians together — but no prior knowledge is needed! We’ll learn in a way that’s fun and engaging. And to top it off… at the end of the year we’ll take a weekend trip to Muskoka Woods! 🎉\nIf you’re looking for something new for your teen — a place that’s safe\, encouraging\, and a little competitive 😉 — come check it out!\nBring your student (and their friends!) to our Intro Night on September 9 at ECC to see what it’s all about.
URL:https://eccridgetown.ca/event/teen-bible-quizzing-night/2026-05-12/
END:VEVENT
BEGIN:VEVENT
DTSTART;TZID=America/Toronto:20260515T190000
DTEND;TZID=America/Toronto:20260515T210000
DTSTAMP:20260420T030101
CREATED:20260117T172700Z
LAST-MODIFIED:20260117T172933Z
UID:10003957-1778871600-1778878800@eccridgetown.ca
SUMMARY:Lion Heart Youth
DESCRIPTION:Every Friday\, Lion Heart Youth gathers for an engaging\, exciting\, and uplifting experience. Our program is open to students in grade 7-12. \nEach week\, our evenings are filled with exciting activities\, insightful discussions\, and meaningful connections. \nEach night includes games\, devotions\, worship\, fun\, and fellowship. \nCheck out our home page for more details!
URL:https://eccridgetown.ca/event/lion-heart-youth-13/2026-05-15/
ATTACH;FMTTYPE=image/jpeg:https://eccridgetown.ca/wp-content/uploads/2026/01/2026-LHY-Jan-June-schedule.jpg
END:VEVENT
END:VCALENDAR