BEGIN:VCALENDAR
VERSION:2.0
PRODID:-//Emmanuel Congregational Church - ECPv6.2.3//NONSGML v1.0//EN
CALSCALE:GREGORIAN
METHOD:PUBLISH
X-WR-CALNAME:Emmanuel Congregational Church
X-ORIGINAL-URL:https://eccridgetown.ca
X-WR-CALDESC:Events for Emmanuel Congregational Church
REFRESH-INTERVAL;VALUE=DURATION:PT1H
X-Robots-Tag:noindex
X-PUBLISHED-TTL:PT1H
BEGIN:VTIMEZONE
TZID:America/Toronto
BEGIN:DAYLIGHT
TZOFFSETFROM:-0500
TZOFFSETTO:-0400
TZNAME:EDT
DTSTART:20260308T070000
END:DAYLIGHT
BEGIN:STANDARD
TZOFFSETFROM:-0400
TZOFFSETTO:-0500
TZNAME:EST
DTSTART:20261101T060000
END:STANDARD
END:VTIMEZONE
BEGIN:VEVENT
DTSTART;VALUE=DATE:20260522
DTEND;VALUE=DATE:20260526
DTSTAMP:20260420T025757
CREATED:20251217T204541Z
LAST-MODIFIED:20251217T204541Z
UID:10003923-1779408000-1779753599@eccridgetown.ca
SUMMARY:Overflow Conference (May 22-25)
DESCRIPTION:
URL:https://eccridgetown.ca/event/overflow-conference-may-22-25/
END:VEVENT
BEGIN:VEVENT
DTSTART;TZID=America/Toronto:20260524T090000
DTEND;TZID=America/Toronto:20260524T103000
DTSTAMP:20260420T025757
CREATED:20240430T215324Z
LAST-MODIFIED:20260125T142754Z
UID:10001884-1779613200-1779618600@eccridgetown.ca
SUMMARY:ECC Worship Singers Practice
DESCRIPTION:Anyone ages 10 or older who would like to sing or play a musical instrument come and join us!
URL:https://eccridgetown.ca/event/ecc-worship-singers-practice/2026-05-24/
END:VEVENT
BEGIN:VEVENT
DTSTART;TZID=America/Toronto:20260524T094500
DTEND;TZID=America/Toronto:20260524T101500
DTSTAMP:20260420T025757
CREATED:20231006T233639Z
LAST-MODIFIED:20260125T143033Z
UID:10001572-1779615900-1779617700@eccridgetown.ca
SUMMARY:Pre-service Coffee
DESCRIPTION:Join us Sunday morning before Service at 9:45 – 10:15am
URL:https://eccridgetown.ca/event/pre-service-coffee-fellowship/2026-05-24/
END:VEVENT
BEGIN:VEVENT
DTSTART;TZID=America/Toronto:20260524T103000
DTEND;TZID=America/Toronto:20260524T120000
DTSTAMP:20260420T025757
CREATED:20251029T213214Z
LAST-MODIFIED:20260125T143221Z
UID:10002820-1779618600-1779624000@eccridgetown.ca
SUMMARY:Sunday Morning Worship
DESCRIPTION:Everyone welcome!
URL:https://eccridgetown.ca/event/sunday-morning-service-2-5-2/2026-05-24/
END:VEVENT
END:VCALENDAR