BEGIN:VCALENDAR
VERSION:2.0
PRODID:-//Emmanuel Congregational Church - ECPv6.2.3//NONSGML v1.0//EN
CALSCALE:GREGORIAN
METHOD:PUBLISH
X-ORIGINAL-URL:https://eccridgetown.ca
X-WR-CALDESC:Events for Emmanuel Congregational Church
REFRESH-INTERVAL;VALUE=DURATION:PT1H
X-Robots-Tag:noindex
X-PUBLISHED-TTL:PT1H
BEGIN:VTIMEZONE
TZID:America/Toronto
BEGIN:DAYLIGHT
TZOFFSETFROM:-0500
TZOFFSETTO:-0400
TZNAME:EDT
DTSTART:20260308T070000
END:DAYLIGHT
BEGIN:STANDARD
TZOFFSETFROM:-0400
TZOFFSETTO:-0500
TZNAME:EST
DTSTART:20261101T060000
END:STANDARD
END:VTIMEZONE
BEGIN:VEVENT
DTSTART;TZID=America/Toronto:20260102T190000
DTEND;TZID=America/Toronto:20260102T210000
DTSTAMP:20260420T174715
CREATED:20250909T155520Z
LAST-MODIFIED:20250909T155520Z
UID:10003770-1767380400-1767387600@eccridgetown.ca
SUMMARY:NO Lion Heart Youth
DESCRIPTION:
URL:https://eccridgetown.ca/event/no-lion-heart-youth/2026-01-02/
END:VEVENT
END:VCALENDAR