BEGIN:VCALENDAR
VERSION:2.0
PRODID:-//Emmanuel Congregational Church - ECPv6.2.3//NONSGML v1.0//EN
CALSCALE:GREGORIAN
METHOD:PUBLISH
X-ORIGINAL-URL:https://eccridgetown.ca
X-WR-CALDESC:Events for Emmanuel Congregational Church
REFRESH-INTERVAL;VALUE=DURATION:PT1H
X-Robots-Tag:noindex
X-PUBLISHED-TTL:PT1H
BEGIN:VTIMEZONE
TZID:America/Toronto
BEGIN:DAYLIGHT
TZOFFSETFROM:-0500
TZOFFSETTO:-0400
TZNAME:EDT
DTSTART:20250309T070000
END:DAYLIGHT
BEGIN:STANDARD
TZOFFSETFROM:-0400
TZOFFSETTO:-0500
TZNAME:EST
DTSTART:20251102T060000
END:STANDARD
END:VTIMEZONE
BEGIN:VEVENT
DTSTART;TZID=America/Toronto:20251228T090000
DTEND;TZID=America/Toronto:20251228T103000
DTSTAMP:20260420T174617
CREATED:20240430T215324Z
LAST-MODIFIED:20260125T142754Z
UID:10001863-1766912400-1766917800@eccridgetown.ca
SUMMARY:ECC Worship Singers Practice
DESCRIPTION:Anyone ages 10 or older who would like to sing or play a musical instrument come and join us!
URL:https://eccridgetown.ca/event/ecc-worship-singers-practice/2025-12-28/
END:VEVENT
BEGIN:VEVENT
DTSTART;TZID=America/Toronto:20251228T094500
DTEND;TZID=America/Toronto:20251228T101500
DTSTAMP:20260420T174617
CREATED:20231006T233639Z
LAST-MODIFIED:20260125T143033Z
UID:10001551-1766915100-1766916900@eccridgetown.ca
SUMMARY:Pre-service Coffee
DESCRIPTION:Join us Sunday morning before Service at 9:45 – 10:15am
URL:https://eccridgetown.ca/event/pre-service-coffee-fellowship/2025-12-28/
END:VEVENT
BEGIN:VEVENT
DTSTART;TZID=America/Toronto:20251228T103000
DTEND;TZID=America/Toronto:20251228T114500
DTSTAMP:20260420T174617
CREATED:20251130T231708Z
LAST-MODIFIED:20251130T231708Z
UID:10003898-1766917800-1766922300@eccridgetown.ca
SUMMARY:NO Children's Ministry
DESCRIPTION:
URL:https://eccridgetown.ca/event/no-childrens-ministry-2/
END:VEVENT
BEGIN:VEVENT
DTSTART;TZID=America/Toronto:20251228T103000
DTEND;TZID=America/Toronto:20251228T120000
DTSTAMP:20260420T174617
CREATED:20251029T213214Z
LAST-MODIFIED:20260125T143221Z
UID:10002799-1766917800-1766923200@eccridgetown.ca
SUMMARY:Sunday Morning Worship
DESCRIPTION:Everyone welcome!
URL:https://eccridgetown.ca/event/sunday-morning-service-2-5-2/2025-12-28/
END:VEVENT
END:VCALENDAR